BEGIN:VCALENDAR
VERSION:2.0
PRODID:-//South Carolina UMC - ECPv6.15.20//NONSGML v1.0//EN
CALSCALE:GREGORIAN
METHOD:PUBLISH
X-ORIGINAL-URL:https://www.umcsc.org
X-WR-CALDESC:Events for South Carolina UMC
REFRESH-INTERVAL;VALUE=DURATION:PT1H
X-Robots-Tag:noindex
X-PUBLISHED-TTL:PT1H
BEGIN:VTIMEZONE
TZID:America/New_York
BEGIN:DAYLIGHT
TZOFFSETFROM:-0500
TZOFFSETTO:-0400
TZNAME:EDT
DTSTART:20210314T070000
END:DAYLIGHT
BEGIN:STANDARD
TZOFFSETFROM:-0400
TZOFFSETTO:-0500
TZNAME:EST
DTSTART:20211107T060000
END:STANDARD
BEGIN:DAYLIGHT
TZOFFSETFROM:-0500
TZOFFSETTO:-0400
TZNAME:EDT
DTSTART:20220313T070000
END:DAYLIGHT
BEGIN:STANDARD
TZOFFSETFROM:-0400
TZOFFSETTO:-0500
TZNAME:EST
DTSTART:20221106T060000
END:STANDARD
BEGIN:DAYLIGHT
TZOFFSETFROM:-0500
TZOFFSETTO:-0400
TZNAME:EDT
DTSTART:20230312T070000
END:DAYLIGHT
BEGIN:STANDARD
TZOFFSETFROM:-0400
TZOFFSETTO:-0500
TZNAME:EST
DTSTART:20231105T060000
END:STANDARD
END:VTIMEZONE
BEGIN:VEVENT
DTSTART;TZID=America/New_York:20220402T090000
DTEND;TZID=America/New_York:20220402T123000
DTSTAMP:20260425T190502
CREATED:20220220T045621Z
LAST-MODIFIED:20220220T045621Z
UID:10001433-1648890000-1648902600@www.umcsc.org
SUMMARY:LSM School (Greenville District)
DESCRIPTION:Greenville District Spring LSM School Schedule is Course Specific \nClick on the Following link for the complete information and registration material \nGreenville Spring 2022 LSM School
URL:https://www.umcsc.org/event/lsm-school-greenville-district-17/2022-04-02/
LOCATION:Zoom Meeting
CATEGORIES:Lay Servant Ministries
ORGANIZER;CN="Kenneth Moore":MAILTO:kmoore8311@outlook.com
END:VEVENT
BEGIN:VEVENT
DTSTART;TZID=America/New_York:20220402T083000
DTEND;TZID=America/New_York:20220402T110000
DTSTAMP:20260425T190502
CREATED:20260116T183659Z
LAST-MODIFIED:20260116T183659Z
UID:10001439-1648888200-1648897200@www.umcsc.org
SUMMARY:LSM School (Greenville District)
DESCRIPTION:Greenville District Spring LSM School Schedule is Course Specific \nClick on the Following link for the complete information and registration material \nGreenville Spring 2022 LSM School
URL:https://www.umcsc.org/event/lsm-school-greenville-district-18/2022-04-02/
LOCATION:Zoom Meeting
CATEGORIES:Lay Servant Ministries
ORGANIZER;CN="Kenneth Moore":MAILTO:kmoore8311@outlook.com
END:VEVENT
BEGIN:VEVENT
DTSTART;TZID=America/New_York:20220331T190000
DTEND;TZID=America/New_York:20220331T200000
DTSTAMP:20260425T190502
CREATED:20220220T050519Z
LAST-MODIFIED:20220220T050519Z
UID:10001436-1648753200-1648756800@www.umcsc.org
SUMMARY:LSM School (Greenville District)
DESCRIPTION:Greenville District Spring LSM School Schedule is Course Specific \nClick on the Following link for the complete information and registration material \nGreenville Spring 2022 LSM School
URL:https://www.umcsc.org/event/lsm-school-greenville-district-18/2022-03-31/
LOCATION:Zoom Meeting
CATEGORIES:Lay Servant Ministries
ORGANIZER;CN="Kenneth Moore":MAILTO:kmoore8311@outlook.com
END:VEVENT
BEGIN:VEVENT
DTSTART;TZID=America/New_York:20220328T093000
DTEND;TZID=America/New_York:20220328T133000
DTSTAMP:20260425T190502
CREATED:20220105T155540Z
LAST-MODIFIED:20220105T155540Z
UID:10001024-1648459800-1648474200@www.umcsc.org
SUMMARY:Marion District Committee on Ordained Ministry
DESCRIPTION:
URL:https://www.umcsc.org/event/marion-district-committee-on-ordained-ministry-11/
LOCATION:Zoom Meeting
CATEGORIES:Marion District
END:VEVENT
BEGIN:VEVENT
DTSTART;TZID=America/New_York:20220326T090000
DTEND;TZID=America/New_York:20220326T123000
DTSTAMP:20260425T190502
CREATED:20220220T045621Z
LAST-MODIFIED:20220220T045621Z
UID:10001432-1648285200-1648297800@www.umcsc.org
SUMMARY:LSM School (Greenville District)
DESCRIPTION:Greenville District Spring LSM School Schedule is Course Specific \nClick on the Following link for the complete information and registration material \nGreenville Spring 2022 LSM School
URL:https://www.umcsc.org/event/lsm-school-greenville-district-17/2022-03-26/
LOCATION:Zoom Meeting
CATEGORIES:Lay Servant Ministries
ORGANIZER;CN="Kenneth Moore":MAILTO:kmoore8311@outlook.com
END:VEVENT
BEGIN:VEVENT
DTSTART;TZID=America/New_York:20220326T083000
DTEND;TZID=America/New_York:20220326T110000
DTSTAMP:20260425T190502
CREATED:20260116T183659Z
LAST-MODIFIED:20260116T183659Z
UID:10001438-1648283400-1648292400@www.umcsc.org
SUMMARY:LSM School (Greenville District)
DESCRIPTION:Greenville District Spring LSM School Schedule is Course Specific \nClick on the Following link for the complete information and registration material \nGreenville Spring 2022 LSM School
URL:https://www.umcsc.org/event/lsm-school-greenville-district-18/2022-03-26/
LOCATION:Zoom Meeting
CATEGORIES:Lay Servant Ministries
ORGANIZER;CN="Kenneth Moore":MAILTO:kmoore8311@outlook.com
END:VEVENT
BEGIN:VEVENT
DTSTART;TZID=America/New_York:20220324T190000
DTEND;TZID=America/New_York:20220324T200000
DTSTAMP:20260425T190502
CREATED:20220220T050519Z
LAST-MODIFIED:20220220T050519Z
UID:10001435-1648148400-1648152000@www.umcsc.org
SUMMARY:LSM School (Greenville District)
DESCRIPTION:Greenville District Spring LSM School Schedule is Course Specific \nClick on the Following link for the complete information and registration material \nGreenville Spring 2022 LSM School
URL:https://www.umcsc.org/event/lsm-school-greenville-district-18/2022-03-24/
LOCATION:Zoom Meeting
CATEGORIES:Lay Servant Ministries
ORGANIZER;CN="Kenneth Moore":MAILTO:kmoore8311@outlook.com
END:VEVENT
BEGIN:VEVENT
DTSTART;TZID=America/New_York:20220324T090000
DTEND;TZID=America/New_York:20220324T123000
DTSTAMP:20260425T190502
CREATED:20220220T045621Z
LAST-MODIFIED:20220220T045621Z
UID:10001431-1648112400-1648125000@www.umcsc.org
SUMMARY:LSM School (Greenville District)
DESCRIPTION:Greenville District Spring LSM School Schedule is Course Specific \nClick on the Following link for the complete information and registration material \nGreenville Spring 2022 LSM School
URL:https://www.umcsc.org/event/lsm-school-greenville-district-17/2022-03-24/
LOCATION:Zoom Meeting
CATEGORIES:Lay Servant Ministries
ORGANIZER;CN="Kenneth Moore":MAILTO:kmoore8311@outlook.com
END:VEVENT
BEGIN:VEVENT
DTSTART;TZID=America/New_York:20220320T140000
DTEND;TZID=America/New_York:20220320T173000
DTSTAMP:20260425T190502
CREATED:20220120T220408Z
LAST-MODIFIED:20220120T220408Z
UID:10003101-1647784800-1647797400@www.umcsc.org
SUMMARY:LSM School (Spartanburg District)
DESCRIPTION:Spartanburg District Lay Servant School — March 6\, 13\, and 20 \n2:00 pm – 5:20 pm  on Zoom \nClick on the link to access the registration form and information. \nSPARTANBURG DISTRICT LAY SERVANT SCHOOL REGISTRATION FORM -Spring 2022
URL:https://www.umcsc.org/event/lsm-school-spartanburg-district-5/2022-03-20/
LOCATION:Zoom Meeting
CATEGORIES:Lay Servant Ministries
END:VEVENT
BEGIN:VEVENT
DTSTART;VALUE=DATE:20220320
DTEND;VALUE=DATE:20220321
DTSTAMP:20260425T190502
CREATED:20220120T215716Z
LAST-MODIFIED:20220120T215716Z
UID:10003164-1647734400-1647820799@www.umcsc.org
SUMMARY:LSM School (Walterboro District)
DESCRIPTION:Walterboro District Virtual Lay Servant School \nMarch 18 – 20\, 2022 \nClick on the link to access course list and link to registration. \nWalterboro District Lay School-March 2022-final
URL:https://www.umcsc.org/event/lsm-school-walterboro-district/2022-03-20/
LOCATION:Zoom Meeting
CATEGORIES:Lay Servant Ministries
ORGANIZER;CN="Jackie Williams":MAILTO:jfordwill@gmail.com
END:VEVENT
BEGIN:VEVENT
DTSTART;VALUE=DATE:20220319
DTEND;VALUE=DATE:20220320
DTSTAMP:20260425T190502
CREATED:20220120T215716Z
LAST-MODIFIED:20220120T215716Z
UID:10003163-1647648000-1647734399@www.umcsc.org
SUMMARY:LSM School (Walterboro District)
DESCRIPTION:Walterboro District Virtual Lay Servant School \nMarch 18 – 20\, 2022 \nClick on the link to access course list and link to registration. \nWalterboro District Lay School-March 2022-final
URL:https://www.umcsc.org/event/lsm-school-walterboro-district/2022-03-19/
LOCATION:Zoom Meeting
CATEGORIES:Lay Servant Ministries
ORGANIZER;CN="Jackie Williams":MAILTO:jfordwill@gmail.com
END:VEVENT
BEGIN:VEVENT
DTSTART;VALUE=DATE:20220318
DTEND;VALUE=DATE:20220319
DTSTAMP:20260425T190502
CREATED:20220120T215716Z
LAST-MODIFIED:20220120T215716Z
UID:10003162-1647561600-1647647999@www.umcsc.org
SUMMARY:LSM School (Walterboro District)
DESCRIPTION:Walterboro District Virtual Lay Servant School \nMarch 18 – 20\, 2022 \nClick on the link to access course list and link to registration. \nWalterboro District Lay School-March 2022-final
URL:https://www.umcsc.org/event/lsm-school-walterboro-district/2022-03-18/
LOCATION:Zoom Meeting
CATEGORIES:Lay Servant Ministries
ORGANIZER;CN="Jackie Williams":MAILTO:jfordwill@gmail.com
END:VEVENT
BEGIN:VEVENT
DTSTART;TZID=America/New_York:20220314T160000
DTEND;TZID=America/New_York:20220314T170000
DTSTAMP:20260425T190502
CREATED:20220105T155455Z
LAST-MODIFIED:20220105T155455Z
UID:10001022-1647273600-1647277200@www.umcsc.org
SUMMARY:Marion District Board of Trustees
DESCRIPTION:
URL:https://www.umcsc.org/event/marion-district-board-of-trustees-3/
LOCATION:Zoom Meeting
CATEGORIES:Marion District
END:VEVENT
BEGIN:VEVENT
DTSTART;TZID=America/New_York:20220314T100000
DTEND;TZID=America/New_York:20220314T113000
DTSTAMP:20260425T190502
CREATED:20220105T155407Z
LAST-MODIFIED:20220105T155407Z
UID:10001020-1647252000-1647257400@www.umcsc.org
SUMMARY:Marion District Board for Congregational Development
DESCRIPTION:
URL:https://www.umcsc.org/event/marion-district-board-for-congregational-development-6/
LOCATION:Zoom Meeting
CATEGORIES:Marion District
END:VEVENT
BEGIN:VEVENT
DTSTART;TZID=America/New_York:20220313T140000
DTEND;TZID=America/New_York:20220313T173000
DTSTAMP:20260425T190502
CREATED:20220120T220408Z
LAST-MODIFIED:20220120T220408Z
UID:10003100-1647180000-1647192600@www.umcsc.org
SUMMARY:LSM School (Spartanburg District)
DESCRIPTION:Spartanburg District Lay Servant School — March 6\, 13\, and 20 \n2:00 pm – 5:20 pm  on Zoom \nClick on the link to access the registration form and information. \nSPARTANBURG DISTRICT LAY SERVANT SCHOOL REGISTRATION FORM -Spring 2022
URL:https://www.umcsc.org/event/lsm-school-spartanburg-district-5/2022-03-13/
LOCATION:Zoom Meeting
CATEGORIES:Lay Servant Ministries
END:VEVENT
BEGIN:VEVENT
DTSTART;TZID=America/New_York:20220306T140000
DTEND;TZID=America/New_York:20220306T173000
DTSTAMP:20260425T190502
CREATED:20220120T220408Z
LAST-MODIFIED:20220120T220408Z
UID:10003099-1646575200-1646587800@www.umcsc.org
SUMMARY:LSM School (Spartanburg District)
DESCRIPTION:Spartanburg District Lay Servant School — March 6\, 13\, and 20 \n2:00 pm – 5:20 pm  on Zoom \nClick on the link to access the registration form and information. \nSPARTANBURG DISTRICT LAY SERVANT SCHOOL REGISTRATION FORM -Spring 2022
URL:https://www.umcsc.org/event/lsm-school-spartanburg-district-5/2022-03-06/
LOCATION:Zoom Meeting
CATEGORIES:Lay Servant Ministries
END:VEVENT
BEGIN:VEVENT
DTSTART;TZID=America/New_York:20220223T120000
DTEND;TZID=America/New_York:20220223T133000
DTSTAMP:20260425T190502
CREATED:20220124T144211Z
LAST-MODIFIED:20220124T144652Z
UID:10000842-1645617600-1645623000@www.umcsc.org
SUMMARY:Clergy Care Virtual Retreat: "What is All the Hype About Mindfulness?"
DESCRIPTION:What is All the Hype About Mindfulness?\nZoom Retreat\nLeader: Toni Taylor\, PCC\, Clergy Care Coach \nDate/Time: Feb. 23\, Noon- 1:30 p.m. \nLearn how mindfulness can rewire your brain\, increase your resilience\, and promote self-care. When you feel stress\, anxiety\, overwhelm or depression\, teach your mind how break the overwhelming negative thoughts; come out of the mind and into the body. This is the fastest way out of the negative to become present in the moment. Neuroscience tells us we can make changes needed for our minds to rewire and un-learn habits\, chose how we respond\, and let go of past hurts. More information: tonirtaylor@coachingpathway.com. \nClick here to register in advance for this virtual retreat. \nOnce you register\, you will receive a confirmation email containing information about joining the meeting.
URL:https://www.umcsc.org/event/clergy-care-virtual-retreat-what-is-all-the-hype-about-mindfulness/
LOCATION:Zoom Meeting
CATEGORIES:Clergy Care Retreats,Conference
END:VEVENT
BEGIN:VEVENT
DTSTART;TZID=America/New_York:20220220T140000
DTEND;TZID=America/New_York:20220220T170000
DTSTAMP:20260425T190502
CREATED:20220105T050139Z
LAST-MODIFIED:20220105T050139Z
UID:10003161-1645365600-1645376400@www.umcsc.org
SUMMARY:LSM School (Marion District)
DESCRIPTION:For complete list of courses and registration form\, please click on the link below.  All registration will be by mailing completed registration form with a check. \nMarion District February Lay Servant School 2022
URL:https://www.umcsc.org/event/lsm-school-marion-district-22/
LOCATION:Zoom Meeting
CATEGORIES:Lay Servant Ministries
ORGANIZER;CN="Ann Sowers":MAILTO:sowersann@gmail.com
END:VEVENT
BEGIN:VEVENT
DTSTART;VALUE=DATE:20220220
DTEND;VALUE=DATE:20220221
DTSTAMP:20260425T190502
CREATED:20210716T145840Z
LAST-MODIFIED:20210716T145840Z
UID:10003157-1645315200-1645401599@www.umcsc.org
SUMMARY:LSM School (Marion District)
DESCRIPTION:Marion District Lay Servant Schools for 2021 \nThis school is by Zoom and will be held February 12\, 13\, 19\, and 20\, 2022. \nClick on the link for more information and a link to registration.
URL:https://www.umcsc.org/event/lsm-school-marion-district-13/2022-02-20/
LOCATION:Zoom Meeting
CATEGORIES:Lay Servant Ministries
ORGANIZER;CN="Ann Sowers":MAILTO:sowersann@gmail.com
END:VEVENT
BEGIN:VEVENT
DTSTART;TZID=America/New_York:20220219T140000
DTEND;TZID=America/New_York:20220219T170000
DTSTAMP:20260425T190502
CREATED:20220105T045954Z
LAST-MODIFIED:20220105T045954Z
UID:10003160-1645279200-1645290000@www.umcsc.org
SUMMARY:LSM School (Marion District)
DESCRIPTION:For complete list of courses and registration form\, please click on the link below.  All registration will be by mailing completed registration form with a check. \nMarion District February Lay Servant School 2022
URL:https://www.umcsc.org/event/lsm-school-marion-district-21/
LOCATION:Zoom Meeting
CATEGORIES:Lay Servant Ministries
ORGANIZER;CN="Ann Sowers":MAILTO:sowersann@gmail.com
END:VEVENT
BEGIN:VEVENT
DTSTART;VALUE=DATE:20220219
DTEND;VALUE=DATE:20220220
DTSTAMP:20260425T190502
CREATED:20210716T145840Z
LAST-MODIFIED:20210716T145840Z
UID:10003156-1645228800-1645315199@www.umcsc.org
SUMMARY:LSM School (Marion District)
DESCRIPTION:Marion District Lay Servant Schools for 2021 \nThis school is by Zoom and will be held February 12\, 13\, 19\, and 20\, 2022. \nClick on the link for more information and a link to registration.
URL:https://www.umcsc.org/event/lsm-school-marion-district-13/2022-02-19/
LOCATION:Zoom Meeting
CATEGORIES:Lay Servant Ministries
ORGANIZER;CN="Ann Sowers":MAILTO:sowersann@gmail.com
END:VEVENT
BEGIN:VEVENT
DTSTART;TZID=America/New_York:20220213T140000
DTEND;TZID=America/New_York:20220213T170000
DTSTAMP:20260425T190502
CREATED:20220105T045815Z
LAST-MODIFIED:20220105T045815Z
UID:10003159-1644760800-1644771600@www.umcsc.org
SUMMARY:LSM School (Marion District)
DESCRIPTION:For complete list of courses and registration form\, please click on the link below.  All registration will be by mailing completed registration form with a check. \nMarion District February Lay Servant School 2022
URL:https://www.umcsc.org/event/lsm-school-marion-district-20/
LOCATION:Zoom Meeting
CATEGORIES:Lay Servant Ministries
ORGANIZER;CN="Ann Sowers":MAILTO:sowersann@gmail.com
END:VEVENT
BEGIN:VEVENT
DTSTART;VALUE=DATE:20220213
DTEND;VALUE=DATE:20220214
DTSTAMP:20260425T190502
CREATED:20210716T145625Z
LAST-MODIFIED:20210716T145625Z
UID:10003155-1644710400-1644796799@www.umcsc.org
SUMMARY:LSM School (Marion District)
DESCRIPTION:Marion District Lay Servant Schools for 2021 \nThis school is by Zoom and will be held February 12\, 13\, 19\, and 20\, 2022. \nClick on the link for more information and a link to registration.
URL:https://www.umcsc.org/event/lsm-school-marion-district-12/
LOCATION:Zoom Meeting
CATEGORIES:Lay Servant Ministries
ORGANIZER;CN="Ann Sowers":MAILTO:sowersann@gmail.com
END:VEVENT
BEGIN:VEVENT
DTSTART;TZID=America/New_York:20220212T140000
DTEND;TZID=America/New_York:20220212T170000
DTSTAMP:20260425T190502
CREATED:20220105T045551Z
LAST-MODIFIED:20220105T045551Z
UID:10003158-1644674400-1644685200@www.umcsc.org
SUMMARY:LSM School (Marion District)
DESCRIPTION:For complete list of courses and registration form\, please click on the link below.  All registration will be by mailing completed registration form with a check. \nMarion District February Lay Servant School 2022
URL:https://www.umcsc.org/event/lsm-school-marion-district-19/
LOCATION:Zoom Meeting
CATEGORIES:Lay Servant Ministries
ORGANIZER;CN="Ann Sowers":MAILTO:sowersann@gmail.com
END:VEVENT
BEGIN:VEVENT
DTSTART;VALUE=DATE:20220212
DTEND;VALUE=DATE:20220213
DTSTAMP:20260425T190502
CREATED:20210716T145349Z
LAST-MODIFIED:20210716T145349Z
UID:10003154-1644624000-1644710399@www.umcsc.org
SUMMARY:LSM School (Marion District)
DESCRIPTION:Marion District Lay Servant Schools for 2021 \nThis school is by Zoom and will be held February 12\, 13\, 19\, and 20\, 2022. \nClick on the link for more information and a link to registration.
URL:https://www.umcsc.org/event/lsm-school-marion-district-11/
LOCATION:Zoom Meeting
CATEGORIES:Lay Servant Ministries
ORGANIZER;CN="Ann Sowers":MAILTO:sowersann@gmail.com
END:VEVENT
BEGIN:VEVENT
DTSTART;TZID=America/New_York:20220210T130000
DTEND;TZID=America/New_York:20220210T160000
DTSTAMP:20260425T190502
CREATED:20220118T031000Z
LAST-MODIFIED:20220118T031111Z
UID:10000882-1644498000-1644508800@www.umcsc.org
SUMMARY:Clergy Care Virtual Retreat: "Introduction to the Enneagram: A Mirror into the Soul"
DESCRIPTION:Introduction to the Enneagram: A Mirror into the Soul\nZoom Retreat\nLeader: Marla Fuller\, minister of communication for St. Mark United Methodist Church in Seneca. She holds a master of arts in theology\, with a concentration in spirituality and spiritual direction from Fuller Theological Seminary \nDate/Time: Feb. 10\, 1-4 p.m. \nAn introduction to the Enneagram\, a powerful tool for self-discovery and transformation. During our time together\, you will learn about the Christian roots of the Enneagram. You will be invited to discover your Enneagram type (number) and the specific compulsions that hold you captive. You will receive some tools to assist you on your journey toward healing and wholeness. A list of resources will be provided for your continued learning and growth. \nClick here to register in advance for this virtual retreat. \nOnce you register\, you will receive a confirmation email containing information about joining the meeting.
URL:https://www.umcsc.org/event/clergy-care-virtual-retreat-introduction-to-the-enneagram-a-mirror-into-the-soul/
LOCATION:Zoom Meeting
CATEGORIES:Clergy Care Retreats
END:VEVENT
BEGIN:VEVENT
DTSTART;TZID=America/New_York:20220209T120000
DTEND;TZID=America/New_York:20220209T133000
DTSTAMP:20260425T190502
CREATED:20220124T162752Z
LAST-MODIFIED:20220124T162752Z
UID:10000719-1644408000-1644413400@www.umcsc.org
SUMMARY:Clergy Care Virtual Retreat: "Story Matters"
DESCRIPTION:Story Matters\nZoom Retreat\nLeader: Toni Taylor\, PCC\, Clergy Care Coach \nDate/Time: Feb. 9\, Noon- 1:30 p.m. \nWitness the power of story and how it promotes vulnerability\, empathy\, and compassion.  Join us to experience a proven\, research-based storytelling approach that will build relationships and promote empathy with adults and youth. More information: tonirtaylor@coachingpathway.com. \nClick here to register in advance for this virtual retreat. \nOnce you register\, you will receive a confirmation email containing information about joining the meeting.
URL:https://www.umcsc.org/event/clergy-care-virtual-retreat-story-matters/
LOCATION:Zoom Meeting
CATEGORIES:Clergy Care Retreats,Conference
END:VEVENT
BEGIN:VEVENT
DTSTART;TZID=America/New_York:20220131T100000
DTEND;TZID=America/New_York:20220131T113000
DTSTAMP:20260425T190502
CREATED:20220105T154801Z
LAST-MODIFIED:20220105T154801Z
UID:10003031-1643623200-1643628600@www.umcsc.org
SUMMARY:Marion District Board for Congregational Development
DESCRIPTION:
URL:https://www.umcsc.org/event/marion-district-board-for-congregational-development-5/
LOCATION:Zoom Meeting
CATEGORIES:Marion District
END:VEVENT
BEGIN:VEVENT
DTSTART;TZID=America/New_York:20220127T100000
DTEND;TZID=America/New_York:20220127T113000
DTSTAMP:20260425T190502
CREATED:20220117T220916Z
LAST-MODIFIED:20220118T031227Z
UID:10000880-1643277600-1643283000@www.umcsc.org
SUMMARY:Clergy Care Virtual Retreat: “The Whats and Whys of Spiritual Direction”
DESCRIPTION:The Whats and Whys of Spiritual Direction\nZoom Retreat\nLeader: Rev. Kathryn Hunter\, retired UMCSC elder and certified spiritual director \nDate/Time: Jan. 27\, 10-11:30 a.m. \nWhat is a Spiritual Director? Why would I need a Spiritual Director? Join us for a conversation about how spiritual direction works and how it may be important in for your spiritual life. We will explore models of spiritual direction\, including how Jesus functioned as a spiritual director. \nClick here to register in advance for this virtual retreat. \nOnce you register\, you will receive a confirmation email containing information about joining the meeting.
URL:https://www.umcsc.org/event/clergy-care-virtual-retreat-the-whats-and-whys-of-spiritual-direction-2/
LOCATION:Zoom Meeting
CATEGORIES:Clergy Care Retreats
END:VEVENT
BEGIN:VEVENT
DTSTART;TZID=America/New_York:20220124T093000
DTEND;TZID=America/New_York:20220124T133000
DTSTAMP:20260425T190502
CREATED:20220105T154705Z
LAST-MODIFIED:20220105T154705Z
UID:10003030-1643016600-1643031000@www.umcsc.org
SUMMARY:Marion District Committee on Ordained Ministry
DESCRIPTION:
URL:https://www.umcsc.org/event/marion-district-committee-on-ordained-ministry-9/
LOCATION:Zoom Meeting
CATEGORIES:Marion District
END:VEVENT
END:VCALENDAR