BEGIN:VCALENDAR
VERSION:2.0
PRODID:-//South Carolina UMC - ECPv6.15.20//NONSGML v1.0//EN
CALSCALE:GREGORIAN
METHOD:PUBLISH
X-ORIGINAL-URL:https://www.umcsc.org
X-WR-CALDESC:Events for South Carolina UMC
REFRESH-INTERVAL;VALUE=DURATION:PT1H
X-Robots-Tag:noindex
X-PUBLISHED-TTL:PT1H
BEGIN:VTIMEZONE
TZID:America/New_York
BEGIN:DAYLIGHT
TZOFFSETFROM:-0500
TZOFFSETTO:-0400
TZNAME:EDT
DTSTART:20210314T070000
END:DAYLIGHT
BEGIN:STANDARD
TZOFFSETFROM:-0400
TZOFFSETTO:-0500
TZNAME:EST
DTSTART:20211107T060000
END:STANDARD
BEGIN:DAYLIGHT
TZOFFSETFROM:-0500
TZOFFSETTO:-0400
TZNAME:EDT
DTSTART:20220313T070000
END:DAYLIGHT
BEGIN:STANDARD
TZOFFSETFROM:-0400
TZOFFSETTO:-0500
TZNAME:EST
DTSTART:20221106T060000
END:STANDARD
BEGIN:DAYLIGHT
TZOFFSETFROM:-0500
TZOFFSETTO:-0400
TZNAME:EDT
DTSTART:20230312T070000
END:DAYLIGHT
BEGIN:STANDARD
TZOFFSETFROM:-0400
TZOFFSETTO:-0500
TZNAME:EST
DTSTART:20231105T060000
END:STANDARD
BEGIN:DAYLIGHT
TZOFFSETFROM:-0500
TZOFFSETTO:-0400
TZNAME:EDT
DTSTART:20240310T070000
END:DAYLIGHT
BEGIN:STANDARD
TZOFFSETFROM:-0400
TZOFFSETTO:-0500
TZNAME:EST
DTSTART:20241103T060000
END:STANDARD
END:VTIMEZONE
BEGIN:VEVENT
DTSTART;TZID=America/New_York:20231202T100000
DTEND;TZID=America/New_York:20231202T100000
DTSTAMP:20260420T202036
CREATED:20220915T160336Z
LAST-MODIFIED:20220915T160336Z
UID:10002850-1701511200-1701511200@www.umcsc.org
SUMMARY:UWF Limitless Event
DESCRIPTION:
URL:https://www.umcsc.org/event/uwf-limitless-event-2/
LOCATION:Virtual Meeting
CATEGORIES:Conference
END:VEVENT
BEGIN:VEVENT
DTSTART;TZID=America/New_York:20230826T130000
DTEND;TZID=America/New_York:20230826T130000
DTSTAMP:20260420T202036
CREATED:20220915T151406Z
LAST-MODIFIED:20220915T151406Z
UID:10000843-1693054800-1693054800@www.umcsc.org
SUMMARY:UWF MN&O Committee
DESCRIPTION:
URL:https://www.umcsc.org/event/uwf-mno-committee/
LOCATION:Virtual Meeting
CATEGORIES:Conference
END:VEVENT
BEGIN:VEVENT
DTSTART;TZID=America/New_York:20230826T093000
DTEND;TZID=America/New_York:20230826T093000
DTSTAMP:20260420T202036
CREATED:20220915T151216Z
LAST-MODIFIED:20220915T151216Z
UID:10000841-1693042200-1693042200@www.umcsc.org
SUMMARY:UWF Finance Committee
DESCRIPTION:
URL:https://www.umcsc.org/event/uwf-finance-committee-2/
LOCATION:Virtual Meeting
CATEGORIES:Conference
END:VEVENT
BEGIN:VEVENT
DTSTART;TZID=America/New_York:20230819T130000
DTEND;TZID=America/New_York:20230819T130000
DTSTAMP:20260420T202036
CREATED:20220915T151029Z
LAST-MODIFIED:20220915T151029Z
UID:10002851-1692450000-1692450000@www.umcsc.org
SUMMARY:UWF Social Action Committee
DESCRIPTION:
URL:https://www.umcsc.org/event/uwf-social-action-committee-4/
LOCATION:Virtual Meeting
CATEGORIES:Conference
END:VEVENT
BEGIN:VEVENT
DTSTART;TZID=America/New_York:20230819T093000
DTEND;TZID=America/New_York:20230819T093000
DTSTAMP:20260420T202036
CREATED:20220915T150654Z
LAST-MODIFIED:20220915T150654Z
UID:10000887-1692437400-1692437400@www.umcsc.org
SUMMARY:UWF Administrative Committee
DESCRIPTION:
URL:https://www.umcsc.org/event/uwf-administrative-committee-2/
LOCATION:Virtual Meeting
CATEGORIES:Conference
END:VEVENT
BEGIN:VEVENT
DTSTART;TZID=America/New_York:20230812T130000
DTEND;TZID=America/New_York:20230812T130000
DTSTAMP:20260420T202036
CREATED:20220915T150223Z
LAST-MODIFIED:20220915T150451Z
UID:10002860-1691845200-1691845200@www.umcsc.org
SUMMARY:UWF Program Committee
DESCRIPTION:
URL:https://www.umcsc.org/event/uwf-program-cimmittee/
LOCATION:Virtual Meeting
CATEGORIES:Conference
END:VEVENT
BEGIN:VEVENT
DTSTART;TZID=America/New_York:20230812T093000
DTEND;TZID=America/New_York:20230812T093000
DTSTAMP:20260420T202036
CREATED:20220915T150018Z
LAST-MODIFIED:20220915T150018Z
UID:10002859-1691832600-1691832600@www.umcsc.org
SUMMARY:UWF Mission u Committee
DESCRIPTION:
URL:https://www.umcsc.org/event/uwf-mission-u-committee-2/
LOCATION:Virtual Meeting
CATEGORIES:Conference
END:VEVENT
BEGIN:VEVENT
DTSTART;TZID=America/New_York:20230701T100000
DTEND;TZID=America/New_York:20230701T100000
DTSTAMP:20260420T202036
CREATED:20220915T143342Z
LAST-MODIFIED:20220915T143342Z
UID:10002852-1688205600-1688205600@www.umcsc.org
SUMMARY:UWF Limitless Event
DESCRIPTION:
URL:https://www.umcsc.org/event/uwf-limitless-event/
LOCATION:Virtual Meeting
CATEGORIES:Conference
END:VEVENT
BEGIN:VEVENT
DTSTART;TZID=America/New_York:20230624T100000
DTEND;TZID=America/New_York:20230624T100000
DTSTAMP:20260420T202036
CREATED:20220915T142235Z
LAST-MODIFIED:20220915T142235Z
UID:10002911-1687600800-1687600800@www.umcsc.org
SUMMARY:UWF Charter for Racial & Environmental Justice Event
DESCRIPTION:
URL:https://www.umcsc.org/event/uwf-charter-for-racial-environmental-justice-event/
LOCATION:Virtual Meeting
CATEGORIES:Conference
END:VEVENT
BEGIN:VEVENT
DTSTART;TZID=America/New_York:20230506T100000
DTEND;TZID=America/New_York:20230506T100000
DTSTAMP:20260420T202036
CREATED:20220915T141219Z
LAST-MODIFIED:20220915T141219Z
UID:10002909-1683367200-1683367200@www.umcsc.org
SUMMARY:UWF Leadership Training Event
DESCRIPTION:
URL:https://www.umcsc.org/event/uwf-leadership-training-event/
LOCATION:Virtual Meeting
CATEGORIES:Conference
END:VEVENT
BEGIN:VEVENT
DTSTART;TZID=America/New_York:20230415T133000
DTEND;TZID=America/New_York:20230415T133000
DTSTAMP:20260420T202036
CREATED:20220915T140248Z
LAST-MODIFIED:20220915T140530Z
UID:10000909-1681565400-1681565400@www.umcsc.org
SUMMARY:UWF Charter for Racial Justice
DESCRIPTION:
URL:https://www.umcsc.org/event/uwf-charter-for-social-justice/
LOCATION:Virtual Meeting
CATEGORIES:Conference
END:VEVENT
BEGIN:VEVENT
DTSTART;TZID=America/New_York:20230415T093000
DTEND;TZID=America/New_York:20230415T093000
DTSTAMP:20260420T202036
CREATED:20220915T140001Z
LAST-MODIFIED:20220915T140001Z
UID:10000908-1681551000-1681551000@www.umcsc.org
SUMMARY:UWF Scholarship Committee
DESCRIPTION:
URL:https://www.umcsc.org/event/uwf-scholarship-committee/
LOCATION:Virtual Meeting
CATEGORIES:Conference
END:VEVENT
BEGIN:VEVENT
DTSTART;TZID=America/New_York:20230311T100000
DTEND;TZID=America/New_York:20230311T100000
DTSTAMP:20260420T202036
CREATED:20220915T132902Z
LAST-MODIFIED:20220915T132902Z
UID:10000903-1678528800-1678528800@www.umcsc.org
SUMMARY:UWF Committee on Nominations
DESCRIPTION:
URL:https://www.umcsc.org/event/uwf-committee-on-nominations-2/
LOCATION:Virtual Meeting
CATEGORIES:Conference
END:VEVENT
BEGIN:VEVENT
DTSTART;TZID=America/New_York:20230304T130000
DTEND;TZID=America/New_York:20230304T130000
DTSTAMP:20260420T202036
CREATED:20220915T132612Z
LAST-MODIFIED:20220915T132612Z
UID:10000901-1677934800-1677934800@www.umcsc.org
SUMMARY:UWF Finance Committee
DESCRIPTION:
URL:https://www.umcsc.org/event/uwf-finance-committee/
LOCATION:Virtual Meeting
CATEGORIES:Conference
END:VEVENT
BEGIN:VEVENT
DTSTART;TZID=America/New_York:20230304T093000
DTEND;TZID=America/New_York:20230304T093000
DTSTAMP:20260420T202036
CREATED:20220915T132430Z
LAST-MODIFIED:20220915T132430Z
UID:10000899-1677922200-1677922200@www.umcsc.org
SUMMARY:UWF Mission u Committee
DESCRIPTION:
URL:https://www.umcsc.org/event/uwf-mission-u-committee/
LOCATION:Virtual Meeting
CATEGORIES:Conference
END:VEVENT
BEGIN:VEVENT
DTSTART;TZID=America/New_York:20230225T100000
DTEND;TZID=America/New_York:20230225T100000
DTSTAMP:20260420T202036
CREATED:20220915T132225Z
LAST-MODIFIED:20220915T132225Z
UID:10000898-1677319200-1677319200@www.umcsc.org
SUMMARY:UWF Social Action Workshop #4
DESCRIPTION:
URL:https://www.umcsc.org/event/uwf-social-action-workshop-4/
LOCATION:Virtual Meeting
CATEGORIES:Conference
END:VEVENT
BEGIN:VEVENT
DTSTART;TZID=America/New_York:20230216T140000
DTEND;TZID=America/New_York:20230216T140000
DTSTAMP:20260420T202036
CREATED:20220915T131121Z
LAST-MODIFIED:20220915T161919Z
UID:10000896-1676556000-1676556000@www.umcsc.org
SUMMARY:UWF Social Action Workshop #3
DESCRIPTION:
URL:https://www.umcsc.org/event/uwf-social-action-committee-3/
LOCATION:Virtual Meeting
CATEGORIES:Conference
END:VEVENT
BEGIN:VEVENT
DTSTART;TZID=America/New_York:20230211T133000
DTEND;TZID=America/New_York:20230211T133000
DTSTAMP:20260420T202036
CREATED:20220915T130724Z
LAST-MODIFIED:20220915T130724Z
UID:10002907-1676122200-1676122200@www.umcsc.org
SUMMARY:UWF Legacy Committee
DESCRIPTION:
URL:https://www.umcsc.org/event/uwf-legacy-committee/
LOCATION:Virtual Meeting
CATEGORIES:Conference
END:VEVENT
BEGIN:VEVENT
DTSTART;TZID=America/New_York:20230211T093000
DTEND;TZID=America/New_York:20230211T093000
DTSTAMP:20260420T202036
CREATED:20220915T130552Z
LAST-MODIFIED:20220915T130552Z
UID:10002906-1676107800-1676107800@www.umcsc.org
SUMMARY:UWF Executive Committee
DESCRIPTION:
URL:https://www.umcsc.org/event/uwf-executive-committee/
LOCATION:Virtual Meeting
CATEGORIES:Conference
END:VEVENT
BEGIN:VEVENT
DTSTART;TZID=America/New_York:20230207T190000
DTEND;TZID=America/New_York:20230207T190000
DTSTAMP:20260420T202036
CREATED:20220915T130349Z
LAST-MODIFIED:20220915T161549Z
UID:10002905-1675796400-1675796400@www.umcsc.org
SUMMARY:UWF Social Action Workshop #2
DESCRIPTION:
URL:https://www.umcsc.org/event/uwf-social-action-committee-2/
LOCATION:Virtual Meeting
CATEGORIES:Conference
END:VEVENT
BEGIN:VEVENT
DTSTART;TZID=America/New_York:20230204T130000
DTEND;TZID=America/New_York:20230204T130000
DTSTAMP:20260420T202036
CREATED:20220915T130109Z
LAST-MODIFIED:20220915T130109Z
UID:10002904-1675515600-1675515600@www.umcsc.org
SUMMARY:UWF Communications
DESCRIPTION:
URL:https://www.umcsc.org/event/uwf-communications/
LOCATION:Virtual Meeting
CATEGORIES:Conference
END:VEVENT
BEGIN:VEVENT
DTSTART;TZID=America/New_York:20230204T093000
DTEND;TZID=America/New_York:20230204T093000
DTSTAMP:20260420T202036
CREATED:20220915T125918Z
LAST-MODIFIED:20220915T125918Z
UID:10002903-1675503000-1675503000@www.umcsc.org
SUMMARY:UWF Education & Interpretation
DESCRIPTION:
URL:https://www.umcsc.org/event/uwf-education-interpretation/
LOCATION:Virtual Meeting
CATEGORIES:Conference
END:VEVENT
BEGIN:VEVENT
DTSTART;TZID=America/New_York:20230201T100000
DTEND;TZID=America/New_York:20230201T100000
DTSTAMP:20260420T202036
CREATED:20220915T125711Z
LAST-MODIFIED:20220915T125711Z
UID:10002902-1675245600-1675245600@www.umcsc.org
SUMMARY:UWF  Social Action Workshop #1
DESCRIPTION:
URL:https://www.umcsc.org/event/uwf-social-action-workshop-1/
LOCATION:Virtual Meeting
CATEGORIES:Conference
END:VEVENT
BEGIN:VEVENT
DTSTART;TZID=America/New_York:20230128T130000
DTEND;TZID=America/New_York:20230128T130000
DTSTAMP:20260420T202036
CREATED:20220915T125445Z
LAST-MODIFIED:20221109T151803Z
UID:10002901-1674910800-1674910800@www.umcsc.org
SUMMARY:UWF Social Action Committee
DESCRIPTION:
URL:https://www.umcsc.org/event/uwf-social-action-committee/
LOCATION:Virtual Meeting
CATEGORIES:Conference
END:VEVENT
BEGIN:VEVENT
DTSTART;TZID=America/New_York:20230107T130000
DTEND;TZID=America/New_York:20230107T130000
DTSTAMP:20260420T202036
CREATED:20220914T202548Z
LAST-MODIFIED:20220914T202548Z
UID:10002881-1673096400-1673096400@www.umcsc.org
SUMMARY:UWF Limitless Team
DESCRIPTION:
URL:https://www.umcsc.org/event/uwf-limitless-team/
LOCATION:Virtual Meeting
CATEGORIES:Conference
END:VEVENT
BEGIN:VEVENT
DTSTART;TZID=America/New_York:20230107T130000
DTEND;TZID=America/New_York:20230107T130000
DTSTAMP:20260420T202036
CREATED:20220914T202356Z
LAST-MODIFIED:20220914T202356Z
UID:10002880-1673096400-1673096400@www.umcsc.org
SUMMARY:UWF Membership Nurture & Outreach
DESCRIPTION:
URL:https://www.umcsc.org/event/uwf-membership-nurture-outreach/
LOCATION:Virtual Meeting
CATEGORIES:Conference
END:VEVENT
BEGIN:VEVENT
DTSTART;TZID=America/New_York:20230107T093000
DTEND;TZID=America/New_York:20230107T093000
DTSTAMP:20260420T202036
CREATED:20220914T202156Z
LAST-MODIFIED:20220914T202156Z
UID:10002879-1673083800-1673083800@www.umcsc.org
SUMMARY:UWF Committee on Nominations
DESCRIPTION:
URL:https://www.umcsc.org/event/uwf-committee-on-nominations/
LOCATION:Virtual Meeting
CATEGORIES:Conference
END:VEVENT
BEGIN:VEVENT
DTSTART;TZID=America/New_York:20230107T093000
DTEND;TZID=America/New_York:20230107T093000
DTSTAMP:20260420T202036
CREATED:20220914T202003Z
LAST-MODIFIED:20220914T202003Z
UID:10002877-1673083800-1673083800@www.umcsc.org
SUMMARY:UWF President's Consultation
DESCRIPTION:
URL:https://www.umcsc.org/event/uwf-presidents-consultation/
LOCATION:Virtual Meeting
CATEGORIES:Conference
END:VEVENT
BEGIN:VEVENT
DTSTART;TZID=America/New_York:20221203T100000
DTEND;TZID=America/New_York:20221203T100000
DTSTAMP:20260420T202036
CREATED:20211012T133623Z
LAST-MODIFIED:20211012T133623Z
UID:10002819-1670061600-1670061600@www.umcsc.org
SUMMARY:UMW Limitless Event
DESCRIPTION:
URL:https://www.umcsc.org/event/umw-limitless-event-2/
LOCATION:Virtual Meeting
CATEGORIES:Conference
END:VEVENT
BEGIN:VEVENT
DTSTART;TZID=America/New_York:20220827T130000
DTEND;TZID=America/New_York:20220827T130000
DTSTAMP:20260420T202036
CREATED:20211012T131205Z
LAST-MODIFIED:20211012T131205Z
UID:10002835-1661605200-1661605200@www.umcsc.org
SUMMARY:UMW MN&O Committee
DESCRIPTION:
URL:https://www.umcsc.org/event/umw-mno-committee-3/
LOCATION:Virtual Meeting
CATEGORIES:Conference
END:VEVENT
END:VCALENDAR