BEGIN:VCALENDAR
VERSION:2.0
PRODID:-//South Carolina UMC - ECPv6.15.20//NONSGML v1.0//EN
CALSCALE:GREGORIAN
METHOD:PUBLISH
X-WR-CALNAME:South Carolina UMC
X-ORIGINAL-URL:https://www.umcsc.org
X-WR-CALDESC:Events for South Carolina UMC
REFRESH-INTERVAL;VALUE=DURATION:PT1H
X-Robots-Tag:noindex
X-PUBLISHED-TTL:PT1H
BEGIN:VTIMEZONE
TZID:America/New_York
BEGIN:DAYLIGHT
TZOFFSETFROM:-0500
TZOFFSETTO:-0400
TZNAME:EDT
DTSTART:20180311T070000
END:DAYLIGHT
BEGIN:STANDARD
TZOFFSETFROM:-0400
TZOFFSETTO:-0500
TZNAME:EST
DTSTART:20181104T060000
END:STANDARD
BEGIN:DAYLIGHT
TZOFFSETFROM:-0500
TZOFFSETTO:-0400
TZNAME:EDT
DTSTART:20190310T070000
END:DAYLIGHT
BEGIN:STANDARD
TZOFFSETFROM:-0400
TZOFFSETTO:-0500
TZNAME:EST
DTSTART:20191103T060000
END:STANDARD
BEGIN:DAYLIGHT
TZOFFSETFROM:-0500
TZOFFSETTO:-0400
TZNAME:EDT
DTSTART:20200308T070000
END:DAYLIGHT
BEGIN:STANDARD
TZOFFSETFROM:-0400
TZOFFSETTO:-0500
TZNAME:EST
DTSTART:20201101T060000
END:STANDARD
BEGIN:DAYLIGHT
TZOFFSETFROM:-0500
TZOFFSETTO:-0400
TZNAME:EDT
DTSTART:20210314T070000
END:DAYLIGHT
BEGIN:STANDARD
TZOFFSETFROM:-0400
TZOFFSETTO:-0500
TZNAME:EST
DTSTART:20211107T060000
END:STANDARD
BEGIN:DAYLIGHT
TZOFFSETFROM:-0500
TZOFFSETTO:-0400
TZNAME:EDT
DTSTART:20220313T070000
END:DAYLIGHT
BEGIN:STANDARD
TZOFFSETFROM:-0400
TZOFFSETTO:-0500
TZNAME:EST
DTSTART:20221106T060000
END:STANDARD
BEGIN:DAYLIGHT
TZOFFSETFROM:-0500
TZOFFSETTO:-0400
TZNAME:EDT
DTSTART:20230312T070000
END:DAYLIGHT
BEGIN:STANDARD
TZOFFSETFROM:-0400
TZOFFSETTO:-0500
TZNAME:EST
DTSTART:20231105T060000
END:STANDARD
BEGIN:DAYLIGHT
TZOFFSETFROM:-0500
TZOFFSETTO:-0400
TZNAME:EDT
DTSTART:20240310T070000
END:DAYLIGHT
BEGIN:STANDARD
TZOFFSETFROM:-0400
TZOFFSETTO:-0500
TZNAME:EST
DTSTART:20241103T060000
END:STANDARD
BEGIN:DAYLIGHT
TZOFFSETFROM:-0500
TZOFFSETTO:-0400
TZNAME:EDT
DTSTART:20250309T070000
END:DAYLIGHT
BEGIN:STANDARD
TZOFFSETFROM:-0400
TZOFFSETTO:-0500
TZNAME:EST
DTSTART:20251102T060000
END:STANDARD
END:VTIMEZONE
BEGIN:VEVENT
DTSTART;TZID=America/New_York:20241006T133000
DTEND;TZID=America/New_York:20241006T163000
DTSTAMP:20260421T145202
CREATED:20240801T032325Z
LAST-MODIFIED:20240801T032325Z
UID:10003248-1728221400-1728232200@www.umcsc.org
SUMMARY:LSM School (Rock Hill District) In Person Classes
DESCRIPTION:The Rock Hill District is offering two different in person schools with various venues\, courses\, and times. \nClick on the links below for more information and a registration link \nRock Hill Fall LSM Classes 2024 \nRock Hill District Online Registration \n \n 
URL:https://www.umcsc.org/event/lsm-school-rock-hill-district-in-person-classes-2/2024-10-06/
LOCATION:Trinity United Methodist Church\, 22 E. Liberty St.\, York\, SC\, 29745\, United States
CATEGORIES:Lay Servant Ministries
ORGANIZER;CN="Lynne Tyner":MAILTO:kassgrandma16@gmail.com
GEO:33.9203943;-80.346895
X-APPLE-STRUCTURED-LOCATION;VALUE=URI;X-ADDRESS=Trinity United Methodist Church 22 E. Liberty St. York SC 29745 United States;X-APPLE-RADIUS=500;X-TITLE=22 E. Liberty St.:geo:-80.346895,33.9203943
END:VEVENT
BEGIN:VEVENT
DTSTART;TZID=America/New_York:20241005T133000
DTEND;TZID=America/New_York:20241005T163000
DTSTAMP:20260421T145202
CREATED:20240801T032325Z
LAST-MODIFIED:20240801T032325Z
UID:10003247-1728135000-1728145800@www.umcsc.org
SUMMARY:LSM School (Rock Hill District) In Person Classes
DESCRIPTION:The Rock Hill District is offering two different in person schools with various venues\, courses\, and times. \nClick on the links below for more information and a registration link \nRock Hill Fall LSM Classes 2024 \nRock Hill District Online Registration \n \n 
URL:https://www.umcsc.org/event/lsm-school-rock-hill-district-in-person-classes-2/2024-10-05/
LOCATION:Trinity United Methodist Church\, 22 E. Liberty St.\, York\, SC\, 29745\, United States
CATEGORIES:Lay Servant Ministries
ORGANIZER;CN="Lynne Tyner":MAILTO:kassgrandma16@gmail.com
GEO:33.9203943;-80.346895
X-APPLE-STRUCTURED-LOCATION;VALUE=URI;X-ADDRESS=Trinity United Methodist Church 22 E. Liberty St. York SC 29745 United States;X-APPLE-RADIUS=500;X-TITLE=22 E. Liberty St.:geo:-80.346895,33.9203943
END:VEVENT
BEGIN:VEVENT
DTSTART;TZID=America/New_York:20231118T090000
DTEND;TZID=America/New_York:20231118T163000
DTSTAMP:20260421T145202
CREATED:20231016T195734Z
LAST-MODIFIED:20231016T195929Z
UID:10003094-1700298000-1700325000@www.umcsc.org
SUMMARY:LSM School (Columbia District)
DESCRIPTION:Columbia District Lay Servant Ministry School \nTrinity UMC\, Blythewood \nNovember 17\, 2023 5 pm – 9 pm\, Saturday\, November 18\, 9 am – 4:30 pm \nRegistration Deadline is November 10\, 2023. \nPlease click on the link below for the full brochure. \nA registration link will be provided soon. \nCOLUMBIA LSM SCHOOL LSM FALL 2023 V3 \n 
URL:https://www.umcsc.org/event/lsm-school-columbia-district-7/2023-11-18/
LOCATION:Trinity United Methodist Church\, 22 E. Liberty St.\, York\, SC\, 29745\, United States
CATEGORIES:Lay Servant Ministries
ORGANIZER;CN="Chuck Sovick":MAILTO:chucksovick239@gmail.com
GEO:33.9203943;-80.346895
X-APPLE-STRUCTURED-LOCATION;VALUE=URI;X-ADDRESS=Trinity United Methodist Church 22 E. Liberty St. York SC 29745 United States;X-APPLE-RADIUS=500;X-TITLE=22 E. Liberty St.:geo:-80.346895,33.9203943
END:VEVENT
BEGIN:VEVENT
DTSTART;TZID=America/New_York:20231117T090000
DTEND;TZID=America/New_York:20231117T163000
DTSTAMP:20260421T145202
CREATED:20231016T195734Z
LAST-MODIFIED:20231016T195929Z
UID:10003093-1700211600-1700238600@www.umcsc.org
SUMMARY:LSM School (Columbia District)
DESCRIPTION:Columbia District Lay Servant Ministry School \nTrinity UMC\, Blythewood \nNovember 17\, 2023 5 pm – 9 pm\, Saturday\, November 18\, 9 am – 4:30 pm \nRegistration Deadline is November 10\, 2023. \nPlease click on the link below for the full brochure. \nA registration link will be provided soon. \nCOLUMBIA LSM SCHOOL LSM FALL 2023 V3 \n 
URL:https://www.umcsc.org/event/lsm-school-columbia-district-7/2023-11-17/
LOCATION:Trinity United Methodist Church\, 22 E. Liberty St.\, York\, SC\, 29745\, United States
CATEGORIES:Lay Servant Ministries
ORGANIZER;CN="Chuck Sovick":MAILTO:chucksovick239@gmail.com
GEO:33.9203943;-80.346895
X-APPLE-STRUCTURED-LOCATION;VALUE=URI;X-ADDRESS=Trinity United Methodist Church 22 E. Liberty St. York SC 29745 United States;X-APPLE-RADIUS=500;X-TITLE=22 E. Liberty St.:geo:-80.346895,33.9203943
END:VEVENT
BEGIN:VEVENT
DTSTART;TZID=America/New_York:20190828T100000
DTEND;TZID=America/New_York:20190828T120000
DTSTAMP:20260421T145202
CREATED:20190826T155152Z
LAST-MODIFIED:20190826T155152Z
UID:10003082-1566986400-1566993600@www.umcsc.org
SUMMARY:Hartsville District Connectional MInistries Committee Training
DESCRIPTION:
URL:https://www.umcsc.org/event/hartsville-district-connectional-ministries-committee-training/
LOCATION:Trinity United Methodist Church\, 22 E. Liberty St.\, York\, SC\, 29745\, United States
CATEGORIES:Hartsville District
ORGANIZER;CN="Robin Dease":MAILTO:rdease3@umcsc.org
GEO:33.9203943;-80.346895
X-APPLE-STRUCTURED-LOCATION;VALUE=URI;X-ADDRESS=Trinity United Methodist Church 22 E. Liberty St. York SC 29745 United States;X-APPLE-RADIUS=500;X-TITLE=22 E. Liberty St.:geo:-80.346895,33.9203943
END:VEVENT
END:VCALENDAR