BEGIN:VCALENDAR
VERSION:2.0
PRODID:-//South Carolina UMC - ECPv6.15.20//NONSGML v1.0//EN
CALSCALE:GREGORIAN
METHOD:PUBLISH
X-WR-CALNAME:South Carolina UMC
X-ORIGINAL-URL:https://www.umcsc.org
X-WR-CALDESC:Events for South Carolina UMC
REFRESH-INTERVAL;VALUE=DURATION:PT1H
X-Robots-Tag:noindex
X-PUBLISHED-TTL:PT1H
BEGIN:VTIMEZONE
TZID:America/New_York
BEGIN:DAYLIGHT
TZOFFSETFROM:-0500
TZOFFSETTO:-0400
TZNAME:EDT
DTSTART:20230312T070000
END:DAYLIGHT
BEGIN:STANDARD
TZOFFSETFROM:-0400
TZOFFSETTO:-0500
TZNAME:EST
DTSTART:20231105T060000
END:STANDARD
BEGIN:DAYLIGHT
TZOFFSETFROM:-0500
TZOFFSETTO:-0400
TZNAME:EDT
DTSTART:20240310T070000
END:DAYLIGHT
BEGIN:STANDARD
TZOFFSETFROM:-0400
TZOFFSETTO:-0500
TZNAME:EST
DTSTART:20241103T060000
END:STANDARD
BEGIN:DAYLIGHT
TZOFFSETFROM:-0500
TZOFFSETTO:-0400
TZNAME:EDT
DTSTART:20250309T070000
END:DAYLIGHT
BEGIN:STANDARD
TZOFFSETFROM:-0400
TZOFFSETTO:-0500
TZNAME:EST
DTSTART:20251102T060000
END:STANDARD
END:VTIMEZONE
BEGIN:VEVENT
DTSTART;TZID=America/New_York:20240317T150000
DTEND;TZID=America/New_York:20240317T190000
DTSTAMP:20260421T191358
CREATED:20240202T165941Z
LAST-MODIFIED:20240202T165941Z
UID:10003230-1710687600-1710702000@www.umcsc.org
SUMMARY:LSM School (Orangeburg District)
DESCRIPTION:March 16\, 8:30 AM – 5:00 PM and March 17\, 3:00 PM – 7:00 PM \nTrinity United Methodist Church \n11761 Heritage Highway \nBamberg\, SC 29003 \nPlease click on the link below for more information and online registration \nRegistration Deadline is February 17\, 2024 \nOrangeburg District Lay Servant Ministries Registration
URL:https://www.umcsc.org/event/lsm-school-orangeburg-district-7/2024-03-17/
LOCATION:Trinity UMC Bamberg\, 11761 Heritage Highway\, Bamberg\, SC\, 29003\, United States
CATEGORIES:Lay Servant Ministries
END:VEVENT
BEGIN:VEVENT
DTSTART;TZID=America/New_York:20240316T150000
DTEND;TZID=America/New_York:20240316T190000
DTSTAMP:20260421T191358
CREATED:20240202T165941Z
LAST-MODIFIED:20240202T165941Z
UID:10003229-1710601200-1710615600@www.umcsc.org
SUMMARY:LSM School (Orangeburg District)
DESCRIPTION:March 16\, 8:30 AM – 5:00 PM and March 17\, 3:00 PM – 7:00 PM \nTrinity United Methodist Church \n11761 Heritage Highway \nBamberg\, SC 29003 \nPlease click on the link below for more information and online registration \nRegistration Deadline is February 17\, 2024 \nOrangeburg District Lay Servant Ministries Registration
URL:https://www.umcsc.org/event/lsm-school-orangeburg-district-7/2024-03-16/
LOCATION:Trinity UMC Bamberg\, 11761 Heritage Highway\, Bamberg\, SC\, 29003\, United States
CATEGORIES:Lay Servant Ministries
END:VEVENT
END:VCALENDAR