BEGIN:VCALENDAR
VERSION:2.0
PRODID:-//South Carolina UMC - ECPv6.15.20//NONSGML v1.0//EN
CALSCALE:GREGORIAN
METHOD:PUBLISH
X-ORIGINAL-URL:https://www.umcsc.org
X-WR-CALDESC:Events for South Carolina UMC
REFRESH-INTERVAL;VALUE=DURATION:PT1H
X-Robots-Tag:noindex
X-PUBLISHED-TTL:PT1H
BEGIN:VTIMEZONE
TZID:America/New_York
BEGIN:DAYLIGHT
TZOFFSETFROM:-0500
TZOFFSETTO:-0400
TZNAME:EDT
DTSTART:20180311T070000
END:DAYLIGHT
BEGIN:STANDARD
TZOFFSETFROM:-0400
TZOFFSETTO:-0500
TZNAME:EST
DTSTART:20181104T060000
END:STANDARD
BEGIN:DAYLIGHT
TZOFFSETFROM:-0500
TZOFFSETTO:-0400
TZNAME:EDT
DTSTART:20190310T070000
END:DAYLIGHT
BEGIN:STANDARD
TZOFFSETFROM:-0400
TZOFFSETTO:-0500
TZNAME:EST
DTSTART:20191103T060000
END:STANDARD
BEGIN:DAYLIGHT
TZOFFSETFROM:-0500
TZOFFSETTO:-0400
TZNAME:EDT
DTSTART:20200308T070000
END:DAYLIGHT
BEGIN:STANDARD
TZOFFSETFROM:-0400
TZOFFSETTO:-0500
TZNAME:EST
DTSTART:20201101T060000
END:STANDARD
BEGIN:DAYLIGHT
TZOFFSETFROM:-0500
TZOFFSETTO:-0400
TZNAME:EDT
DTSTART:20210314T070000
END:DAYLIGHT
BEGIN:STANDARD
TZOFFSETFROM:-0400
TZOFFSETTO:-0500
TZNAME:EST
DTSTART:20211107T060000
END:STANDARD
BEGIN:DAYLIGHT
TZOFFSETFROM:-0500
TZOFFSETTO:-0400
TZNAME:EDT
DTSTART:20220313T070000
END:DAYLIGHT
BEGIN:STANDARD
TZOFFSETFROM:-0400
TZOFFSETTO:-0500
TZNAME:EST
DTSTART:20221106T060000
END:STANDARD
BEGIN:DAYLIGHT
TZOFFSETFROM:-0500
TZOFFSETTO:-0400
TZNAME:EDT
DTSTART:20230312T070000
END:DAYLIGHT
BEGIN:STANDARD
TZOFFSETFROM:-0400
TZOFFSETTO:-0500
TZNAME:EST
DTSTART:20231105T060000
END:STANDARD
BEGIN:DAYLIGHT
TZOFFSETFROM:-0500
TZOFFSETTO:-0400
TZNAME:EDT
DTSTART:20240310T070000
END:DAYLIGHT
BEGIN:STANDARD
TZOFFSETFROM:-0400
TZOFFSETTO:-0500
TZNAME:EST
DTSTART:20241103T060000
END:STANDARD
BEGIN:DAYLIGHT
TZOFFSETFROM:-0500
TZOFFSETTO:-0400
TZNAME:EDT
DTSTART:20250309T070000
END:DAYLIGHT
BEGIN:STANDARD
TZOFFSETFROM:-0400
TZOFFSETTO:-0500
TZNAME:EST
DTSTART:20251102T060000
END:STANDARD
BEGIN:DAYLIGHT
TZOFFSETFROM:-0500
TZOFFSETTO:-0400
TZNAME:EDT
DTSTART:20260308T070000
END:DAYLIGHT
BEGIN:STANDARD
TZOFFSETFROM:-0400
TZOFFSETTO:-0500
TZNAME:EST
DTSTART:20261101T060000
END:STANDARD
END:VTIMEZONE
BEGIN:VEVENT
DTSTART;TZID=America/New_York:20250124T170000
DTEND;TZID=America/New_York:20250126T120000
DTSTAMP:20260420T103648
CREATED:20241125T134551Z
LAST-MODIFIED:20241125T135615Z
UID:10000034-1737738000-1737892800@www.umcsc.org
SUMMARY:Revolution 2025 is scheduled for January 24-26\, 2025
DESCRIPTION:
URL:https://www.umcsc.org/event/revolution-2025/
LOCATION:Township Auditorium\, 1703 Taylor St.\, Columbia\, SC\, 29201\, United States
GEO:34.0096346;-81.0276426
X-APPLE-STRUCTURED-LOCATION;VALUE=URI;X-ADDRESS=Township Auditorium 1703 Taylor St. Columbia SC 29201 United States;X-APPLE-RADIUS=500;X-TITLE=1703 Taylor St.:geo:-81.0276426,34.0096346
END:VEVENT
BEGIN:VEVENT
DTSTART;TZID=America/New_York:20240126T150000
DTEND;TZID=America/New_York:20240128T130000
DTSTAMP:20260420T103648
CREATED:20230831T174320Z
LAST-MODIFIED:20230831T174320Z
UID:10000040-1706281200-1706446800@www.umcsc.org
SUMMARY:Revolution 2024
DESCRIPTION:
URL:https://www.umcsc.org/event/revolution-2024/
LOCATION:Township Auditorium\, 1703 Taylor St.\, Columbia\, SC\, 29201\, United States
GEO:34.0096346;-81.0276426
X-APPLE-STRUCTURED-LOCATION;VALUE=URI;X-ADDRESS=Township Auditorium 1703 Taylor St. Columbia SC 29201 United States;X-APPLE-RADIUS=500;X-TITLE=1703 Taylor St.:geo:-81.0276426,34.0096346
END:VEVENT
BEGIN:VEVENT
DTSTART;VALUE=DATE:20220129
DTEND;VALUE=DATE:20220130
DTSTAMP:20260420T103648
CREATED:20210809T203157Z
LAST-MODIFIED:20220103T161931Z
UID:10000720-1643414400-1643500799@www.umcsc.org
SUMMARY:Revolution 2022
DESCRIPTION:
URL:https://www.umcsc.org/event/revolution-2020/
LOCATION:Township Auditorium\, 1703 Taylor St.\, Columbia\, SC\, 29201\, United States
GEO:34.0096346;-81.0276426
X-APPLE-STRUCTURED-LOCATION;VALUE=URI;X-ADDRESS=Township Auditorium 1703 Taylor St. Columbia SC 29201 United States;X-APPLE-RADIUS=500;X-TITLE=1703 Taylor St.:geo:-81.0276426,34.0096346
END:VEVENT
BEGIN:VEVENT
DTSTART;VALUE=DATE:20200124
DTEND;VALUE=DATE:20200127
DTSTAMP:20260420T103648
CREATED:20190919T135749Z
LAST-MODIFIED:20190919T135749Z
UID:10000761-1579824000-1580083199@www.umcsc.org
SUMMARY:SCMYP Revolution
DESCRIPTION:
URL:https://www.umcsc.org/event/scmyp-revolution/
LOCATION:Township Auditorium\, 1703 Taylor St.\, Columbia\, SC\, 29201\, United States
CATEGORIES:Conference,Florence District,Hartsville District,Orangeburg District,Spartanburg District
ORGANIZER;CN="Doris Seals":MAILTO:dseals@umcsc.org
GEO:34.0096346;-81.0276426
X-APPLE-STRUCTURED-LOCATION;VALUE=URI;X-ADDRESS=Township Auditorium 1703 Taylor St. Columbia SC 29201 United States;X-APPLE-RADIUS=500;X-TITLE=1703 Taylor St.:geo:-81.0276426,34.0096346
END:VEVENT
BEGIN:VEVENT
DTSTART;VALUE=DATE:20190125
DTEND;VALUE=DATE:20190128
DTSTAMP:20260420T103648
CREATED:20181112T150420Z
LAST-MODIFIED:20181112T150420Z
UID:10000667-1548374400-1548633599@www.umcsc.org
SUMMARY:Revolution 2019
DESCRIPTION:Revolution 2019 will be an EPIC celebration of 10 years of ministry with youth in South Carolina and beyond.
URL:https://www.umcsc.org/event/revolution-2019/
LOCATION:Township Auditorium\, 1703 Taylor St.\, Columbia\, SC\, 29201\, United States
CATEGORIES:Conference
GEO:34.0096346;-81.0276426
X-APPLE-STRUCTURED-LOCATION;VALUE=URI;X-ADDRESS=Township Auditorium 1703 Taylor St. Columbia SC 29201 United States;X-APPLE-RADIUS=500;X-TITLE=1703 Taylor St.:geo:-81.0276426,34.0096346
END:VEVENT
END:VCALENDAR