BEGIN:VCALENDAR
VERSION:2.0
PRODID:-//South Carolina UMC - ECPv6.15.20//NONSGML v1.0//EN
CALSCALE:GREGORIAN
METHOD:PUBLISH
X-ORIGINAL-URL:https://www.umcsc.org
X-WR-CALDESC:Events for South Carolina UMC
REFRESH-INTERVAL;VALUE=DURATION:PT1H
X-Robots-Tag:noindex
X-PUBLISHED-TTL:PT1H
BEGIN:VTIMEZONE
TZID:America/New_York
BEGIN:DAYLIGHT
TZOFFSETFROM:-0500
TZOFFSETTO:-0400
TZNAME:EDT
DTSTART:20190310T070000
END:DAYLIGHT
BEGIN:STANDARD
TZOFFSETFROM:-0400
TZOFFSETTO:-0500
TZNAME:EST
DTSTART:20191103T060000
END:STANDARD
BEGIN:DAYLIGHT
TZOFFSETFROM:-0500
TZOFFSETTO:-0400
TZNAME:EDT
DTSTART:20200308T070000
END:DAYLIGHT
BEGIN:STANDARD
TZOFFSETFROM:-0400
TZOFFSETTO:-0500
TZNAME:EST
DTSTART:20201101T060000
END:STANDARD
BEGIN:DAYLIGHT
TZOFFSETFROM:-0500
TZOFFSETTO:-0400
TZNAME:EDT
DTSTART:20210314T070000
END:DAYLIGHT
BEGIN:STANDARD
TZOFFSETFROM:-0400
TZOFFSETTO:-0500
TZNAME:EST
DTSTART:20211107T060000
END:STANDARD
BEGIN:DAYLIGHT
TZOFFSETFROM:-0500
TZOFFSETTO:-0400
TZNAME:EDT
DTSTART:20220313T070000
END:DAYLIGHT
BEGIN:STANDARD
TZOFFSETFROM:-0400
TZOFFSETTO:-0500
TZNAME:EST
DTSTART:20221106T060000
END:STANDARD
BEGIN:DAYLIGHT
TZOFFSETFROM:-0500
TZOFFSETTO:-0400
TZNAME:EDT
DTSTART:20230312T070000
END:DAYLIGHT
BEGIN:STANDARD
TZOFFSETFROM:-0400
TZOFFSETTO:-0500
TZNAME:EST
DTSTART:20231105T060000
END:STANDARD
BEGIN:DAYLIGHT
TZOFFSETFROM:-0500
TZOFFSETTO:-0400
TZNAME:EDT
DTSTART:20240310T070000
END:DAYLIGHT
BEGIN:STANDARD
TZOFFSETFROM:-0400
TZOFFSETTO:-0500
TZNAME:EST
DTSTART:20241103T060000
END:STANDARD
BEGIN:DAYLIGHT
TZOFFSETFROM:-0500
TZOFFSETTO:-0400
TZNAME:EDT
DTSTART:20250309T070000
END:DAYLIGHT
BEGIN:STANDARD
TZOFFSETFROM:-0400
TZOFFSETTO:-0500
TZNAME:EST
DTSTART:20251102T060000
END:STANDARD
BEGIN:DAYLIGHT
TZOFFSETFROM:-0500
TZOFFSETTO:-0400
TZNAME:EDT
DTSTART:20260308T070000
END:DAYLIGHT
BEGIN:STANDARD
TZOFFSETFROM:-0400
TZOFFSETTO:-0500
TZNAME:EST
DTSTART:20261101T060000
END:STANDARD
END:VTIMEZONE
BEGIN:VEVENT
DTSTART;TZID=America/New_York:20250913T100000
DTEND;TZID=America/New_York:20250913T140000
DTSTAMP:20260419T233244
CREATED:20241125T135126Z
LAST-MODIFIED:20241125T135126Z
UID:10000744-1757757600-1757772000@www.umcsc.org
SUMMARY:Conference Connectional Ministries Meeting location TBD
DESCRIPTION:
URL:https://www.umcsc.org/event/conference-connectional-ministries-meeting-location-tbd-2/
LOCATION:TBD
END:VEVENT
BEGIN:VEVENT
DTSTART;TZID=America/New_York:20250219T100000
DTEND;TZID=America/New_York:20250219T120000
DTSTAMP:20260419T233244
CREATED:20241022T173215Z
LAST-MODIFIED:20241022T173215Z
UID:10002740-1739959200-1739966400@www.umcsc.org
SUMMARY:Rock Hill District Clergy Meeting
DESCRIPTION:
URL:https://www.umcsc.org/event/rock-hill-district-clergy-meeting-5/
LOCATION:TBD
CATEGORIES:Rock Hill District
ORGANIZER;CN="Rock Hill District Office":MAILTO:rhdist@umcsc.org
END:VEVENT
BEGIN:VEVENT
DTSTART;TZID=America/New_York:20230915T100000
DTEND;TZID=America/New_York:20230915T100000
DTSTAMP:20260419T233244
CREATED:20220525T163549Z
LAST-MODIFIED:20220525T163549Z
UID:10002899-1694772000-1694772000@www.umcsc.org
SUMMARY:Annual Conference Trustees Meeting
DESCRIPTION:
URL:https://www.umcsc.org/event/annual-conference-trustees-meeting-3/
LOCATION:TBD
CATEGORIES:Conference
ORGANIZER;CN="Beth Westbury":MAILTO:bwestbury@umcsc.org
END:VEVENT
BEGIN:VEVENT
DTSTART;TZID=America/New_York:20230815T100000
DTEND;TZID=America/New_York:20230815T100000
DTSTAMP:20260419T233244
CREATED:20220825T160819Z
LAST-MODIFIED:20220825T160819Z
UID:10000858-1692093600-1692093600@www.umcsc.org
SUMMARY:Council on Finance & Administration Full Council
DESCRIPTION:
URL:https://www.umcsc.org/event/council-on-finance-administration-full-council-3/
LOCATION:TBD
CATEGORIES:Conference
ORGANIZER;CN="Beth Westbury":MAILTO:bwestbury@umcsc.org
END:VEVENT
BEGIN:VEVENT
DTSTART;TZID=America/New_York:20230617T100000
DTEND;TZID=America/New_York:20230617T100000
DTSTAMP:20260419T233244
CREATED:20220525T161424Z
LAST-MODIFIED:20220525T161424Z
UID:10002887-1686996000-1686996000@www.umcsc.org
SUMMARY:Commission on Equitable Compensation
DESCRIPTION:
URL:https://www.umcsc.org/event/commission-on-equitable-compensation-3/
LOCATION:TBD
CATEGORIES:Conference
ORGANIZER;CN="Beth Westbury":MAILTO:bwestbury@umcsc.org
END:VEVENT
BEGIN:VEVENT
DTSTART;TZID=America/New_York:20230314T100000
DTEND;TZID=America/New_York:20230314T100000
DTSTAMP:20260419T233244
CREATED:20220825T154551Z
LAST-MODIFIED:20220825T154551Z
UID:10002900-1678788000-1678788000@www.umcsc.org
SUMMARY:Council on Finance & Administration\, Full Council
DESCRIPTION:2024 Budget approval
URL:https://www.umcsc.org/event/council-on-finance-administration-full-council-2/
LOCATION:TBD
CATEGORIES:Conference
ORGANIZER;CN="Beth Westbury":MAILTO:bwestbury@umcsc.org
END:VEVENT
BEGIN:VEVENT
DTSTART;TZID=America/New_York:20230307T100000
DTEND;TZID=America/New_York:20230307T100000
DTSTAMP:20260419T233244
CREATED:20220825T153740Z
LAST-MODIFIED:20220825T153740Z
UID:10000778-1678183200-1678183200@www.umcsc.org
SUMMARY:Council on Finance & Administration\, Budget Subcommittee
DESCRIPTION:2024 Budget Preparation
URL:https://www.umcsc.org/event/council-on-finance-administration-budget-subcommittee/
LOCATION:TBD
CATEGORIES:Conference
ORGANIZER;CN="Beth Westbury":MAILTO:bwestbury@umcsc.org
END:VEVENT
BEGIN:VEVENT
DTSTART;TZID=America/New_York:20230217T100000
DTEND;TZID=America/New_York:20230217T100000
DTSTAMP:20260419T233244
CREATED:20220525T163351Z
LAST-MODIFIED:20220525T163351Z
UID:10002889-1676628000-1676628000@www.umcsc.org
SUMMARY:Annual Conference Trustees Meeting
DESCRIPTION:
URL:https://www.umcsc.org/event/annual-conference-trustees-meeting-2/
LOCATION:TBD
CATEGORIES:Conference
ORGANIZER;CN="Beth Westbury":MAILTO:bwestbury@umcsc.org
END:VEVENT
BEGIN:VEVENT
DTSTART;TZID=America/New_York:20230107T100000
DTEND;TZID=America/New_York:20230107T100000
DTSTAMP:20260419T233244
CREATED:20220525T161121Z
LAST-MODIFIED:20220525T161121Z
UID:10002886-1673085600-1673085600@www.umcsc.org
SUMMARY:Commission on Equitable Compensation
DESCRIPTION:
URL:https://www.umcsc.org/event/commission-on-equitable-compensation-2/
LOCATION:TBD
CATEGORIES:Conference
ORGANIZER;CN="Beth Westbury":MAILTO:bwestbury@umcsc.org
END:VEVENT
BEGIN:VEVENT
DTSTART;TZID=America/New_York:20221129T100000
DTEND;TZID=America/New_York:20221129T120000
DTSTAMP:20260419T233244
CREATED:20220615T165827Z
LAST-MODIFIED:20220615T165827Z
UID:10002953-1669716000-1669723200@www.umcsc.org
SUMMARY:Florence District Clergy Gathering
DESCRIPTION:
URL:https://www.umcsc.org/event/florence-district-clergy-gathering-6/
LOCATION:TBD
CATEGORIES:Florence District
END:VEVENT
BEGIN:VEVENT
DTSTART;TZID=America/New_York:20221027T100000
DTEND;TZID=America/New_York:20221027T120000
DTSTAMP:20260419T233244
CREATED:20220615T165604Z
LAST-MODIFIED:20220615T165604Z
UID:10002952-1666864800-1666872000@www.umcsc.org
SUMMARY:Florence District Clergy Gathering
DESCRIPTION:
URL:https://www.umcsc.org/event/florence-district-clergy-gathering-5/
LOCATION:TBD
CATEGORIES:Florence District
END:VEVENT
BEGIN:VEVENT
DTSTART;TZID=America/New_York:20220929T100000
DTEND;TZID=America/New_York:20220929T120000
DTSTAMP:20260419T233244
CREATED:20220615T165340Z
LAST-MODIFIED:20220615T165340Z
UID:10002951-1664445600-1664452800@www.umcsc.org
SUMMARY:Florence District Clergy Gathering
DESCRIPTION:
URL:https://www.umcsc.org/event/florence-district-clergy-gathering-4/
LOCATION:TBD
CATEGORIES:Florence District
END:VEVENT
BEGIN:VEVENT
DTSTART;TZID=America/New_York:20220916T100000
DTEND;TZID=America/New_York:20220916T100000
DTSTAMP:20260419T233244
CREATED:20220525T163153Z
LAST-MODIFIED:20220525T163153Z
UID:10002888-1663322400-1663322400@www.umcsc.org
SUMMARY:Annual Conference Trustees Meeting
DESCRIPTION:
URL:https://www.umcsc.org/event/annual-conference-trustees-meeting/
LOCATION:TBD
CATEGORIES:Conference
ORGANIZER;CN="Beth Westbury":MAILTO:bwestbury@umcsc.org
END:VEVENT
BEGIN:VEVENT
DTSTART;TZID=America/New_York:20220816T100000
DTEND;TZID=America/New_York:20220816T100000
DTSTAMP:20260419T233244
CREATED:20220525T165610Z
LAST-MODIFIED:20220525T165610Z
UID:10002862-1660644000-1660644000@www.umcsc.org
SUMMARY:Council on Finance & Administration Meeting\, Full Council
DESCRIPTION:
URL:https://www.umcsc.org/event/council-on-finance-administration-meeting-full-council/
LOCATION:TBD
CATEGORIES:Conference
ORGANIZER;CN="Beth Westbury":MAILTO:bwestbury@umcsc.org
END:VEVENT
BEGIN:VEVENT
DTSTART;TZID=America/New_York:20220618T100000
DTEND;TZID=America/New_York:20220618T100000
DTSTAMP:20260419T233244
CREATED:20220525T160901Z
LAST-MODIFIED:20220525T160901Z
UID:10002885-1655546400-1655546400@www.umcsc.org
SUMMARY:Commission on Equitable Compensation
DESCRIPTION:
URL:https://www.umcsc.org/event/commission-on-equitable-compensation/
LOCATION:TBD
CATEGORIES:Conference
ORGANIZER;CN="Beth Westbury":MAILTO:bwestbury@umcsc.org
END:VEVENT
BEGIN:VEVENT
DTSTART;TZID=America/New_York:20220524T180000
DTEND;TZID=America/New_York:20220524T200000
DTSTAMP:20260419T233244
CREATED:20220105T155835Z
LAST-MODIFIED:20220105T155835Z
UID:10001028-1653415200-1653422400@www.umcsc.org
SUMMARY:Marion District Sending Forth
DESCRIPTION:
URL:https://www.umcsc.org/event/marion-district-sending-forth/
LOCATION:TBD
CATEGORIES:Marion District
END:VEVENT
BEGIN:VEVENT
DTSTART;VALUE=DATE:20210722
DTEND;VALUE=DATE:20210725
DTSTAMP:20260419T233244
CREATED:20210114T160431Z
LAST-MODIFIED:20210114T160431Z
UID:10000830-1626912000-1627171199@www.umcsc.org
SUMMARY:UMW Mission u
DESCRIPTION:Please note:  Although both virtual and in-person events are scheduled for Mission u\, this event will either be virtual or in-person\, not both.  Meetings will be rescheduled if this is an in-person event.
URL:https://www.umcsc.org/event/umw-mission-u-2/
LOCATION:TBD
CATEGORIES:Conference
END:VEVENT
BEGIN:VEVENT
DTSTART;TZID=America/New_York:20210422T083000
DTEND;TZID=America/New_York:20210422T163000
DTSTAMP:20260419T233244
CREATED:20200813T180316Z
LAST-MODIFIED:20200813T180316Z
UID:10002776-1619080200-1619109000@www.umcsc.org
SUMMARY:Board of Ordained Ministry Interviews
DESCRIPTION:Status Change Interviews/Provisional Members
URL:https://www.umcsc.org/event/board-of-ordained-ministry-interviews-3/
LOCATION:TBD
CATEGORIES:Conference
END:VEVENT
BEGIN:VEVENT
DTSTART;TZID=America/New_York:20210209T083000
DTEND;TZID=America/New_York:20210211T163000
DTSTAMP:20260419T233244
CREATED:20200813T175747Z
LAST-MODIFIED:20200813T175747Z
UID:10002775-1612859400-1613061000@www.umcsc.org
SUMMARY:Board of Ordained Ministry Interviews
DESCRIPTION:Provisional Membership Interviews
URL:https://www.umcsc.org/event/board-of-ordained-ministry-interviews-2/
LOCATION:TBD
CATEGORIES:Conference
END:VEVENT
BEGIN:VEVENT
DTSTART;TZID=America/New_York:20201110T083000
DTEND;TZID=America/New_York:20201112T163000
DTSTAMP:20260419T233244
CREATED:20200813T160839Z
LAST-MODIFIED:20200813T160839Z
UID:10000836-1604997000-1605198600@www.umcsc.org
SUMMARY:Board of Ordained Ministry Interviews
DESCRIPTION:Full Membership Interviews
URL:https://www.umcsc.org/event/board-of-ordained-ministry-interviews/
LOCATION:TBD
CATEGORIES:Conference
END:VEVENT
END:VCALENDAR