BEGIN:VCALENDAR
VERSION:2.0
PRODID:-//South Carolina UMC - ECPv6.15.20//NONSGML v1.0//EN
CALSCALE:GREGORIAN
METHOD:PUBLISH
X-WR-CALNAME:South Carolina UMC
X-ORIGINAL-URL:https://www.umcsc.org
X-WR-CALDESC:Events for South Carolina UMC
REFRESH-INTERVAL;VALUE=DURATION:PT1H
X-Robots-Tag:noindex
X-PUBLISHED-TTL:PT1H
BEGIN:VTIMEZONE
TZID:America/New_York
BEGIN:DAYLIGHT
TZOFFSETFROM:-0500
TZOFFSETTO:-0400
TZNAME:EDT
DTSTART:20210314T070000
END:DAYLIGHT
BEGIN:STANDARD
TZOFFSETFROM:-0400
TZOFFSETTO:-0500
TZNAME:EST
DTSTART:20211107T060000
END:STANDARD
BEGIN:DAYLIGHT
TZOFFSETFROM:-0500
TZOFFSETTO:-0400
TZNAME:EDT
DTSTART:20220313T070000
END:DAYLIGHT
BEGIN:STANDARD
TZOFFSETFROM:-0400
TZOFFSETTO:-0500
TZNAME:EST
DTSTART:20221106T060000
END:STANDARD
BEGIN:DAYLIGHT
TZOFFSETFROM:-0500
TZOFFSETTO:-0400
TZNAME:EDT
DTSTART:20230312T070000
END:DAYLIGHT
BEGIN:STANDARD
TZOFFSETFROM:-0400
TZOFFSETTO:-0500
TZNAME:EST
DTSTART:20231105T060000
END:STANDARD
BEGIN:DAYLIGHT
TZOFFSETFROM:-0500
TZOFFSETTO:-0400
TZNAME:EDT
DTSTART:20240310T070000
END:DAYLIGHT
BEGIN:STANDARD
TZOFFSETFROM:-0400
TZOFFSETTO:-0500
TZNAME:EST
DTSTART:20241103T060000
END:STANDARD
BEGIN:DAYLIGHT
TZOFFSETFROM:-0500
TZOFFSETTO:-0400
TZNAME:EDT
DTSTART:20250309T070000
END:DAYLIGHT
BEGIN:STANDARD
TZOFFSETFROM:-0400
TZOFFSETTO:-0500
TZNAME:EST
DTSTART:20251102T060000
END:STANDARD
BEGIN:DAYLIGHT
TZOFFSETFROM:-0500
TZOFFSETTO:-0400
TZNAME:EDT
DTSTART:20260308T070000
END:DAYLIGHT
BEGIN:STANDARD
TZOFFSETFROM:-0400
TZOFFSETTO:-0500
TZNAME:EST
DTSTART:20261101T060000
END:STANDARD
BEGIN:DAYLIGHT
TZOFFSETFROM:-0500
TZOFFSETTO:-0400
TZNAME:EDT
DTSTART:20270314T070000
END:DAYLIGHT
BEGIN:STANDARD
TZOFFSETFROM:-0400
TZOFFSETTO:-0500
TZNAME:EST
DTSTART:20271107T060000
END:STANDARD
END:VTIMEZONE
BEGIN:VEVENT
DTSTART;TZID=America/New_York:20260322T150000
DTEND;TZID=America/New_York:20260322T190000
DTSTAMP:20260425T074344
CREATED:20260216T002128Z
LAST-MODIFIED:20260216T002128Z
UID:10003304-1774191600-1774206000@www.umcsc.org
SUMMARY:LSM School (Orangeburg District)
DESCRIPTION:The Orangeburg District is offering a Lay Servant School on March 21 and 22\, 2026. \nFor complete information and registration\, please click on the links below: \n \nOrangeburg District Lay Servant Ministries Registration
URL:https://www.umcsc.org/event/lsm-school-orangeburg-district-10/2026-03-22/
LOCATION:St Andrews UMC\, 1980 Columbia Rd.\, Orangeburg\, SC\, 29115\, United States
CATEGORIES:Lay Servant Ministries
END:VEVENT
BEGIN:VEVENT
DTSTART;TZID=America/New_York:20260321T083000
DTEND;TZID=America/New_York:20260321T170000
DTSTAMP:20260425T074344
CREATED:20260216T002128Z
LAST-MODIFIED:20260216T002128Z
UID:10003303-1774081800-1774112400@www.umcsc.org
SUMMARY:LSM School (Orangeburg District)
DESCRIPTION:The Orangeburg District is offering a Lay Servant School on March 21 and 22\, 2026. \nFor complete information and registration\, please click on the links below: \n \nOrangeburg District Lay Servant Ministries Registration
URL:https://www.umcsc.org/event/lsm-school-orangeburg-district-10/2026-03-21/
LOCATION:St Andrews UMC\, 1980 Columbia Rd.\, Orangeburg\, SC\, 29115\, United States
CATEGORIES:Lay Servant Ministries
END:VEVENT
BEGIN:VEVENT
DTSTART;TZID=America/New_York:20220403T150000
DTEND;TZID=America/New_York:20220403T190000
DTSTAMP:20260425T074344
CREATED:20220202T124929Z
LAST-MODIFIED:20220202T130858Z
UID:10001177-1648998000-1649012400@www.umcsc.org
SUMMARY:LSM School (Orangeburg District)
DESCRIPTION:April 2\, 2022 8:30 am – 5 pm and April 3\, 2022 3 pm – 7 pm \nIn Person Only \nClick on the link for a brochure and link to online registration. \nOrangeburg District Lay School-April 2022-final
URL:https://www.umcsc.org/event/lsm-school-orangeburg-district-4/2022-04-03/
LOCATION:St Andrews UMC\, 1980 Columbia Rd.\, Orangeburg\, SC\, 29115\, United States
CATEGORIES:Lay Servant Ministries
END:VEVENT
BEGIN:VEVENT
DTSTART;TZID=America/New_York:20220402T150000
DTEND;TZID=America/New_York:20220402T190000
DTSTAMP:20260425T074344
CREATED:20220202T124929Z
LAST-MODIFIED:20220202T130858Z
UID:10001176-1648911600-1648926000@www.umcsc.org
SUMMARY:LSM School (Orangeburg District)
DESCRIPTION:April 2\, 2022 8:30 am – 5 pm and April 3\, 2022 3 pm – 7 pm \nIn Person Only \nClick on the link for a brochure and link to online registration. \nOrangeburg District Lay School-April 2022-final
URL:https://www.umcsc.org/event/lsm-school-orangeburg-district-4/2022-04-02/
LOCATION:St Andrews UMC\, 1980 Columbia Rd.\, Orangeburg\, SC\, 29115\, United States
CATEGORIES:Lay Servant Ministries
END:VEVENT
END:VCALENDAR