BEGIN:VCALENDAR
VERSION:2.0
PRODID:-//South Carolina UMC - ECPv6.15.20//NONSGML v1.0//EN
CALSCALE:GREGORIAN
METHOD:PUBLISH
X-ORIGINAL-URL:https://www.umcsc.org
X-WR-CALDESC:Events for South Carolina UMC
REFRESH-INTERVAL;VALUE=DURATION:PT1H
X-Robots-Tag:noindex
X-PUBLISHED-TTL:PT1H
BEGIN:VTIMEZONE
TZID:America/New_York
BEGIN:DAYLIGHT
TZOFFSETFROM:-0500
TZOFFSETTO:-0400
TZNAME:EDT
DTSTART:20220313T070000
END:DAYLIGHT
BEGIN:STANDARD
TZOFFSETFROM:-0400
TZOFFSETTO:-0500
TZNAME:EST
DTSTART:20221106T060000
END:STANDARD
BEGIN:DAYLIGHT
TZOFFSETFROM:-0500
TZOFFSETTO:-0400
TZNAME:EDT
DTSTART:20230312T070000
END:DAYLIGHT
BEGIN:STANDARD
TZOFFSETFROM:-0400
TZOFFSETTO:-0500
TZNAME:EST
DTSTART:20231105T060000
END:STANDARD
BEGIN:DAYLIGHT
TZOFFSETFROM:-0500
TZOFFSETTO:-0400
TZNAME:EDT
DTSTART:20240310T070000
END:DAYLIGHT
BEGIN:STANDARD
TZOFFSETFROM:-0400
TZOFFSETTO:-0500
TZNAME:EST
DTSTART:20241103T060000
END:STANDARD
END:VTIMEZONE
BEGIN:VEVENT
DTSTART;TZID=America/New_York:20231001T150000
DTEND;TZID=America/New_York:20231001T190000
DTSTAMP:20260423T040530
CREATED:20230731T195205Z
LAST-MODIFIED:20230731T195305Z
UID:10003240-1696172400-1696186800@www.umcsc.org
SUMMARY:Lay Servant Ministry School (Orangeburg District)
DESCRIPTION:Called by God to Serve \nNew Covenant UMC \n750 Moss Street\nBowman\, SC 29018 \nSaturday\, September 30\, 8:30 AM – 5:00 PM\nSunday\, October 1\, 3:00 PM – 7:00 PM \nRegistration Cost – $ 35 \nRegistration Deadline – August 25\, 2023 \nClick on the link below for Registration and more information \nOrangeburg District Lay Servant Ministries Registration
URL:https://www.umcsc.org/event/lay-servant-ministry-school-orangeburg-district/2023-10-01/
LOCATION:New Covenant UMC\, 750 Moss Street\, Bowman\, SC\, 29018\, United States
CATEGORIES:Lay Servant Ministries
END:VEVENT
BEGIN:VEVENT
DTSTART;TZID=America/New_York:20230930T150000
DTEND;TZID=America/New_York:20230930T190000
DTSTAMP:20260423T040530
CREATED:20230731T195205Z
LAST-MODIFIED:20230731T195305Z
UID:10003239-1696086000-1696100400@www.umcsc.org
SUMMARY:Lay Servant Ministry School (Orangeburg District)
DESCRIPTION:Called by God to Serve \nNew Covenant UMC \n750 Moss Street\nBowman\, SC 29018 \nSaturday\, September 30\, 8:30 AM – 5:00 PM\nSunday\, October 1\, 3:00 PM – 7:00 PM \nRegistration Cost – $ 35 \nRegistration Deadline – August 25\, 2023 \nClick on the link below for Registration and more information \nOrangeburg District Lay Servant Ministries Registration
URL:https://www.umcsc.org/event/lay-servant-ministry-school-orangeburg-district/2023-09-30/
LOCATION:New Covenant UMC\, 750 Moss Street\, Bowman\, SC\, 29018\, United States
CATEGORIES:Lay Servant Ministries
END:VEVENT
END:VCALENDAR