BEGIN:VCALENDAR
VERSION:2.0
PRODID:-//South Carolina UMC - ECPv6.15.20//NONSGML v1.0//EN
CALSCALE:GREGORIAN
METHOD:PUBLISH
X-WR-CALNAME:South Carolina UMC
X-ORIGINAL-URL:https://www.umcsc.org
X-WR-CALDESC:Events for South Carolina UMC
REFRESH-INTERVAL;VALUE=DURATION:PT1H
X-Robots-Tag:noindex
X-PUBLISHED-TTL:PT1H
BEGIN:VTIMEZONE
TZID:America/New_York
BEGIN:DAYLIGHT
TZOFFSETFROM:-0500
TZOFFSETTO:-0400
TZNAME:EDT
DTSTART:20170312T070000
END:DAYLIGHT
BEGIN:STANDARD
TZOFFSETFROM:-0400
TZOFFSETTO:-0500
TZNAME:EST
DTSTART:20171105T060000
END:STANDARD
BEGIN:DAYLIGHT
TZOFFSETFROM:-0500
TZOFFSETTO:-0400
TZNAME:EDT
DTSTART:20180311T070000
END:DAYLIGHT
BEGIN:STANDARD
TZOFFSETFROM:-0400
TZOFFSETTO:-0500
TZNAME:EST
DTSTART:20181104T060000
END:STANDARD
BEGIN:DAYLIGHT
TZOFFSETFROM:-0500
TZOFFSETTO:-0400
TZNAME:EDT
DTSTART:20190310T070000
END:DAYLIGHT
BEGIN:STANDARD
TZOFFSETFROM:-0400
TZOFFSETTO:-0500
TZNAME:EST
DTSTART:20191103T060000
END:STANDARD
BEGIN:DAYLIGHT
TZOFFSETFROM:-0500
TZOFFSETTO:-0400
TZNAME:EDT
DTSTART:20200308T070000
END:DAYLIGHT
BEGIN:STANDARD
TZOFFSETFROM:-0400
TZOFFSETTO:-0500
TZNAME:EST
DTSTART:20201101T060000
END:STANDARD
BEGIN:DAYLIGHT
TZOFFSETFROM:-0500
TZOFFSETTO:-0400
TZNAME:EDT
DTSTART:20210314T070000
END:DAYLIGHT
BEGIN:STANDARD
TZOFFSETFROM:-0400
TZOFFSETTO:-0500
TZNAME:EST
DTSTART:20211107T060000
END:STANDARD
BEGIN:DAYLIGHT
TZOFFSETFROM:-0500
TZOFFSETTO:-0400
TZNAME:EDT
DTSTART:20220313T070000
END:DAYLIGHT
BEGIN:STANDARD
TZOFFSETFROM:-0400
TZOFFSETTO:-0500
TZNAME:EST
DTSTART:20221106T060000
END:STANDARD
BEGIN:DAYLIGHT
TZOFFSETFROM:-0500
TZOFFSETTO:-0400
TZNAME:EDT
DTSTART:20230312T070000
END:DAYLIGHT
BEGIN:STANDARD
TZOFFSETFROM:-0400
TZOFFSETTO:-0500
TZNAME:EST
DTSTART:20231105T060000
END:STANDARD
END:VTIMEZONE
BEGIN:VEVENT
DTSTART;TZID=America/New_York:20220605T150000
DTEND;TZID=America/New_York:20220608T150000
DTSTAMP:20260423T164944
CREATED:20210810T174921Z
LAST-MODIFIED:20210810T174921Z
UID:10000724-1654441200-1654700400@www.umcsc.org
SUMMARY:South Carolina United Methodist Annual Conference
DESCRIPTION:
URL:https://www.umcsc.org/event/south-carolina-united-methodist-annual-conference/
LOCATION:Florence
END:VEVENT
BEGIN:VEVENT
DTSTART;VALUE=DATE:20200607
DTEND;VALUE=DATE:20200611
DTSTAMP:20260423T164944
CREATED:20190729T150910Z
LAST-MODIFIED:20200529T121133Z
UID:10002693-1591488000-1591833599@www.umcsc.org
SUMMARY:South Carolina Annual Conference - POSTPONED
DESCRIPTION:
URL:https://www.umcsc.org/event/sc-umc-annual-conference/
LOCATION:Florence
CATEGORIES:Conference,Florence District,Greenville District,Hartsville District,Marion District,Orangeburg District,Spartanburg District
END:VEVENT
BEGIN:VEVENT
DTSTART;TZID=America/New_York:20181025T180000
DTEND;TZID=America/New_York:20181025T210000
DTSTAMP:20260423T164944
CREATED:20181002T133925Z
LAST-MODIFIED:20181002T133925Z
UID:10000769-1540490400-1540501200@www.umcsc.org
SUMMARY:UMW Executive Committee Meeting (TBA)
DESCRIPTION:
URL:https://www.umcsc.org/event/umw-executive-committee-meeting-tba/
LOCATION:Florence
END:VEVENT
END:VCALENDAR