BEGIN:VCALENDAR
VERSION:2.0
PRODID:-//South Carolina UMC - ECPv6.15.20//NONSGML v1.0//EN
CALSCALE:GREGORIAN
METHOD:PUBLISH
X-WR-CALNAME:South Carolina UMC
X-ORIGINAL-URL:https://www.umcsc.org
X-WR-CALDESC:Events for South Carolina UMC
REFRESH-INTERVAL;VALUE=DURATION:PT1H
X-Robots-Tag:noindex
X-PUBLISHED-TTL:PT1H
BEGIN:VTIMEZONE
TZID:America/New_York
BEGIN:DAYLIGHT
TZOFFSETFROM:-0500
TZOFFSETTO:-0400
TZNAME:EDT
DTSTART:20190310T070000
END:DAYLIGHT
BEGIN:STANDARD
TZOFFSETFROM:-0400
TZOFFSETTO:-0500
TZNAME:EST
DTSTART:20191103T060000
END:STANDARD
BEGIN:DAYLIGHT
TZOFFSETFROM:-0500
TZOFFSETTO:-0400
TZNAME:EDT
DTSTART:20200308T070000
END:DAYLIGHT
BEGIN:STANDARD
TZOFFSETFROM:-0400
TZOFFSETTO:-0500
TZNAME:EST
DTSTART:20201101T060000
END:STANDARD
BEGIN:DAYLIGHT
TZOFFSETFROM:-0500
TZOFFSETTO:-0400
TZNAME:EDT
DTSTART:20210314T070000
END:DAYLIGHT
BEGIN:STANDARD
TZOFFSETFROM:-0400
TZOFFSETTO:-0500
TZNAME:EST
DTSTART:20211107T060000
END:STANDARD
BEGIN:DAYLIGHT
TZOFFSETFROM:-0500
TZOFFSETTO:-0400
TZNAME:EDT
DTSTART:20220313T070000
END:DAYLIGHT
BEGIN:STANDARD
TZOFFSETFROM:-0400
TZOFFSETTO:-0500
TZNAME:EST
DTSTART:20221106T060000
END:STANDARD
BEGIN:DAYLIGHT
TZOFFSETFROM:-0500
TZOFFSETTO:-0400
TZNAME:EDT
DTSTART:20230312T070000
END:DAYLIGHT
BEGIN:STANDARD
TZOFFSETFROM:-0400
TZOFFSETTO:-0500
TZNAME:EST
DTSTART:20231105T060000
END:STANDARD
BEGIN:DAYLIGHT
TZOFFSETFROM:-0500
TZOFFSETTO:-0400
TZNAME:EDT
DTSTART:20240310T070000
END:DAYLIGHT
BEGIN:STANDARD
TZOFFSETFROM:-0400
TZOFFSETTO:-0500
TZNAME:EST
DTSTART:20241103T060000
END:STANDARD
END:VTIMEZONE
BEGIN:VEVENT
DTSTART;TZID=America/New_York:20231207T113000
DTEND;TZID=America/New_York:20231207T133000
DTSTAMP:20260419T183906
CREATED:20231204T161129Z
LAST-MODIFIED:20231204T161129Z
UID:10000991-1701948600-1701955800@www.umcsc.org
SUMMARY:Marion DS Committee
DESCRIPTION:
URL:https://www.umcsc.org/event/marion-ds-committee/
LOCATION:First United Methodist Church\, Conway\, 1001 Fifth Ave\, Conway\, SC\, 29526\, United States
CATEGORIES:Marion District
GEO:33.694547;-78.882184
X-APPLE-STRUCTURED-LOCATION;VALUE=URI;X-ADDRESS=First United Methodist Church Conway 1001 Fifth Ave Conway SC 29526 United States;X-APPLE-RADIUS=500;X-TITLE=1001 Fifth Ave:geo:-78.882184,33.694547
END:VEVENT
BEGIN:VEVENT
DTSTART;TZID=America/New_York:20230122T150000
DTEND;TZID=America/New_York:20230122T170000
DTSTAMP:20260419T183906
CREATED:20220804T141321Z
LAST-MODIFIED:20221213T151951Z
UID:10001047-1674399600-1674406800@www.umcsc.org
SUMMARY:Marion District Leadership Training
DESCRIPTION:
URL:https://www.umcsc.org/event/marion-district-leadership-training-3/
LOCATION:First United Methodist Church\, Conway\, 1001 Fifth Ave\, Conway\, SC\, 29526\, United States
CATEGORIES:Marion District
GEO:33.694547;-78.882184
X-APPLE-STRUCTURED-LOCATION;VALUE=URI;X-ADDRESS=First United Methodist Church Conway 1001 Fifth Ave Conway SC 29526 United States;X-APPLE-RADIUS=500;X-TITLE=1001 Fifth Ave:geo:-78.882184,33.694547
END:VEVENT
BEGIN:VEVENT
DTSTART;TZID=America/New_York:20220821T160000
DTEND;TZID=America/New_York:20220821T180000
DTSTAMP:20260419T183906
CREATED:20220803T183438Z
LAST-MODIFIED:20220803T183438Z
UID:10001009-1661097600-1661104800@www.umcsc.org
SUMMARY:Marion District Administrative Procedure Training
DESCRIPTION:
URL:https://www.umcsc.org/event/marion-district-administrative-procedure-training/
LOCATION:First United Methodist Church\, Conway\, 1001 Fifth Ave\, Conway\, SC\, 29526\, United States
CATEGORIES:Marion District
GEO:33.694547;-78.882184
X-APPLE-STRUCTURED-LOCATION;VALUE=URI;X-ADDRESS=First United Methodist Church Conway 1001 Fifth Ave Conway SC 29526 United States;X-APPLE-RADIUS=500;X-TITLE=1001 Fifth Ave:geo:-78.882184,33.694547
END:VEVENT
BEGIN:VEVENT
DTSTART;TZID=America/New_York:20210926T143000
DTEND;TZID=America/New_York:20210926T200000
DTSTAMP:20260419T183906
CREATED:20210805T181337Z
LAST-MODIFIED:20210805T181337Z
UID:10001202-1632666600-1632686400@www.umcsc.org
SUMMARY:LSM School (Marion District)
DESCRIPTION:Marion District September Lay Servant School \nClick on the above link for registration and information. \nRegistration must be received by August 28\, 2021.
URL:https://www.umcsc.org/event/lsm-school-marion-district-16/
LOCATION:First United Methodist Church\, Conway\, 1001 Fifth Ave\, Conway\, SC\, 29526\, United States
CATEGORIES:Lay Servant Ministries
ORGANIZER;CN="Ann Sowers":MAILTO:sowersann@gmail.com
GEO:33.694547;-78.882184
X-APPLE-STRUCTURED-LOCATION;VALUE=URI;X-ADDRESS=First United Methodist Church Conway 1001 Fifth Ave Conway SC 29526 United States;X-APPLE-RADIUS=500;X-TITLE=1001 Fifth Ave:geo:-78.882184,33.694547
END:VEVENT
BEGIN:VEVENT
DTSTART;TZID=America/New_York:20200428T110000
DTEND;TZID=America/New_York:20200428T130000
DTSTAMP:20260419T183906
CREATED:20200206T182534Z
LAST-MODIFIED:20200206T182534Z
UID:10000975-1588071600-1588078800@www.umcsc.org
SUMMARY:Marion District Clergy Gathering
DESCRIPTION:
URL:https://www.umcsc.org/event/marion-district-clergy-gathering/
LOCATION:First United Methodist Church\, Conway\, 1001 Fifth Ave\, Conway\, SC\, 29526\, United States
CATEGORIES:Marion District
GEO:33.694547;-78.882184
X-APPLE-STRUCTURED-LOCATION;VALUE=URI;X-ADDRESS=First United Methodist Church Conway 1001 Fifth Ave Conway SC 29526 United States;X-APPLE-RADIUS=500;X-TITLE=1001 Fifth Ave:geo:-78.882184,33.694547
END:VEVENT
END:VCALENDAR