BEGIN:VCALENDAR
VERSION:2.0
PRODID:-//South Carolina UMC - ECPv6.15.20//NONSGML v1.0//EN
CALSCALE:GREGORIAN
METHOD:PUBLISH
X-WR-CALNAME:South Carolina UMC
X-ORIGINAL-URL:https://www.umcsc.org
X-WR-CALDESC:Events for South Carolina UMC
REFRESH-INTERVAL;VALUE=DURATION:PT1H
X-Robots-Tag:noindex
X-PUBLISHED-TTL:PT1H
BEGIN:VTIMEZONE
TZID:America/New_York
BEGIN:DAYLIGHT
TZOFFSETFROM:-0500
TZOFFSETTO:-0400
TZNAME:EDT
DTSTART:20180311T070000
END:DAYLIGHT
BEGIN:STANDARD
TZOFFSETFROM:-0400
TZOFFSETTO:-0500
TZNAME:EST
DTSTART:20181104T060000
END:STANDARD
BEGIN:DAYLIGHT
TZOFFSETFROM:-0500
TZOFFSETTO:-0400
TZNAME:EDT
DTSTART:20190310T070000
END:DAYLIGHT
BEGIN:STANDARD
TZOFFSETFROM:-0400
TZOFFSETTO:-0500
TZNAME:EST
DTSTART:20191103T060000
END:STANDARD
BEGIN:DAYLIGHT
TZOFFSETFROM:-0500
TZOFFSETTO:-0400
TZNAME:EDT
DTSTART:20200308T070000
END:DAYLIGHT
BEGIN:STANDARD
TZOFFSETFROM:-0400
TZOFFSETTO:-0500
TZNAME:EST
DTSTART:20201101T060000
END:STANDARD
END:VTIMEZONE
BEGIN:VEVENT
DTSTART;TZID=America/New_York:20190323T163000
DTEND;TZID=America/New_York:20190323T200000
DTSTAMP:20260421T033348
CREATED:20190312T133043Z
LAST-MODIFIED:20190312T133043Z
UID:10001056-1553358600-1553371200@www.umcsc.org
SUMMARY:Beulah UMC Wild Game Supper
DESCRIPTION:Tickets are $10 and are available from Beulah UMC Youth Members. \nEvent begins at 4:30pm and Supper begins at 6pm. Entrepreneur and Outdoor Enthusiast Michael McLean is the guest speaker. \nKids’ activities\, live music\, and all wild game! Hunting and fishing reps will be onsite to display their products.
URL:https://www.umcsc.org/event/beulah-umc-wild-game-supper/
LOCATION:Beulah UMC\, 1577 Old State Road\, Sandy Run\, SC\, 29053\, United States
CATEGORIES:Orangeburg District
GEO:33.8140824;-80.9782574
X-APPLE-STRUCTURED-LOCATION;VALUE=URI;X-ADDRESS=Beulah UMC 1577 Old State Road Sandy Run SC 29053 United States;X-APPLE-RADIUS=500;X-TITLE=1577 Old State Road:geo:-80.9782574,33.8140824
END:VEVENT
END:VCALENDAR