BEGIN:VCALENDAR
VERSION:2.0
PRODID:-//South Carolina UMC - ECPv6.15.20//NONSGML v1.0//EN
CALSCALE:GREGORIAN
METHOD:PUBLISH
X-WR-CALNAME:South Carolina UMC
X-ORIGINAL-URL:https://www.umcsc.org
X-WR-CALDESC:Events for South Carolina UMC
REFRESH-INTERVAL;VALUE=DURATION:PT1H
X-Robots-Tag:noindex
X-PUBLISHED-TTL:PT1H
BEGIN:VTIMEZONE
TZID:America/New_York
BEGIN:DAYLIGHT
TZOFFSETFROM:-0500
TZOFFSETTO:-0400
TZNAME:EDT
DTSTART:20180311T070000
END:DAYLIGHT
BEGIN:STANDARD
TZOFFSETFROM:-0400
TZOFFSETTO:-0500
TZNAME:EST
DTSTART:20181104T060000
END:STANDARD
BEGIN:DAYLIGHT
TZOFFSETFROM:-0500
TZOFFSETTO:-0400
TZNAME:EDT
DTSTART:20190310T070000
END:DAYLIGHT
BEGIN:STANDARD
TZOFFSETFROM:-0400
TZOFFSETTO:-0500
TZNAME:EST
DTSTART:20191103T060000
END:STANDARD
BEGIN:DAYLIGHT
TZOFFSETFROM:-0500
TZOFFSETTO:-0400
TZNAME:EDT
DTSTART:20200308T070000
END:DAYLIGHT
BEGIN:STANDARD
TZOFFSETFROM:-0400
TZOFFSETTO:-0500
TZNAME:EST
DTSTART:20201101T060000
END:STANDARD
BEGIN:DAYLIGHT
TZOFFSETFROM:-0500
TZOFFSETTO:-0400
TZNAME:EDT
DTSTART:20210314T070000
END:DAYLIGHT
BEGIN:STANDARD
TZOFFSETFROM:-0400
TZOFFSETTO:-0500
TZNAME:EST
DTSTART:20211107T060000
END:STANDARD
END:VTIMEZONE
BEGIN:VEVENT
DTSTART;TZID=America/New_York:20201217T110000
DTEND;TZID=America/New_York:20201217T123000
DTSTAMP:20260422T104743
CREATED:20200325T191604Z
LAST-MODIFIED:20200325T191604Z
UID:10000799-1608202800-1608208200@www.umcsc.org
SUMMARY:UMCSC Credit Union Meeting
DESCRIPTION:
URL:https://www.umcsc.org/event/umcsc-credit-union-meeting/2020-12-17/
LOCATION:South Carolina United Methodist Center\, Upstairs Conference Room\, 4908 Colonial Drive\, Columbia\, SC\, United States
CATEGORIES:Conference
GEO:34.045681;-81.0275544
X-APPLE-STRUCTURED-LOCATION;VALUE=URI;X-ADDRESS=South Carolina United Methodist Center Upstairs Conference Room 4908 Colonial Drive Columbia SC United States;X-APPLE-RADIUS=500;X-TITLE=4908 Colonial Drive:geo:-81.0275544,34.045681
END:VEVENT
BEGIN:VEVENT
DTSTART;TZID=America/New_York:20201119T110000
DTEND;TZID=America/New_York:20201119T123000
DTSTAMP:20260422T104743
CREATED:20200325T191604Z
LAST-MODIFIED:20200325T191604Z
UID:10000798-1605783600-1605789000@www.umcsc.org
SUMMARY:UMCSC Credit Union Meeting
DESCRIPTION:
URL:https://www.umcsc.org/event/umcsc-credit-union-meeting/2020-11-19/
LOCATION:South Carolina United Methodist Center\, Upstairs Conference Room\, 4908 Colonial Drive\, Columbia\, SC\, United States
CATEGORIES:Conference
GEO:34.045681;-81.0275544
X-APPLE-STRUCTURED-LOCATION;VALUE=URI;X-ADDRESS=South Carolina United Methodist Center Upstairs Conference Room 4908 Colonial Drive Columbia SC United States;X-APPLE-RADIUS=500;X-TITLE=4908 Colonial Drive:geo:-81.0275544,34.045681
END:VEVENT
BEGIN:VEVENT
DTSTART;TZID=America/New_York:20201015T110000
DTEND;TZID=America/New_York:20201015T123000
DTSTAMP:20260422T104743
CREATED:20200325T191604Z
LAST-MODIFIED:20200325T191604Z
UID:10000797-1602759600-1602765000@www.umcsc.org
SUMMARY:UMCSC Credit Union Meeting
DESCRIPTION:
URL:https://www.umcsc.org/event/umcsc-credit-union-meeting/2020-10-15/
LOCATION:South Carolina United Methodist Center\, Upstairs Conference Room\, 4908 Colonial Drive\, Columbia\, SC\, United States
CATEGORIES:Conference
GEO:34.045681;-81.0275544
X-APPLE-STRUCTURED-LOCATION;VALUE=URI;X-ADDRESS=South Carolina United Methodist Center Upstairs Conference Room 4908 Colonial Drive Columbia SC United States;X-APPLE-RADIUS=500;X-TITLE=4908 Colonial Drive:geo:-81.0275544,34.045681
END:VEVENT
BEGIN:VEVENT
DTSTART;TZID=America/New_York:20200917T110000
DTEND;TZID=America/New_York:20200917T123000
DTSTAMP:20260422T104743
CREATED:20200325T191604Z
LAST-MODIFIED:20200325T191604Z
UID:10000796-1600340400-1600345800@www.umcsc.org
SUMMARY:UMCSC Credit Union Meeting
DESCRIPTION:
URL:https://www.umcsc.org/event/umcsc-credit-union-meeting/2020-09-17/
LOCATION:South Carolina United Methodist Center\, Upstairs Conference Room\, 4908 Colonial Drive\, Columbia\, SC\, United States
CATEGORIES:Conference
GEO:34.045681;-81.0275544
X-APPLE-STRUCTURED-LOCATION;VALUE=URI;X-ADDRESS=South Carolina United Methodist Center Upstairs Conference Room 4908 Colonial Drive Columbia SC United States;X-APPLE-RADIUS=500;X-TITLE=4908 Colonial Drive:geo:-81.0275544,34.045681
END:VEVENT
BEGIN:VEVENT
DTSTART;TZID=America/New_York:20200820T110000
DTEND;TZID=America/New_York:20200820T123000
DTSTAMP:20260422T104743
CREATED:20200325T191604Z
LAST-MODIFIED:20200325T191604Z
UID:10000795-1597921200-1597926600@www.umcsc.org
SUMMARY:UMCSC Credit Union Meeting
DESCRIPTION:
URL:https://www.umcsc.org/event/umcsc-credit-union-meeting/2020-08-20/
LOCATION:South Carolina United Methodist Center\, Upstairs Conference Room\, 4908 Colonial Drive\, Columbia\, SC\, United States
CATEGORIES:Conference
GEO:34.045681;-81.0275544
X-APPLE-STRUCTURED-LOCATION;VALUE=URI;X-ADDRESS=South Carolina United Methodist Center Upstairs Conference Room 4908 Colonial Drive Columbia SC United States;X-APPLE-RADIUS=500;X-TITLE=4908 Colonial Drive:geo:-81.0275544,34.045681
END:VEVENT
BEGIN:VEVENT
DTSTART;TZID=America/New_York:20200716T110000
DTEND;TZID=America/New_York:20200716T123000
DTSTAMP:20260422T104743
CREATED:20200325T191604Z
LAST-MODIFIED:20200325T191604Z
UID:10000794-1594897200-1594902600@www.umcsc.org
SUMMARY:UMCSC Credit Union Meeting
DESCRIPTION:
URL:https://www.umcsc.org/event/umcsc-credit-union-meeting/2020-07-16/
LOCATION:South Carolina United Methodist Center\, Upstairs Conference Room\, 4908 Colonial Drive\, Columbia\, SC\, United States
CATEGORIES:Conference
GEO:34.045681;-81.0275544
X-APPLE-STRUCTURED-LOCATION;VALUE=URI;X-ADDRESS=South Carolina United Methodist Center Upstairs Conference Room 4908 Colonial Drive Columbia SC United States;X-APPLE-RADIUS=500;X-TITLE=4908 Colonial Drive:geo:-81.0275544,34.045681
END:VEVENT
BEGIN:VEVENT
DTSTART;TZID=America/New_York:20200618T110000
DTEND;TZID=America/New_York:20200618T123000
DTSTAMP:20260422T104743
CREATED:20200325T191604Z
LAST-MODIFIED:20200325T191604Z
UID:10000793-1592478000-1592483400@www.umcsc.org
SUMMARY:UMCSC Credit Union Meeting
DESCRIPTION:
URL:https://www.umcsc.org/event/umcsc-credit-union-meeting/2020-06-18/
LOCATION:South Carolina United Methodist Center\, Upstairs Conference Room\, 4908 Colonial Drive\, Columbia\, SC\, United States
CATEGORIES:Conference
GEO:34.045681;-81.0275544
X-APPLE-STRUCTURED-LOCATION;VALUE=URI;X-ADDRESS=South Carolina United Methodist Center Upstairs Conference Room 4908 Colonial Drive Columbia SC United States;X-APPLE-RADIUS=500;X-TITLE=4908 Colonial Drive:geo:-81.0275544,34.045681
END:VEVENT
BEGIN:VEVENT
DTSTART;TZID=America/New_York:20200521T110000
DTEND;TZID=America/New_York:20200521T123000
DTSTAMP:20260422T104743
CREATED:20200325T191604Z
LAST-MODIFIED:20200325T191604Z
UID:10000792-1590058800-1590064200@www.umcsc.org
SUMMARY:UMCSC Credit Union Meeting
DESCRIPTION:
URL:https://www.umcsc.org/event/umcsc-credit-union-meeting/2020-05-21/
LOCATION:South Carolina United Methodist Center\, Upstairs Conference Room\, 4908 Colonial Drive\, Columbia\, SC\, United States
CATEGORIES:Conference
GEO:34.045681;-81.0275544
X-APPLE-STRUCTURED-LOCATION;VALUE=URI;X-ADDRESS=South Carolina United Methodist Center Upstairs Conference Room 4908 Colonial Drive Columbia SC United States;X-APPLE-RADIUS=500;X-TITLE=4908 Colonial Drive:geo:-81.0275544,34.045681
END:VEVENT
BEGIN:VEVENT
DTSTART;TZID=America/New_York:20200416T110000
DTEND;TZID=America/New_York:20200416T123000
DTSTAMP:20260422T104743
CREATED:20200325T191604Z
LAST-MODIFIED:20200325T191604Z
UID:10000791-1587034800-1587040200@www.umcsc.org
SUMMARY:UMCSC Credit Union Meeting
DESCRIPTION:
URL:https://www.umcsc.org/event/umcsc-credit-union-meeting/2020-04-16/
LOCATION:South Carolina United Methodist Center\, Upstairs Conference Room\, 4908 Colonial Drive\, Columbia\, SC\, United States
CATEGORIES:Conference
GEO:34.045681;-81.0275544
X-APPLE-STRUCTURED-LOCATION;VALUE=URI;X-ADDRESS=South Carolina United Methodist Center Upstairs Conference Room 4908 Colonial Drive Columbia SC United States;X-APPLE-RADIUS=500;X-TITLE=4908 Colonial Drive:geo:-81.0275544,34.045681
END:VEVENT
BEGIN:VEVENT
DTSTART;TZID=America/New_York:20200316T110000
DTEND;TZID=America/New_York:20200316T123000
DTSTAMP:20260422T104743
CREATED:20200117T193020Z
LAST-MODIFIED:20200117T193020Z
UID:10002739-1584356400-1584361800@www.umcsc.org
SUMMARY:SC United Methodist Conference Credit Union Board of Directors Meeting
DESCRIPTION:
URL:https://www.umcsc.org/event/sc-united-methodist-conference-credit-union-board-of-directors-meeting-3/
LOCATION:South Carolina United Methodist Center\, Upstairs Conference Room\, 4908 Colonial Drive\, Columbia\, SC\, United States
CATEGORIES:Conference
GEO:34.045681;-81.0275544
X-APPLE-STRUCTURED-LOCATION;VALUE=URI;X-ADDRESS=South Carolina United Methodist Center Upstairs Conference Room 4908 Colonial Drive Columbia SC United States;X-APPLE-RADIUS=500;X-TITLE=4908 Colonial Drive:geo:-81.0275544,34.045681
END:VEVENT
BEGIN:VEVENT
DTSTART;TZID=America/New_York:20190128T130000
DTEND;TZID=America/New_York:20190128T130000
DTSTAMP:20260422T104743
CREATED:20181120T162022Z
LAST-MODIFIED:20181120T162022Z
UID:10000673-1548680400-1548680400@www.umcsc.org
SUMMARY:South Carolina Methodist Conference Credit Union Annual Meeting & Lunch
DESCRIPTION:Epworth Children’s Home\, Cafeteria
URL:https://www.umcsc.org/event/south-carolina-methodist-conference-credit-union-annual-meeting-lunch/
LOCATION:Epworth Children’s Home\, 2900 Millwood Drive\, Columbia\, SC\, 29205\, United States
CATEGORIES:Conference
GEO:34.0027465;-81.0024134
X-APPLE-STRUCTURED-LOCATION;VALUE=URI;X-ADDRESS=Epworth Children’s Home 2900 Millwood Drive Columbia SC 29205 United States;X-APPLE-RADIUS=500;X-TITLE=2900 Millwood Drive:geo:-81.0024134,34.0027465
END:VEVENT
END:VCALENDAR