BEGIN:VCALENDAR
VERSION:2.0
PRODID:-//South Carolina UMC - ECPv6.15.20//NONSGML v1.0//EN
CALSCALE:GREGORIAN
METHOD:PUBLISH
X-WR-CALNAME:South Carolina UMC
X-ORIGINAL-URL:https://www.umcsc.org
X-WR-CALDESC:Events for South Carolina UMC
REFRESH-INTERVAL;VALUE=DURATION:PT1H
X-Robots-Tag:noindex
X-PUBLISHED-TTL:PT1H
BEGIN:VTIMEZONE
TZID:America/New_York
BEGIN:DAYLIGHT
TZOFFSETFROM:-0500
TZOFFSETTO:-0400
TZNAME:EDT
DTSTART:20210314T070000
END:DAYLIGHT
BEGIN:STANDARD
TZOFFSETFROM:-0400
TZOFFSETTO:-0500
TZNAME:EST
DTSTART:20211107T060000
END:STANDARD
BEGIN:DAYLIGHT
TZOFFSETFROM:-0500
TZOFFSETTO:-0400
TZNAME:EDT
DTSTART:20220313T070000
END:DAYLIGHT
BEGIN:STANDARD
TZOFFSETFROM:-0400
TZOFFSETTO:-0500
TZNAME:EST
DTSTART:20221106T060000
END:STANDARD
BEGIN:DAYLIGHT
TZOFFSETFROM:-0500
TZOFFSETTO:-0400
TZNAME:EDT
DTSTART:20230312T070000
END:DAYLIGHT
BEGIN:STANDARD
TZOFFSETFROM:-0400
TZOFFSETTO:-0500
TZNAME:EST
DTSTART:20231105T060000
END:STANDARD
BEGIN:DAYLIGHT
TZOFFSETFROM:-0500
TZOFFSETTO:-0400
TZNAME:EDT
DTSTART:20240310T070000
END:DAYLIGHT
BEGIN:STANDARD
TZOFFSETFROM:-0400
TZOFFSETTO:-0500
TZNAME:EST
DTSTART:20241103T060000
END:STANDARD
END:VTIMEZONE
BEGIN:VEVENT
DTSTART;TZID=America/New_York:20231207T100000
DTEND;TZID=America/New_York:20231207T100000
DTSTAMP:20260423T140609
CREATED:20220525T153556Z
LAST-MODIFIED:20220525T171711Z
UID:10000879-1701943200-1701943200@www.umcsc.org
SUMMARY:Board of Pension & Health Executive Committee Meeting
DESCRIPTION:
URL:https://www.umcsc.org/event/board-of-pension-health-executive-committee-meeting/
LOCATION:Zoom Meeting
CATEGORIES:Conference
END:VEVENT
BEGIN:VEVENT
DTSTART;TZID=America/New_York:20231020T100000
DTEND;TZID=America/New_York:20231020T100000
DTSTAMP:20260423T140609
CREATED:20220525T153103Z
LAST-MODIFIED:20220525T153103Z
UID:10000877-1697796000-1697796000@www.umcsc.org
SUMMARY:Board of Pension & Health Full Board Meeting
DESCRIPTION:Hybrid Meeting
URL:https://www.umcsc.org/event/board-of-pension-health-full-board-meeting-2/
LOCATION:UMCSC Upstairs Conference Room/Zoom
CATEGORIES:Conference
END:VEVENT
BEGIN:VEVENT
DTSTART;TZID=America/New_York:20230324T100000
DTEND;TZID=America/New_York:20230324T100000
DTSTAMP:20260423T140609
CREATED:20220525T151720Z
LAST-MODIFIED:20220525T151720Z
UID:10000891-1679652000-1679652000@www.umcsc.org
SUMMARY:Board of Pensions & Health Full Board Meeting
DESCRIPTION:Hybrid Meeting
URL:https://www.umcsc.org/event/board-of-pensions-health-full-board-meeting/
LOCATION:UMCSC Upstairs Conference Room/Zoom
CATEGORIES:Conference
END:VEVENT
BEGIN:VEVENT
DTSTART;TZID=America/New_York:20221208T100000
DTEND;TZID=America/New_York:20221208T100000
DTSTAMP:20260423T140609
CREATED:20220525T144023Z
LAST-MODIFIED:20220525T144023Z
UID:10000890-1670493600-1670493600@www.umcsc.org
SUMMARY:Board of Pension & Health Executive Committee
DESCRIPTION:Zoom Meeting
URL:https://www.umcsc.org/event/board-of-pension-health-executive-committee/
LOCATION:Zoom Meeting
CATEGORIES:Conference
END:VEVENT
BEGIN:VEVENT
DTSTART;TZID=America/New_York:20221110T100000
DTEND;TZID=America/New_York:20221110T100000
DTSTAMP:20260423T140609
CREATED:20220525T143709Z
LAST-MODIFIED:20220525T170445Z
UID:10000889-1668074400-1668074400@www.umcsc.org
SUMMARY:Board of Pension & Health\, Investment Sub-Committee
DESCRIPTION:Zoom Meeting
URL:https://www.umcsc.org/event/board-of-pension-health-investment-sub-committee-location/
LOCATION:Zoom Meeting
CATEGORIES:Conference
END:VEVENT
BEGIN:VEVENT
DTSTART;TZID=America/New_York:20221021T100000
DTEND;TZID=America/New_York:20221021T100000
DTSTAMP:20260423T140609
CREATED:20220525T143419Z
LAST-MODIFIED:20220525T143419Z
UID:10000888-1666346400-1666346400@www.umcsc.org
SUMMARY:Board of Pension & Health Full Board Meeting
DESCRIPTION:Hybrid Meeting:  Upstairs Conference Room/Zoom
URL:https://www.umcsc.org/event/board-of-pension-health-full-board-meeting/
LOCATION:UMCSC Upstairs Conference Room/Zoom
CATEGORIES:Conference
END:VEVENT
END:VCALENDAR