BEGIN:VCALENDAR
VERSION:2.0
PRODID:-//South Carolina UMC - ECPv6.15.20//NONSGML v1.0//EN
CALSCALE:GREGORIAN
METHOD:PUBLISH
X-WR-CALNAME:South Carolina UMC
X-ORIGINAL-URL:https://www.umcsc.org
X-WR-CALDESC:Events for South Carolina UMC
REFRESH-INTERVAL;VALUE=DURATION:PT1H
X-Robots-Tag:noindex
X-PUBLISHED-TTL:PT1H
BEGIN:VTIMEZONE
TZID:America/New_York
BEGIN:DAYLIGHT
TZOFFSETFROM:-0500
TZOFFSETTO:-0400
TZNAME:EDT
DTSTART:20190310T070000
END:DAYLIGHT
BEGIN:STANDARD
TZOFFSETFROM:-0400
TZOFFSETTO:-0500
TZNAME:EST
DTSTART:20191103T060000
END:STANDARD
BEGIN:DAYLIGHT
TZOFFSETFROM:-0500
TZOFFSETTO:-0400
TZNAME:EDT
DTSTART:20200308T070000
END:DAYLIGHT
BEGIN:STANDARD
TZOFFSETFROM:-0400
TZOFFSETTO:-0500
TZNAME:EST
DTSTART:20201101T060000
END:STANDARD
BEGIN:DAYLIGHT
TZOFFSETFROM:-0500
TZOFFSETTO:-0400
TZNAME:EDT
DTSTART:20210314T070000
END:DAYLIGHT
BEGIN:STANDARD
TZOFFSETFROM:-0400
TZOFFSETTO:-0500
TZNAME:EST
DTSTART:20211107T060000
END:STANDARD
BEGIN:DAYLIGHT
TZOFFSETFROM:-0500
TZOFFSETTO:-0400
TZNAME:EDT
DTSTART:20220313T070000
END:DAYLIGHT
BEGIN:STANDARD
TZOFFSETFROM:-0400
TZOFFSETTO:-0500
TZNAME:EST
DTSTART:20221106T060000
END:STANDARD
END:VTIMEZONE
BEGIN:VEVENT
DTSTART;VALUE=DATE:20210911
DTEND;VALUE=DATE:20210912
DTSTAMP:20260424T202403
CREATED:20200326T131742Z
LAST-MODIFIED:20200326T131742Z
UID:10000032-1631318400-1631404799@www.umcsc.org
SUMMARY:Connectional Ministries Meeting
DESCRIPTION:
URL:https://www.umcsc.org/event/connectional-ministries-meeting-6/
ORGANIZER;CN="Office of Connectional Ministries":MAILTO:gcorn@umcsc.org
END:VEVENT
BEGIN:VEVENT
DTSTART;VALUE=DATE:20210220
DTEND;VALUE=DATE:20210221
DTSTAMP:20260424T202403
CREATED:20200326T131637Z
LAST-MODIFIED:20200326T131637Z
UID:10000694-1613779200-1613865599@www.umcsc.org
SUMMARY:Connectional Ministries Meeting
DESCRIPTION:
URL:https://www.umcsc.org/event/connectional-ministries-meeting-5/
ORGANIZER;CN="Office of Connectional Ministries":MAILTO:gcorn@umcsc.org
END:VEVENT
BEGIN:VEVENT
DTSTART;VALUE=DATE:20201101
DTEND;VALUE=DATE:20201102
DTSTAMP:20260424T202403
CREATED:20190809T143141Z
LAST-MODIFIED:20190809T143141Z
UID:10000574-1604188800-1604275199@www.umcsc.org
SUMMARY:Advance Special Ministries Sunday with Offering
DESCRIPTION:
URL:https://www.umcsc.org/event/advance-special-ministries-sunday-with-offering/
ORGANIZER;CN="Office of Connectional Ministries":MAILTO:gcorn@umcsc.org
END:VEVENT
BEGIN:VEVENT
DTSTART;VALUE=DATE:20200920
DTEND;VALUE=DATE:20200921
DTSTAMP:20260424T202403
CREATED:20190809T143013Z
LAST-MODIFIED:20190809T143013Z
UID:10000572-1600560000-1600646399@www.umcsc.org
SUMMARY:Youth Service Fund Sunday with Offering
DESCRIPTION:
URL:https://www.umcsc.org/event/youth-service-fund-sunday-with-offering/
ORGANIZER;CN="Office of Connectional Ministries":MAILTO:gcorn@umcsc.org
END:VEVENT
BEGIN:VEVENT
DTSTART;TZID=America/New_York:20200215T100000
DTEND;TZID=America/New_York:20200215T140000
DTSTAMP:20260424T202403
CREATED:20191105T195358Z
LAST-MODIFIED:20191105T195358Z
UID:10001152-1581760800-1581775200@www.umcsc.org
SUMMARY:Lay Servant Ministries District Directors Meeting
DESCRIPTION:
URL:https://www.umcsc.org/event/lay-servant-ministries-district-directors-meeting-2/
LOCATION:South Carolina United Methodist Center\, Upstairs Conference Room\, 4908 Colonial Drive\, Columbia\, SC\, United States
CATEGORIES:Conference
ORGANIZER;CN="Office of Connectional Ministries":MAILTO:gcorn@umcsc.org
GEO:34.045681;-81.0275544
X-APPLE-STRUCTURED-LOCATION;VALUE=URI;X-ADDRESS=South Carolina United Methodist Center Upstairs Conference Room 4908 Colonial Drive Columbia SC United States;X-APPLE-RADIUS=500;X-TITLE=4908 Colonial Drive:geo:-81.0275544,34.045681
END:VEVENT
END:VCALENDAR