BEGIN:VCALENDAR
VERSION:2.0
PRODID:-//South Carolina UMC - ECPv6.15.20//NONSGML v1.0//EN
CALSCALE:GREGORIAN
METHOD:PUBLISH
X-WR-CALNAME:South Carolina UMC
X-ORIGINAL-URL:https://www.umcsc.org
X-WR-CALDESC:Events for South Carolina UMC
REFRESH-INTERVAL;VALUE=DURATION:PT1H
X-Robots-Tag:noindex
X-PUBLISHED-TTL:PT1H
BEGIN:VTIMEZONE
TZID:America/New_York
BEGIN:DAYLIGHT
TZOFFSETFROM:-0500
TZOFFSETTO:-0400
TZNAME:EDT
DTSTART:20220313T070000
END:DAYLIGHT
BEGIN:STANDARD
TZOFFSETFROM:-0400
TZOFFSETTO:-0500
TZNAME:EST
DTSTART:20221106T060000
END:STANDARD
BEGIN:DAYLIGHT
TZOFFSETFROM:-0500
TZOFFSETTO:-0400
TZNAME:EDT
DTSTART:20230312T070000
END:DAYLIGHT
BEGIN:STANDARD
TZOFFSETFROM:-0400
TZOFFSETTO:-0500
TZNAME:EST
DTSTART:20231105T060000
END:STANDARD
BEGIN:DAYLIGHT
TZOFFSETFROM:-0500
TZOFFSETTO:-0400
TZNAME:EDT
DTSTART:20240310T070000
END:DAYLIGHT
BEGIN:STANDARD
TZOFFSETFROM:-0400
TZOFFSETTO:-0500
TZNAME:EST
DTSTART:20241103T060000
END:STANDARD
BEGIN:DAYLIGHT
TZOFFSETFROM:-0500
TZOFFSETTO:-0400
TZNAME:EDT
DTSTART:20250309T070000
END:DAYLIGHT
BEGIN:STANDARD
TZOFFSETFROM:-0400
TZOFFSETTO:-0500
TZNAME:EST
DTSTART:20251102T060000
END:STANDARD
END:VTIMEZONE
BEGIN:VEVENT
DTSTART;TZID=America/New_York:20241029T180000
DTEND;TZID=America/New_York:20241029T190000
DTSTAMP:20260422T012814
CREATED:20240801T031209Z
LAST-MODIFIED:20240801T031209Z
UID:10003246-1730224800-1730228400@www.umcsc.org
SUMMARY:LSM School (Rock Hill District) Zoom Classes
DESCRIPTION:The Rock Hill District is offering Zoom classes on various days and times in September and October. \nClick on the links below for information and registration. \nRock Hill Fall LSM Zoom Classes 2024 \nRock Hill District Online Registration \n \n 
URL:https://www.umcsc.org/event/lsm-school-rock-hill-district-zoom-classes/2024-10-29/
LOCATION:Zoom\, SC\, United States
CATEGORIES:Lay Servant Ministries
ORGANIZER;CN="Lynne Tyner":MAILTO:kassgrandma16@gmail.com
END:VEVENT
BEGIN:VEVENT
DTSTART;TZID=America/New_York:20241022T180000
DTEND;TZID=America/New_York:20241022T190000
DTSTAMP:20260422T012814
CREATED:20240801T031209Z
LAST-MODIFIED:20240801T031209Z
UID:10003245-1729620000-1729623600@www.umcsc.org
SUMMARY:LSM School (Rock Hill District) Zoom Classes
DESCRIPTION:The Rock Hill District is offering Zoom classes on various days and times in September and October. \nClick on the links below for information and registration. \nRock Hill Fall LSM Zoom Classes 2024 \nRock Hill District Online Registration \n \n 
URL:https://www.umcsc.org/event/lsm-school-rock-hill-district-zoom-classes/2024-10-22/
LOCATION:Zoom\, SC\, United States
CATEGORIES:Lay Servant Ministries
ORGANIZER;CN="Lynne Tyner":MAILTO:kassgrandma16@gmail.com
END:VEVENT
BEGIN:VEVENT
DTSTART;TZID=America/New_York:20241015T180000
DTEND;TZID=America/New_York:20241015T190000
DTSTAMP:20260422T012814
CREATED:20240801T031209Z
LAST-MODIFIED:20240801T031209Z
UID:10003244-1729015200-1729018800@www.umcsc.org
SUMMARY:LSM School (Rock Hill District) Zoom Classes
DESCRIPTION:The Rock Hill District is offering Zoom classes on various days and times in September and October. \nClick on the links below for information and registration. \nRock Hill Fall LSM Zoom Classes 2024 \nRock Hill District Online Registration \n \n 
URL:https://www.umcsc.org/event/lsm-school-rock-hill-district-zoom-classes/2024-10-15/
LOCATION:Zoom\, SC\, United States
CATEGORIES:Lay Servant Ministries
ORGANIZER;CN="Lynne Tyner":MAILTO:kassgrandma16@gmail.com
END:VEVENT
BEGIN:VEVENT
DTSTART;TZID=America/New_York:20241008T180000
DTEND;TZID=America/New_York:20241008T190000
DTSTAMP:20260422T012814
CREATED:20240801T031209Z
LAST-MODIFIED:20240801T031209Z
UID:10003243-1728410400-1728414000@www.umcsc.org
SUMMARY:LSM School (Rock Hill District) Zoom Classes
DESCRIPTION:The Rock Hill District is offering Zoom classes on various days and times in September and October. \nClick on the links below for information and registration. \nRock Hill Fall LSM Zoom Classes 2024 \nRock Hill District Online Registration \n \n 
URL:https://www.umcsc.org/event/lsm-school-rock-hill-district-zoom-classes/2024-10-08/
LOCATION:Zoom\, SC\, United States
CATEGORIES:Lay Servant Ministries
ORGANIZER;CN="Lynne Tyner":MAILTO:kassgrandma16@gmail.com
END:VEVENT
BEGIN:VEVENT
DTSTART;TZID=America/New_York:20241006T133000
DTEND;TZID=America/New_York:20241006T163000
DTSTAMP:20260422T012814
CREATED:20240801T032325Z
LAST-MODIFIED:20240801T032325Z
UID:10003248-1728221400-1728232200@www.umcsc.org
SUMMARY:LSM School (Rock Hill District) In Person Classes
DESCRIPTION:The Rock Hill District is offering two different in person schools with various venues\, courses\, and times. \nClick on the links below for more information and a registration link \nRock Hill Fall LSM Classes 2024 \nRock Hill District Online Registration \n \n 
URL:https://www.umcsc.org/event/lsm-school-rock-hill-district-in-person-classes-2/2024-10-06/
LOCATION:Trinity United Methodist Church\, 22 E. Liberty St.\, York\, SC\, 29745\, United States
CATEGORIES:Lay Servant Ministries
ORGANIZER;CN="Lynne Tyner":MAILTO:kassgrandma16@gmail.com
GEO:33.9203943;-80.346895
X-APPLE-STRUCTURED-LOCATION;VALUE=URI;X-ADDRESS=Trinity United Methodist Church 22 E. Liberty St. York SC 29745 United States;X-APPLE-RADIUS=500;X-TITLE=22 E. Liberty St.:geo:-80.346895,33.9203943
END:VEVENT
BEGIN:VEVENT
DTSTART;TZID=America/New_York:20241005T133000
DTEND;TZID=America/New_York:20241005T163000
DTSTAMP:20260422T012814
CREATED:20240801T032325Z
LAST-MODIFIED:20240801T032325Z
UID:10003247-1728135000-1728145800@www.umcsc.org
SUMMARY:LSM School (Rock Hill District) In Person Classes
DESCRIPTION:The Rock Hill District is offering two different in person schools with various venues\, courses\, and times. \nClick on the links below for more information and a registration link \nRock Hill Fall LSM Classes 2024 \nRock Hill District Online Registration \n \n 
URL:https://www.umcsc.org/event/lsm-school-rock-hill-district-in-person-classes-2/2024-10-05/
LOCATION:Trinity United Methodist Church\, 22 E. Liberty St.\, York\, SC\, 29745\, United States
CATEGORIES:Lay Servant Ministries
ORGANIZER;CN="Lynne Tyner":MAILTO:kassgrandma16@gmail.com
GEO:33.9203943;-80.346895
X-APPLE-STRUCTURED-LOCATION;VALUE=URI;X-ADDRESS=Trinity United Methodist Church 22 E. Liberty St. York SC 29745 United States;X-APPLE-RADIUS=500;X-TITLE=22 E. Liberty St.:geo:-80.346895,33.9203943
END:VEVENT
BEGIN:VEVENT
DTSTART;TZID=America/New_York:20241001T180000
DTEND;TZID=America/New_York:20241001T190000
DTSTAMP:20260422T012814
CREATED:20240801T031209Z
LAST-MODIFIED:20240801T031209Z
UID:10003242-1727805600-1727809200@www.umcsc.org
SUMMARY:LSM School (Rock Hill District) Zoom Classes
DESCRIPTION:The Rock Hill District is offering Zoom classes on various days and times in September and October. \nClick on the links below for information and registration. \nRock Hill Fall LSM Zoom Classes 2024 \nRock Hill District Online Registration \n \n 
URL:https://www.umcsc.org/event/lsm-school-rock-hill-district-zoom-classes/2024-10-01/
LOCATION:Zoom\, SC\, United States
CATEGORIES:Lay Servant Ministries
ORGANIZER;CN="Lynne Tyner":MAILTO:kassgrandma16@gmail.com
END:VEVENT
BEGIN:VEVENT
DTSTART;TZID=America/New_York:20240924T180000
DTEND;TZID=America/New_York:20240924T190000
DTSTAMP:20260422T012814
CREATED:20240801T031209Z
LAST-MODIFIED:20240801T031209Z
UID:10003241-1727200800-1727204400@www.umcsc.org
SUMMARY:LSM School (Rock Hill District) Zoom Classes
DESCRIPTION:The Rock Hill District is offering Zoom classes on various days and times in September and October. \nClick on the links below for information and registration. \nRock Hill Fall LSM Zoom Classes 2024 \nRock Hill District Online Registration \n \n 
URL:https://www.umcsc.org/event/lsm-school-rock-hill-district-zoom-classes/2024-09-24/
LOCATION:Zoom\, SC\, United States
CATEGORIES:Lay Servant Ministries
ORGANIZER;CN="Lynne Tyner":MAILTO:kassgrandma16@gmail.com
END:VEVENT
BEGIN:VEVENT
DTSTART;TZID=America/New_York:20240918T080000
DTEND;TZID=America/New_York:20240918T183000
DTSTAMP:20260422T012814
CREATED:20240801T030655Z
LAST-MODIFIED:20240801T030655Z
UID:10002728-1726646400-1726684200@www.umcsc.org
SUMMARY:LSM School (Rock Hill District) Zoom
DESCRIPTION:The Rock Hill District is offering two Zoom Courses on various dates and times in September and October. \nClick on the links below for information and registration. \nRock Hill Fall LSM Zoom Classes 2024 \nRock Hill District Online Registration \n \n 
URL:https://www.umcsc.org/event/lsm-school-rock-hill-district-zoom/2024-09-18/
LOCATION:Zoom\, SC\, United States
CATEGORIES:Lay Servant Ministries
ORGANIZER;CN="Lynne Tyner":MAILTO:kassgrandma16@gmail.com
END:VEVENT
BEGIN:VEVENT
DTSTART;TZID=America/New_York:20240917T080000
DTEND;TZID=America/New_York:20240917T183000
DTSTAMP:20260422T012814
CREATED:20240801T030655Z
LAST-MODIFIED:20240801T030655Z
UID:10002727-1726560000-1726597800@www.umcsc.org
SUMMARY:LSM School (Rock Hill District) Zoom
DESCRIPTION:The Rock Hill District is offering two Zoom Courses on various dates and times in September and October. \nClick on the links below for information and registration. \nRock Hill Fall LSM Zoom Classes 2024 \nRock Hill District Online Registration \n \n 
URL:https://www.umcsc.org/event/lsm-school-rock-hill-district-zoom/2024-09-17/
LOCATION:Zoom\, SC\, United States
CATEGORIES:Lay Servant Ministries
ORGANIZER;CN="Lynne Tyner":MAILTO:kassgrandma16@gmail.com
END:VEVENT
BEGIN:VEVENT
DTSTART;TZID=America/New_York:20240916T080000
DTEND;TZID=America/New_York:20240916T183000
DTSTAMP:20260422T012814
CREATED:20240801T030655Z
LAST-MODIFIED:20240801T030655Z
UID:10002726-1726473600-1726511400@www.umcsc.org
SUMMARY:LSM School (Rock Hill District) Zoom
DESCRIPTION:The Rock Hill District is offering two Zoom Courses on various dates and times in September and October. \nClick on the links below for information and registration. \nRock Hill Fall LSM Zoom Classes 2024 \nRock Hill District Online Registration \n \n 
URL:https://www.umcsc.org/event/lsm-school-rock-hill-district-zoom/2024-09-16/
LOCATION:Zoom\, SC\, United States
CATEGORIES:Lay Servant Ministries
ORGANIZER;CN="Lynne Tyner":MAILTO:kassgrandma16@gmail.com
END:VEVENT
BEGIN:VEVENT
DTSTART;TZID=America/New_York:20240915T133000
DTEND;TZID=America/New_York:20240915T160000
DTSTAMP:20260422T012814
CREATED:20240801T031826Z
LAST-MODIFIED:20240801T031826Z
UID:10003250-1726407000-1726416000@www.umcsc.org
SUMMARY:LSM School (Rock Hill District) In Person Classes
DESCRIPTION:The Rock Hill District is offering two different in person schools with various venues\, courses\, and times. \nClick on the links below for more information and a registration link. \nRock Hill Fall LSM Classes 2024 \nRock Hill District Online Registration \n \n 
URL:https://www.umcsc.org/event/lsm-school-rock-hill-district-in-person-classes/2024-09-15/
LOCATION:Woodland United Methodist Church\, 801 Cherry Road\, Rock Hill\, SC\, 29732\, United States
CATEGORIES:Lay Servant Ministries
ORGANIZER;CN="Lynne Tyner":MAILTO:kassgrandma16@gmail.com
GEO:34.9462054;-81.025992
X-APPLE-STRUCTURED-LOCATION;VALUE=URI;X-ADDRESS=Woodland United Methodist Church 801 Cherry Road Rock Hill SC 29732 United States;X-APPLE-RADIUS=500;X-TITLE=801 Cherry Road:geo:-81.025992,34.9462054
END:VEVENT
BEGIN:VEVENT
DTSTART;TZID=America/New_York:20240915T080000
DTEND;TZID=America/New_York:20240915T183000
DTSTAMP:20260422T012814
CREATED:20240801T030655Z
LAST-MODIFIED:20240801T030655Z
UID:10002725-1726387200-1726425000@www.umcsc.org
SUMMARY:LSM School (Rock Hill District) Zoom
DESCRIPTION:The Rock Hill District is offering two Zoom Courses on various dates and times in September and October. \nClick on the links below for information and registration. \nRock Hill Fall LSM Zoom Classes 2024 \nRock Hill District Online Registration \n \n 
URL:https://www.umcsc.org/event/lsm-school-rock-hill-district-zoom/2024-09-15/
LOCATION:Zoom\, SC\, United States
CATEGORIES:Lay Servant Ministries
ORGANIZER;CN="Lynne Tyner":MAILTO:kassgrandma16@gmail.com
END:VEVENT
BEGIN:VEVENT
DTSTART;TZID=America/New_York:20240914T133000
DTEND;TZID=America/New_York:20240914T160000
DTSTAMP:20260422T012814
CREATED:20240801T031826Z
LAST-MODIFIED:20240801T031826Z
UID:10003249-1726320600-1726329600@www.umcsc.org
SUMMARY:LSM School (Rock Hill District) In Person Classes
DESCRIPTION:The Rock Hill District is offering two different in person schools with various venues\, courses\, and times. \nClick on the links below for more information and a registration link. \nRock Hill Fall LSM Classes 2024 \nRock Hill District Online Registration \n \n 
URL:https://www.umcsc.org/event/lsm-school-rock-hill-district-in-person-classes/2024-09-14/
LOCATION:Woodland United Methodist Church\, 801 Cherry Road\, Rock Hill\, SC\, 29732\, United States
CATEGORIES:Lay Servant Ministries
ORGANIZER;CN="Lynne Tyner":MAILTO:kassgrandma16@gmail.com
GEO:34.9462054;-81.025992
X-APPLE-STRUCTURED-LOCATION;VALUE=URI;X-ADDRESS=Woodland United Methodist Church 801 Cherry Road Rock Hill SC 29732 United States;X-APPLE-RADIUS=500;X-TITLE=801 Cherry Road:geo:-81.025992,34.9462054
END:VEVENT
BEGIN:VEVENT
DTSTART;TZID=America/New_York:20240914T080000
DTEND;TZID=America/New_York:20240914T183000
DTSTAMP:20260422T012814
CREATED:20240801T030655Z
LAST-MODIFIED:20240801T030655Z
UID:10002724-1726300800-1726338600@www.umcsc.org
SUMMARY:LSM School (Rock Hill District) Zoom
DESCRIPTION:The Rock Hill District is offering two Zoom Courses on various dates and times in September and October. \nClick on the links below for information and registration. \nRock Hill Fall LSM Zoom Classes 2024 \nRock Hill District Online Registration \n \n 
URL:https://www.umcsc.org/event/lsm-school-rock-hill-district-zoom/2024-09-14/
LOCATION:Zoom\, SC\, United States
CATEGORIES:Lay Servant Ministries
ORGANIZER;CN="Lynne Tyner":MAILTO:kassgrandma16@gmail.com
END:VEVENT
BEGIN:VEVENT
DTSTART;TZID=America/New_York:20240425T180000
DTEND;TZID=America/New_York:20240425T193000
DTSTAMP:20260422T012814
CREATED:20240306T134904Z
LAST-MODIFIED:20240306T152134Z
UID:10002721-1714068000-1714073400@www.umcsc.org
SUMMARY:LSM School (Rock Hill District)
DESCRIPTION:Rock Hill District is offering several opportunities for the Spring 2024 School.  Below is information for a special Zoom only class. \nRock Hill Zoom Class Spring 2024 \nTo register\, click on the following link: \nRock Hill District Online Registration
URL:https://www.umcsc.org/event/lsm-school-rock-hill-district-14/2024-04-25/
LOCATION:Zoom\, SC\, United States
CATEGORIES:Lay Servant Ministries
ORGANIZER;CN="Lynne Tyner":MAILTO:kassgrandma16@gmail.com
END:VEVENT
BEGIN:VEVENT
DTSTART;TZID=America/New_York:20240423T180000
DTEND;TZID=America/New_York:20240423T193000
DTSTAMP:20260422T012814
CREATED:20240306T134904Z
LAST-MODIFIED:20240306T152134Z
UID:10002720-1713895200-1713900600@www.umcsc.org
SUMMARY:LSM School (Rock Hill District)
DESCRIPTION:Rock Hill District is offering several opportunities for the Spring 2024 School.  Below is information for a special Zoom only class. \nRock Hill Zoom Class Spring 2024 \nTo register\, click on the following link: \nRock Hill District Online Registration
URL:https://www.umcsc.org/event/lsm-school-rock-hill-district-14/2024-04-23/
LOCATION:Zoom\, SC\, United States
CATEGORIES:Lay Servant Ministries
ORGANIZER;CN="Lynne Tyner":MAILTO:kassgrandma16@gmail.com
END:VEVENT
BEGIN:VEVENT
DTSTART;TZID=America/New_York:20240421T140000
DTEND;TZID=America/New_York:20240421T170000
DTSTAMP:20260422T012814
CREATED:20240306T132803Z
LAST-MODIFIED:20240306T152333Z
UID:10002711-1713708000-1713718800@www.umcsc.org
SUMMARY:LSM School (Rock Hill District)
DESCRIPTION:Rock Hill District is offering several opportunities for the Spring School.  Please see the information below for one such opportunity. \nRock Hill LSM 1 Pleasant Hill \nClick on the following link for registration: \nRock Hill District Online Registration \n \nFor more information\, contact Lynne Tyner a kassgrandma16@gmail.com \n 
URL:https://www.umcsc.org/event/lsm-school-rock-hill-district-12/2024-04-21/
LOCATION:Pleasant Hill United Methodist Church\, 238 Fort Mill Hwy.\, Indian Land\, SC\, 29707\, United States
CATEGORIES:Lay Servant Ministries
ORGANIZER;CN="Lynne Tyner":MAILTO:kassgrandma16@gmail.com
END:VEVENT
BEGIN:VEVENT
DTSTART;TZID=America/New_York:20240420T140000
DTEND;TZID=America/New_York:20240420T170000
DTSTAMP:20260422T012814
CREATED:20240306T132803Z
LAST-MODIFIED:20240306T152333Z
UID:10002710-1713621600-1713632400@www.umcsc.org
SUMMARY:LSM School (Rock Hill District)
DESCRIPTION:Rock Hill District is offering several opportunities for the Spring School.  Please see the information below for one such opportunity. \nRock Hill LSM 1 Pleasant Hill \nClick on the following link for registration: \nRock Hill District Online Registration \n \nFor more information\, contact Lynne Tyner a kassgrandma16@gmail.com \n 
URL:https://www.umcsc.org/event/lsm-school-rock-hill-district-12/2024-04-20/
LOCATION:Pleasant Hill United Methodist Church\, 238 Fort Mill Hwy.\, Indian Land\, SC\, 29707\, United States
CATEGORIES:Lay Servant Ministries
ORGANIZER;CN="Lynne Tyner":MAILTO:kassgrandma16@gmail.com
END:VEVENT
BEGIN:VEVENT
DTSTART;TZID=America/New_York:20240418T180000
DTEND;TZID=America/New_York:20240418T193000
DTSTAMP:20260422T012814
CREATED:20240306T134904Z
LAST-MODIFIED:20240306T152134Z
UID:10002719-1713463200-1713468600@www.umcsc.org
SUMMARY:LSM School (Rock Hill District)
DESCRIPTION:Rock Hill District is offering several opportunities for the Spring 2024 School.  Below is information for a special Zoom only class. \nRock Hill Zoom Class Spring 2024 \nTo register\, click on the following link: \nRock Hill District Online Registration
URL:https://www.umcsc.org/event/lsm-school-rock-hill-district-14/2024-04-18/
LOCATION:Zoom\, SC\, United States
CATEGORIES:Lay Servant Ministries
ORGANIZER;CN="Lynne Tyner":MAILTO:kassgrandma16@gmail.com
END:VEVENT
BEGIN:VEVENT
DTSTART;TZID=America/New_York:20240416T180000
DTEND;TZID=America/New_York:20240416T193000
DTSTAMP:20260422T012814
CREATED:20240306T134904Z
LAST-MODIFIED:20240306T152134Z
UID:10002718-1713290400-1713295800@www.umcsc.org
SUMMARY:LSM School (Rock Hill District)
DESCRIPTION:Rock Hill District is offering several opportunities for the Spring 2024 School.  Below is information for a special Zoom only class. \nRock Hill Zoom Class Spring 2024 \nTo register\, click on the following link: \nRock Hill District Online Registration
URL:https://www.umcsc.org/event/lsm-school-rock-hill-district-14/2024-04-16/
LOCATION:Zoom\, SC\, United States
CATEGORIES:Lay Servant Ministries
ORGANIZER;CN="Lynne Tyner":MAILTO:kassgrandma16@gmail.com
END:VEVENT
BEGIN:VEVENT
DTSTART;TZID=America/New_York:20240414T140000
DTEND;TZID=America/New_York:20240414T170000
DTSTAMP:20260422T012814
CREATED:20240306T134030Z
LAST-MODIFIED:20240306T152623Z
UID:10002715-1713103200-1713114000@www.umcsc.org
SUMMARY:LSM School (Rock Hill District)
DESCRIPTION:The Rock Hill District is offering several opportunities for the Spring Lay Servant School.  Click on the link below for one such opportunity. \nGrace Lynwood April 13 and 14\, 2024 \nClick on the following link for registration: \nRock Hill District Online Registration \n \nRock Hill District Lay Servant Ministries Spring School 2
URL:https://www.umcsc.org/event/lsm-school-rock-hill-district-13/2024-04-14/
LOCATION:Grace Lynnwood\, 1905 Country Club Drive\, Lancaster\, SC\, United States
CATEGORIES:Lay Servant Ministries
ORGANIZER;CN="Lynne Tyner":MAILTO:kassgrandma16@gmail.com
END:VEVENT
BEGIN:VEVENT
DTSTART;TZID=America/New_York:20240413T140000
DTEND;TZID=America/New_York:20240413T170000
DTSTAMP:20260422T012814
CREATED:20240306T134030Z
LAST-MODIFIED:20240306T152623Z
UID:10002714-1713016800-1713027600@www.umcsc.org
SUMMARY:LSM School (Rock Hill District)
DESCRIPTION:The Rock Hill District is offering several opportunities for the Spring Lay Servant School.  Click on the link below for one such opportunity. \nGrace Lynwood April 13 and 14\, 2024 \nClick on the following link for registration: \nRock Hill District Online Registration \n \nRock Hill District Lay Servant Ministries Spring School 2
URL:https://www.umcsc.org/event/lsm-school-rock-hill-district-13/2024-04-13/
LOCATION:Grace Lynnwood\, 1905 Country Club Drive\, Lancaster\, SC\, United States
CATEGORIES:Lay Servant Ministries
ORGANIZER;CN="Lynne Tyner":MAILTO:kassgrandma16@gmail.com
END:VEVENT
BEGIN:VEVENT
DTSTART;TZID=America/New_York:20231105T140000
DTEND;TZID=America/New_York:20231105T173000
DTSTAMP:20260422T012814
CREATED:20230901T193100Z
LAST-MODIFIED:20230901T193100Z
UID:10001442-1699192800-1699205400@www.umcsc.org
SUMMARY:LSM School (Rock Hill District)
DESCRIPTION:Rock Hill District is offering multiple sites and classes for the Fall Lay Servant School. \nPlease click on the link below for complete information and a registration link. \nRock Hill Fall School
URL:https://www.umcsc.org/event/lsm-school-rock-hill-district-11/2023-11-05/
LOCATION:St John’s UMC Rock Hill\, 321 South Oakland Ave\, Rock Hill\, SC\, United States
CATEGORIES:Lay Servant Ministries
ORGANIZER;CN="Lynne Tyner":MAILTO:kassgrandma16@gmail.com
END:VEVENT
BEGIN:VEVENT
DTSTART;TZID=America/New_York:20231104T140000
DTEND;TZID=America/New_York:20231104T173000
DTSTAMP:20260422T012814
CREATED:20230901T193100Z
LAST-MODIFIED:20230901T193100Z
UID:10001441-1699106400-1699119000@www.umcsc.org
SUMMARY:LSM School (Rock Hill District)
DESCRIPTION:Rock Hill District is offering multiple sites and classes for the Fall Lay Servant School. \nPlease click on the link below for complete information and a registration link. \nRock Hill Fall School
URL:https://www.umcsc.org/event/lsm-school-rock-hill-district-11/2023-11-04/
LOCATION:St John’s UMC Rock Hill\, 321 South Oakland Ave\, Rock Hill\, SC\, United States
CATEGORIES:Lay Servant Ministries
ORGANIZER;CN="Lynne Tyner":MAILTO:kassgrandma16@gmail.com
END:VEVENT
BEGIN:VEVENT
DTSTART;TZID=America/New_York:20231022T140000
DTEND;TZID=America/New_York:20231022T173000
DTSTAMP:20260422T012814
CREATED:20230901T192535Z
LAST-MODIFIED:20230901T192535Z
UID:10003152-1697983200-1697995800@www.umcsc.org
SUMMARY:LSM School (Rock Hill District)
DESCRIPTION:Rock Hill District is offering multiple sites and classes for the Fall Lay Servant School. \nPlease click on the link below for complete information and a registration link. \nRock Hill Fall School
URL:https://www.umcsc.org/event/lsm-school-rock-hill-district-10/2023-10-22/
LOCATION:Mt Olive UMC Rock Hill\, 1222 Ogden Rd\, Rock Hill\, SC\, 29730\, United States
CATEGORIES:Lay Servant Ministries
ORGANIZER;CN="Lynne Tyner":MAILTO:kassgrandma16@gmail.com
END:VEVENT
BEGIN:VEVENT
DTSTART;TZID=America/New_York:20231021T140000
DTEND;TZID=America/New_York:20231021T173000
DTSTAMP:20260422T012814
CREATED:20230901T192535Z
LAST-MODIFIED:20230901T192535Z
UID:10003151-1697896800-1697909400@www.umcsc.org
SUMMARY:LSM School (Rock Hill District)
DESCRIPTION:Rock Hill District is offering multiple sites and classes for the Fall Lay Servant School. \nPlease click on the link below for complete information and a registration link. \nRock Hill Fall School
URL:https://www.umcsc.org/event/lsm-school-rock-hill-district-10/2023-10-21/
LOCATION:Mt Olive UMC Rock Hill\, 1222 Ogden Rd\, Rock Hill\, SC\, 29730\, United States
CATEGORIES:Lay Servant Ministries
ORGANIZER;CN="Lynne Tyner":MAILTO:kassgrandma16@gmail.com
END:VEVENT
BEGIN:VEVENT
DTSTART;TZID=America/New_York:20231021T090000
DTEND;TZID=America/New_York:20231021T173000
DTSTAMP:20260422T012814
CREATED:20230901T191317Z
LAST-MODIFIED:20230901T191317Z
UID:10003150-1697878800-1697909400@www.umcsc.org
SUMMARY:LSM School (Rock Hill District)
DESCRIPTION:Rock Hill District is offering multiple sites and classes for the Fall Lay Servant School. \nPlease click on the link below for complete information and a registration link. \nRock Hill Fall School
URL:https://www.umcsc.org/event/lsm-school-rock-hill-district-9/2023-10-21/
LOCATION:Aldersgate UMC Rock Hill\, 2115 Celanese Road\, Rock Hill\, SC\, 29732\, United States
CATEGORIES:Lay Servant Ministries
ORGANIZER;CN="Lynne Tyner":MAILTO:kassgrandma16@gmail.com
END:VEVENT
BEGIN:VEVENT
DTSTART;TZID=America/New_York:20231007T090000
DTEND;TZID=America/New_York:20231007T173000
DTSTAMP:20260422T012814
CREATED:20230901T191317Z
LAST-MODIFIED:20230901T191317Z
UID:10003149-1696669200-1696699800@www.umcsc.org
SUMMARY:LSM School (Rock Hill District)
DESCRIPTION:Rock Hill District is offering multiple sites and classes for the Fall Lay Servant School. \nPlease click on the link below for complete information and a registration link. \nRock Hill Fall School
URL:https://www.umcsc.org/event/lsm-school-rock-hill-district-9/2023-10-07/
LOCATION:Aldersgate UMC Rock Hill\, 2115 Celanese Road\, Rock Hill\, SC\, 29732\, United States
CATEGORIES:Lay Servant Ministries
ORGANIZER;CN="Lynne Tyner":MAILTO:kassgrandma16@gmail.com
END:VEVENT
BEGIN:VEVENT
DTSTART;TZID=America/New_York:20230921T173000
DTEND;TZID=America/New_York:20230921T193000
DTSTAMP:20260422T012814
CREATED:20230901T190528Z
LAST-MODIFIED:20230901T190528Z
UID:10003170-1695317400-1695324600@www.umcsc.org
SUMMARY:LSM School (Rock Hill District)
DESCRIPTION:The Rock Hill Lay Servant Ministries is offering multiple sites and courses to allow more opportunities for involvement in ministry. \nFor complete information please click on the link below for complete information and registration link. \nRock Hill Fall School
URL:https://www.umcsc.org/event/lsm-school-rock-hill-district-8/2023-09-21/
LOCATION:Zoom\, SC\, United States
CATEGORIES:Lay Servant Ministries
ORGANIZER;CN="Lynne Tyner":MAILTO:kassgrandma16@gmail.com
END:VEVENT
END:VCALENDAR