BEGIN:VCALENDAR
VERSION:2.0
PRODID:-//South Carolina UMC - ECPv6.15.20//NONSGML v1.0//EN
CALSCALE:GREGORIAN
METHOD:PUBLISH
X-WR-CALNAME:South Carolina UMC
X-ORIGINAL-URL:https://www.umcsc.org
X-WR-CALDESC:Events for South Carolina UMC
REFRESH-INTERVAL;VALUE=DURATION:PT1H
X-Robots-Tag:noindex
X-PUBLISHED-TTL:PT1H
BEGIN:VTIMEZONE
TZID:America/New_York
BEGIN:DAYLIGHT
TZOFFSETFROM:-0500
TZOFFSETTO:-0400
TZNAME:EDT
DTSTART:20200308T070000
END:DAYLIGHT
BEGIN:STANDARD
TZOFFSETFROM:-0400
TZOFFSETTO:-0500
TZNAME:EST
DTSTART:20201101T060000
END:STANDARD
BEGIN:DAYLIGHT
TZOFFSETFROM:-0500
TZOFFSETTO:-0400
TZNAME:EDT
DTSTART:20210314T070000
END:DAYLIGHT
BEGIN:STANDARD
TZOFFSETFROM:-0400
TZOFFSETTO:-0500
TZNAME:EST
DTSTART:20211107T060000
END:STANDARD
BEGIN:DAYLIGHT
TZOFFSETFROM:-0500
TZOFFSETTO:-0400
TZNAME:EDT
DTSTART:20220313T070000
END:DAYLIGHT
BEGIN:STANDARD
TZOFFSETFROM:-0400
TZOFFSETTO:-0500
TZNAME:EST
DTSTART:20221106T060000
END:STANDARD
END:VTIMEZONE
BEGIN:VEVENT
DTSTART;TZID=America/New_York:20211109T183000
DTEND;TZID=America/New_York:20211109T203000
DTSTAMP:20260419T233537
CREATED:20211004T215347Z
LAST-MODIFIED:20211004T215347Z
UID:10003103-1636482600-1636489800@www.umcsc.org
SUMMARY:LSM School (Greenville District)
DESCRIPTION:Greenville LSM 2021 Fall_School_Registration_Letter \nThis course is: Lay Servants as Christian Transformational Leaders \nOptional Zoom Test:  Nov. 1 6:30 pm to 7:30 pm. \nClass dates: Nov 2\, 8\, 9\, 15\, and 16   6:30 pm – 8:30 pm \nClick on the link for more information and registration.
URL:https://www.umcsc.org/event/lsm-school-greenville-district-9/2021-11-09/
LOCATION:Zoom Meeting
CATEGORIES:Lay Servant Ministries
ORGANIZER;CN="Kenneth Moore":MAILTO:kmoore8311@outlook.com
END:VEVENT
BEGIN:VEVENT
DTSTART;TZID=America/New_York:20211108T183000
DTEND;TZID=America/New_York:20211108T203000
DTSTAMP:20260419T233537
CREATED:20211004T215347Z
LAST-MODIFIED:20211004T215347Z
UID:10003102-1636396200-1636403400@www.umcsc.org
SUMMARY:LSM School (Greenville District)
DESCRIPTION:Greenville LSM 2021 Fall_School_Registration_Letter \nThis course is: Lay Servants as Christian Transformational Leaders \nOptional Zoom Test:  Nov. 1 6:30 pm to 7:30 pm. \nClass dates: Nov 2\, 8\, 9\, 15\, and 16   6:30 pm – 8:30 pm \nClick on the link for more information and registration.
URL:https://www.umcsc.org/event/lsm-school-greenville-district-9/2021-11-08/
LOCATION:Zoom Meeting
CATEGORIES:Lay Servant Ministries
ORGANIZER;CN="Kenneth Moore":MAILTO:kmoore8311@outlook.com
END:VEVENT
BEGIN:VEVENT
DTSTART;TZID=America/New_York:20211106T090000
DTEND;TZID=America/New_York:20211106T113000
DTSTAMP:20260419T233537
CREATED:20211004T214348Z
LAST-MODIFIED:20211004T214348Z
UID:10003183-1636189200-1636198200@www.umcsc.org
SUMMARY:LSM School (Greenville District)
DESCRIPTION:Greenville LSM 2021 Fall_School_Registration_Letter \nThis course is Leading Worship and you may view the information and registration information by clicking on the link.
URL:https://www.umcsc.org/event/lsm-school-greenville-district-7/2021-11-06/
LOCATION:Virtual
CATEGORIES:Lay Servant Ministries
ORGANIZER;CN="Kenneth Moore":MAILTO:kmoore8311@outlook.com
END:VEVENT
BEGIN:VEVENT
DTSTART;TZID=America/New_York:20211104T183000
DTEND;TZID=America/New_York:20211104T203000
DTSTAMP:20260419T233537
CREATED:20211004T220821Z
LAST-MODIFIED:20211004T220821Z
UID:10001143-1636050600-1636057800@www.umcsc.org
SUMMARY:LSM School (Greenville District)
DESCRIPTION:Greenville LSM 2021 Fall_School_Registration_Letter \nThis course is:  Afire with God \nOptional Zoom Test  on Nov. 2\, 6:30 pm – 7:30 pm \nClass Dates:  Nov 4\, 9\, 11\, 16\, 18  6:30 pm – 8:30 pm \nFor more information and registration\, click on the link.
URL:https://www.umcsc.org/event/lsm-school-greenville-district-11/
LOCATION:Zoom Meeting
CATEGORIES:Lay Servant Ministries
ORGANIZER;CN="Kenneth Moore":MAILTO:kmoore8311@outlook.com
END:VEVENT
BEGIN:VEVENT
DTSTART;TZID=America/New_York:20211102T183000
DTEND;TZID=America/New_York:20211102T203000
DTSTAMP:20260419T233537
CREATED:20211004T215116Z
LAST-MODIFIED:20211004T215116Z
UID:10003181-1635877800-1635885000@www.umcsc.org
SUMMARY:LSM School (Greenville District)
DESCRIPTION:Greenville LSM 2021 Fall_School_Registration_Letter \nThis course is: Lay Servants as Christian Transformational Leaders \nOptional Zoom Test:  Nov. 1 6:30 pm to 7:30 pm. \nClass dates: Nov 2\, 8\, 9\, 15\, and 16   6:30 pm – 8:30 pm \nClick on the link for more information and registration.
URL:https://www.umcsc.org/event/lsm-school-greenville-district-8/
LOCATION:Zoom Meeting
CATEGORIES:Lay Servant Ministries
ORGANIZER;CN="Kenneth Moore":MAILTO:kmoore8311@outlook.com
END:VEVENT
BEGIN:VEVENT
DTSTART;TZID=America/New_York:20211030T090000
DTEND;TZID=America/New_York:20211030T113000
DTSTAMP:20260419T233537
CREATED:20211004T214348Z
LAST-MODIFIED:20211004T214348Z
UID:10003182-1635584400-1635593400@www.umcsc.org
SUMMARY:LSM School (Greenville District)
DESCRIPTION:Greenville LSM 2021 Fall_School_Registration_Letter \nThis course is Leading Worship and you may view the information and registration information by clicking on the link.
URL:https://www.umcsc.org/event/lsm-school-greenville-district-7/2021-10-30/
LOCATION:Virtual
CATEGORIES:Lay Servant Ministries
ORGANIZER;CN="Kenneth Moore":MAILTO:kmoore8311@outlook.com
END:VEVENT
END:VCALENDAR