BEGIN:VCALENDAR
VERSION:2.0
PRODID:-//South Carolina UMC - ECPv6.15.20//NONSGML v1.0//EN
CALSCALE:GREGORIAN
METHOD:PUBLISH
X-ORIGINAL-URL:https://www.umcsc.org
X-WR-CALDESC:Events for South Carolina UMC
REFRESH-INTERVAL;VALUE=DURATION:PT1H
X-Robots-Tag:noindex
X-PUBLISHED-TTL:PT1H
BEGIN:VTIMEZONE
TZID:America/New_York
BEGIN:DAYLIGHT
TZOFFSETFROM:-0500
TZOFFSETTO:-0400
TZNAME:EDT
DTSTART:20200308T070000
END:DAYLIGHT
BEGIN:STANDARD
TZOFFSETFROM:-0400
TZOFFSETTO:-0500
TZNAME:EST
DTSTART:20201101T060000
END:STANDARD
BEGIN:DAYLIGHT
TZOFFSETFROM:-0500
TZOFFSETTO:-0400
TZNAME:EDT
DTSTART:20210314T070000
END:DAYLIGHT
BEGIN:STANDARD
TZOFFSETFROM:-0400
TZOFFSETTO:-0500
TZNAME:EST
DTSTART:20211107T060000
END:STANDARD
BEGIN:DAYLIGHT
TZOFFSETFROM:-0500
TZOFFSETTO:-0400
TZNAME:EDT
DTSTART:20220313T070000
END:DAYLIGHT
BEGIN:STANDARD
TZOFFSETFROM:-0400
TZOFFSETTO:-0500
TZNAME:EST
DTSTART:20221106T060000
END:STANDARD
BEGIN:DAYLIGHT
TZOFFSETFROM:-0500
TZOFFSETTO:-0400
TZNAME:EDT
DTSTART:20230312T070000
END:DAYLIGHT
BEGIN:STANDARD
TZOFFSETFROM:-0400
TZOFFSETTO:-0500
TZNAME:EST
DTSTART:20231105T060000
END:STANDARD
BEGIN:DAYLIGHT
TZOFFSETFROM:-0500
TZOFFSETTO:-0400
TZNAME:EDT
DTSTART:20240310T070000
END:DAYLIGHT
BEGIN:STANDARD
TZOFFSETFROM:-0400
TZOFFSETTO:-0500
TZNAME:EST
DTSTART:20241103T060000
END:STANDARD
BEGIN:DAYLIGHT
TZOFFSETFROM:-0500
TZOFFSETTO:-0400
TZNAME:EDT
DTSTART:20250309T070000
END:DAYLIGHT
BEGIN:STANDARD
TZOFFSETFROM:-0400
TZOFFSETTO:-0500
TZNAME:EST
DTSTART:20251102T060000
END:STANDARD
BEGIN:DAYLIGHT
TZOFFSETFROM:-0500
TZOFFSETTO:-0400
TZNAME:EDT
DTSTART:20260308T070000
END:DAYLIGHT
BEGIN:STANDARD
TZOFFSETFROM:-0400
TZOFFSETTO:-0500
TZNAME:EST
DTSTART:20261101T060000
END:STANDARD
BEGIN:DAYLIGHT
TZOFFSETFROM:-0500
TZOFFSETTO:-0400
TZNAME:EDT
DTSTART:20270314T070000
END:DAYLIGHT
BEGIN:STANDARD
TZOFFSETFROM:-0400
TZOFFSETTO:-0500
TZNAME:EST
DTSTART:20271107T060000
END:STANDARD
END:VTIMEZONE
BEGIN:VEVENT
DTSTART;TZID=America/New_York:20260322T143000
DTEND;TZID=America/New_York:20260322T170000
DTSTAMP:20260420T104117
CREATED:20260202T035533Z
LAST-MODIFIED:20260202T035659Z
UID:10003293-1774189800-1774198800@www.umcsc.org
SUMMARY:LSM School (Charleston District)
DESCRIPTION:The Charleston District is offering a lay servant school March 21st and 22nd at St. James UMC in Goose Creek.  Please click on the link below for full details\, times\, cost\, courses offered\, and registration information.  The deadline to register is March 4\, 2026. \n2026 Spring I Session Registration Form
URL:https://www.umcsc.org/event/lsm-school-charleston-district-13/2026-03-22/
LOCATION:St James United Methodist Church\, 512 St. James Avenue\, Goose Creek\, SC\, 29445\, United States
CATEGORIES:Lay Servant Ministries
ORGANIZER;CN="Constance Wilborn":MAILTO:layservantscharlestondistrict@gmail.com
END:VEVENT
BEGIN:VEVENT
DTSTART;TZID=America/New_York:20260321T090000
DTEND;TZID=America/New_York:20260321T170000
DTSTAMP:20260420T104117
CREATED:20260202T035533Z
LAST-MODIFIED:20260202T035659Z
UID:10003292-1774083600-1774112400@www.umcsc.org
SUMMARY:LSM School (Charleston District)
DESCRIPTION:The Charleston District is offering a lay servant school March 21st and 22nd at St. James UMC in Goose Creek.  Please click on the link below for full details\, times\, cost\, courses offered\, and registration information.  The deadline to register is March 4\, 2026. \n2026 Spring I Session Registration Form
URL:https://www.umcsc.org/event/lsm-school-charleston-district-13/2026-03-21/
LOCATION:St James United Methodist Church\, 512 St. James Avenue\, Goose Creek\, SC\, 29445\, United States
CATEGORIES:Lay Servant Ministries
ORGANIZER;CN="Constance Wilborn":MAILTO:layservantscharlestondistrict@gmail.com
END:VEVENT
BEGIN:VEVENT
DTSTART;TZID=America/New_York:20251109T143000
DTEND;TZID=America/New_York:20251109T170000
DTSTAMP:20260420T104117
CREATED:20250909T001322Z
LAST-MODIFIED:20250909T001322Z
UID:10003283-1762698600-1762707600@www.umcsc.org
SUMMARY:LSM School (Charleston District)
DESCRIPTION:The Charleston District Lay Servant School will be November 8th and 9th at Stallsville UMC in Summerville. \nThe deadline for registration is October 15\, 2025. \nFor complete information\, course offerings\, and registration information\, please click on the link below: \nCharleston District LSM School 2025 Fall II Session Registration Form
URL:https://www.umcsc.org/event/lsm-school-charleston-district-29/2025-11-09/
LOCATION:Stallsville UMC\, 255 Stallsville Loop\, Summerville\, SC\, 29485\, United States
CATEGORIES:Lay Servant Ministries
ORGANIZER;CN="Constance Wilborn":MAILTO:layservantscharlestondistrict@gmail.com
END:VEVENT
BEGIN:VEVENT
DTSTART;TZID=America/New_York:20251108T143000
DTEND;TZID=America/New_York:20251108T170000
DTSTAMP:20260420T104117
CREATED:20250909T001322Z
LAST-MODIFIED:20250909T001322Z
UID:10003282-1762612200-1762621200@www.umcsc.org
SUMMARY:LSM School (Charleston District)
DESCRIPTION:The Charleston District Lay Servant School will be November 8th and 9th at Stallsville UMC in Summerville. \nThe deadline for registration is October 15\, 2025. \nFor complete information\, course offerings\, and registration information\, please click on the link below: \nCharleston District LSM School 2025 Fall II Session Registration Form
URL:https://www.umcsc.org/event/lsm-school-charleston-district-29/2025-11-08/
LOCATION:Stallsville UMC\, 255 Stallsville Loop\, Summerville\, SC\, 29485\, United States
CATEGORIES:Lay Servant Ministries
ORGANIZER;CN="Constance Wilborn":MAILTO:layservantscharlestondistrict@gmail.com
END:VEVENT
BEGIN:VEVENT
DTSTART;TZID=America/New_York:20250907T143000
DTEND;TZID=America/New_York:20250907T170000
DTSTAMP:20260420T104117
CREATED:20250716T203659Z
LAST-MODIFIED:20250722T221253Z
UID:10003113-1757255400-1757264400@www.umcsc.org
SUMMARY:LSM School (Charleston District)
DESCRIPTION:The Charleston District will offer Lay Servant School on September 6 & 7\, 2025 at Cokesbury UMC. \nThe cost is $30 and is non refundable.  Please click on the link below for full information and registration materials. \nDeadline for Registration is August 15\, 2025 \nCharleston District 2025 Fall 1 Session Registration Form
URL:https://www.umcsc.org/event/lsm-school-charleston-district-28/2025-09-07/
LOCATION:Cokesbury United Methodist Church\, 4990 Dorchester Road\, North Charleston\, SC\, 29418\, United States
CATEGORIES:Lay Servant Ministries
ORGANIZER;CN="Constance Wilborn":MAILTO:layservantscharlestondistrict@gmail.com
END:VEVENT
BEGIN:VEVENT
DTSTART;TZID=America/New_York:20250906T143000
DTEND;TZID=America/New_York:20250906T170000
DTSTAMP:20260420T104117
CREATED:20250716T203659Z
LAST-MODIFIED:20250722T221253Z
UID:10003112-1757169000-1757178000@www.umcsc.org
SUMMARY:LSM School (Charleston District)
DESCRIPTION:The Charleston District will offer Lay Servant School on September 6 & 7\, 2025 at Cokesbury UMC. \nThe cost is $30 and is non refundable.  Please click on the link below for full information and registration materials. \nDeadline for Registration is August 15\, 2025 \nCharleston District 2025 Fall 1 Session Registration Form
URL:https://www.umcsc.org/event/lsm-school-charleston-district-28/2025-09-06/
LOCATION:Cokesbury United Methodist Church\, 4990 Dorchester Road\, North Charleston\, SC\, 29418\, United States
CATEGORIES:Lay Servant Ministries
ORGANIZER;CN="Constance Wilborn":MAILTO:layservantscharlestondistrict@gmail.com
END:VEVENT
BEGIN:VEVENT
DTSTART;TZID=America/New_York:20250309T143000
DTEND;TZID=America/New_York:20250309T170000
DTSTAMP:20260420T104117
CREATED:20250122T010507Z
LAST-MODIFIED:20250122T010507Z
UID:10002696-1741530600-1741539600@www.umcsc.org
SUMMARY:LSM School (Charleston District)
DESCRIPTION:Charleston District Lay Servant Ministries Spring II  March 8 & 9\, 2025 \nRegistration Deadline is February 20\, 2025 \nPlease click on the link below for complete information and registration form. \nCharleston District 2025 Spring II Session Registration Form
URL:https://www.umcsc.org/event/lsm-school-charleston-district-27/2025-03-09/
LOCATION:Cokesbury United Methodist Church\, 4990 Dorchester Road\, North Charleston\, SC\, 29418\, United States
CATEGORIES:Lay Servant Ministries
ORGANIZER;CN="Constance Wilborn":MAILTO:layservantscharlestondistrict@gmail.com
END:VEVENT
BEGIN:VEVENT
DTSTART;TZID=America/New_York:20250308T143000
DTEND;TZID=America/New_York:20250308T170000
DTSTAMP:20260420T104117
CREATED:20250122T010507Z
LAST-MODIFIED:20250122T010507Z
UID:10002695-1741444200-1741453200@www.umcsc.org
SUMMARY:LSM School (Charleston District)
DESCRIPTION:Charleston District Lay Servant Ministries Spring II  March 8 & 9\, 2025 \nRegistration Deadline is February 20\, 2025 \nPlease click on the link below for complete information and registration form. \nCharleston District 2025 Spring II Session Registration Form
URL:https://www.umcsc.org/event/lsm-school-charleston-district-27/2025-03-08/
LOCATION:Cokesbury United Methodist Church\, 4990 Dorchester Road\, North Charleston\, SC\, 29418\, United States
CATEGORIES:Lay Servant Ministries
ORGANIZER;CN="Constance Wilborn":MAILTO:layservantscharlestondistrict@gmail.com
END:VEVENT
BEGIN:VEVENT
DTSTART;TZID=America/New_York:20250223T140000
DTEND;TZID=America/New_York:20250223T160000
DTSTAMP:20260420T104117
CREATED:20250110T003328Z
LAST-MODIFIED:20250110T003328Z
UID:10003271-1740319200-1740326400@www.umcsc.org
SUMMARY:LSM School (Charleston District)
DESCRIPTION:February 22nd and 23rd\, 2025  (Basic Course only) \nDeadline for Registration is February 5\, 2025 \nPlease click on the link below for complete information and registration form. \nCharleston District 2025 February Spring 1 Session Registration Form
URL:https://www.umcsc.org/event/lsm-school-charleston-district-26/2025-02-23/
LOCATION:Smyrna United Methodist Church\, 882 Burnt Factory Rd.\, Bennettsville\, SC\, United States
CATEGORIES:Lay Servant Ministries
ORGANIZER;CN="Constance Wilborn":MAILTO:layservantscharlestondistrict@gmail.com
END:VEVENT
BEGIN:VEVENT
DTSTART;TZID=America/New_York:20250222T140000
DTEND;TZID=America/New_York:20250222T160000
DTSTAMP:20260420T104117
CREATED:20250110T003328Z
LAST-MODIFIED:20250110T003328Z
UID:10003270-1740232800-1740240000@www.umcsc.org
SUMMARY:LSM School (Charleston District)
DESCRIPTION:February 22nd and 23rd\, 2025  (Basic Course only) \nDeadline for Registration is February 5\, 2025 \nPlease click on the link below for complete information and registration form. \nCharleston District 2025 February Spring 1 Session Registration Form
URL:https://www.umcsc.org/event/lsm-school-charleston-district-26/2025-02-22/
LOCATION:Smyrna United Methodist Church\, 882 Burnt Factory Rd.\, Bennettsville\, SC\, United States
CATEGORIES:Lay Servant Ministries
ORGANIZER;CN="Constance Wilborn":MAILTO:layservantscharlestondistrict@gmail.com
END:VEVENT
BEGIN:VEVENT
DTSTART;TZID=America/New_York:20240915T143000
DTEND;TZID=America/New_York:20240915T170000
DTSTAMP:20260420T104118
CREATED:20240802T030424Z
LAST-MODIFIED:20240802T030424Z
UID:10003252-1726410600-1726419600@www.umcsc.org
SUMMARY:LSM School (Charleston District)
DESCRIPTION:Charleston District Fall 2024 Lay Servant School September 14 & 15\, 2024 \nRegistration deadline is August 31\, 2024 No online registration\, you must download the form and mail. \nClick on the link below for full information about classes and to download a registration form. \nCharleston District 2024 Fall 1 Session Registration Form_In-person Classes
URL:https://www.umcsc.org/event/lsm-school-charleston-district-25/2024-09-15/
LOCATION:Cokesbury United Methodist Church\, 4990 Dorchester Road\, North Charleston\, SC\, 29418\, United States
CATEGORIES:Lay Servant Ministries
ORGANIZER;CN="Constance Wilborn":MAILTO:layservantscharlestondistrict@gmail.com
END:VEVENT
BEGIN:VEVENT
DTSTART;TZID=America/New_York:20240914T143000
DTEND;TZID=America/New_York:20240914T170000
DTSTAMP:20260420T104118
CREATED:20240802T030424Z
LAST-MODIFIED:20240802T030424Z
UID:10003251-1726324200-1726333200@www.umcsc.org
SUMMARY:LSM School (Charleston District)
DESCRIPTION:Charleston District Fall 2024 Lay Servant School September 14 & 15\, 2024 \nRegistration deadline is August 31\, 2024 No online registration\, you must download the form and mail. \nClick on the link below for full information about classes and to download a registration form. \nCharleston District 2024 Fall 1 Session Registration Form_In-person Classes
URL:https://www.umcsc.org/event/lsm-school-charleston-district-25/2024-09-14/
LOCATION:Cokesbury United Methodist Church\, 4990 Dorchester Road\, North Charleston\, SC\, 29418\, United States
CATEGORIES:Lay Servant Ministries
ORGANIZER;CN="Constance Wilborn":MAILTO:layservantscharlestondistrict@gmail.com
END:VEVENT
BEGIN:VEVENT
DTSTART;TZID=America/New_York:20240413T083000
DTEND;TZID=America/New_York:20240413T180000
DTSTAMP:20260420T104118
CREATED:20240311T005727Z
LAST-MODIFIED:20240311T005727Z
UID:10003269-1712997000-1713031200@www.umcsc.org
SUMMARY:LSM School (Charleston District One Day School Spring 2024)
DESCRIPTION:Charleston District\, April 13\, 2024 One Day Lay Servant School \nFor details and registration\, please click on the link below. \nCharleston District 2024 Spring 2 Session Registration Form_One Day Classes
URL:https://www.umcsc.org/event/lsm-school-charleston-district-one-day-school-spring-2024/
LOCATION:Steward Chapel United Methodist Church\, 2469 Cainhoy Road\, Huger\, SC\, 29450\, United States
ORGANIZER;CN="Constance Wilborn":MAILTO:layservantscharlestondistrict@gmail.com
END:VEVENT
BEGIN:VEVENT
DTSTART;TZID=America/New_York:20240317T143000
DTEND;TZID=America/New_York:20240317T170000
DTSTAMP:20260420T104118
CREATED:20240209T163750Z
LAST-MODIFIED:20240209T163750Z
UID:10003264-1710685800-1710694800@www.umcsc.org
SUMMARY:LSM School (Charleston District)
DESCRIPTION:March 16 & 17\, 2024 \nCokesbury United Methodist Church \nFull details and registration form are in the link below.  Deadline for registration is February 27\, 2024 \nCharleston District Spring 2024 Lay Servant School
URL:https://www.umcsc.org/event/lsm-school-charleston-district-24/2024-03-17/
LOCATION:Cokesbury United Methodist Church\, 4990 Dorchester Road\, North Charleston\, SC\, 29418\, United States
CATEGORIES:Lay Servant Ministries
ORGANIZER;CN="Constance Wilborn":MAILTO:layservantscharlestondistrict@gmail.com
END:VEVENT
BEGIN:VEVENT
DTSTART;TZID=America/New_York:20240316T143000
DTEND;TZID=America/New_York:20240316T170000
DTSTAMP:20260420T104118
CREATED:20240209T163750Z
LAST-MODIFIED:20240209T163750Z
UID:10003263-1710599400-1710608400@www.umcsc.org
SUMMARY:LSM School (Charleston District)
DESCRIPTION:March 16 & 17\, 2024 \nCokesbury United Methodist Church \nFull details and registration form are in the link below.  Deadline for registration is February 27\, 2024 \nCharleston District Spring 2024 Lay Servant School
URL:https://www.umcsc.org/event/lsm-school-charleston-district-24/2024-03-16/
LOCATION:Cokesbury United Methodist Church\, 4990 Dorchester Road\, North Charleston\, SC\, 29418\, United States
CATEGORIES:Lay Servant Ministries
ORGANIZER;CN="Constance Wilborn":MAILTO:layservantscharlestondistrict@gmail.com
END:VEVENT
BEGIN:VEVENT
DTSTART;TZID=America/New_York:20231112T143000
DTEND;TZID=America/New_York:20231112T170000
DTSTAMP:20260420T104118
CREATED:20231011T141016Z
LAST-MODIFIED:20231011T141016Z
UID:10003258-1699799400-1699808400@www.umcsc.org
SUMMARY:LSM School (Charleston District)
DESCRIPTION:Charleston District Lay Servant School \nNovember 11\, 2023 – November 12\, 2023 \nRegistration Deadline is October 31\, 2023 \nCokesbury United Methodist Church \nPlease Click on the link below for complete information and registration. \nCharleston District LSM November School
URL:https://www.umcsc.org/event/lsm-school-charleston-district-23/2023-11-12/
LOCATION:Cokesbury United Methodist Church\, 4990 Dorchester Road\, North Charleston\, SC\, 29418\, United States
CATEGORIES:Lay Servant Ministries
ORGANIZER;CN="Constance Wilborn":MAILTO:layservantscharlestondistrict@gmail.com
END:VEVENT
BEGIN:VEVENT
DTSTART;TZID=America/New_York:20231111T143000
DTEND;TZID=America/New_York:20231111T170000
DTSTAMP:20260420T104118
CREATED:20231011T141016Z
LAST-MODIFIED:20231011T141016Z
UID:10003257-1699713000-1699722000@www.umcsc.org
SUMMARY:LSM School (Charleston District)
DESCRIPTION:Charleston District Lay Servant School \nNovember 11\, 2023 – November 12\, 2023 \nRegistration Deadline is October 31\, 2023 \nCokesbury United Methodist Church \nPlease Click on the link below for complete information and registration. \nCharleston District LSM November School
URL:https://www.umcsc.org/event/lsm-school-charleston-district-23/2023-11-11/
LOCATION:Cokesbury United Methodist Church\, 4990 Dorchester Road\, North Charleston\, SC\, 29418\, United States
CATEGORIES:Lay Servant Ministries
ORGANIZER;CN="Constance Wilborn":MAILTO:layservantscharlestondistrict@gmail.com
END:VEVENT
BEGIN:VEVENT
DTSTART;TZID=America/New_York:20230930T083000
DTEND;TZID=America/New_York:20230930T183000
DTSTAMP:20260420T104118
CREATED:20230729T031638Z
LAST-MODIFIED:20230729T031638Z
UID:10003180-1696062600-1696098600@www.umcsc.org
SUMMARY:LSM School (Charleston District)
DESCRIPTION:One Day Lay Servant School (United Methodist Heritage Class) \nSeptember 30\, 2023  8:30 am – 6:00 pm \nRegistration Deadline is Wednesday\, September 6\, 2023 \nClick on the link below for location\, details\, and registration form. \nCharleston District One Day Lay Servant School September
URL:https://www.umcsc.org/event/lsm-school-charleston-district-22/
LOCATION:Eccles United Methodist Church\, 1696 Eccles Church Road\, Huger\, SC\, 29450\, United States
CATEGORIES:Lay Servant Ministries
ORGANIZER;CN="Constance Wilborn":MAILTO:layservantscharlestondistrict@gmail.com
END:VEVENT
BEGIN:VEVENT
DTSTART;TZID=America/New_York:20230518T183000
DTEND;TZID=America/New_York:20230518T210000
DTSTAMP:20260420T104118
CREATED:20230321T161149Z
LAST-MODIFIED:20230321T161149Z
UID:10003177-1684434600-1684443600@www.umcsc.org
SUMMARY:LSM School (Charleston District)
DESCRIPTION:Charleston District Lay Servant Ministries School \nMay 9\, 11\, 16\, and 18\, 2023  6:30 pm – 9:00 pm  Zoom \nFor complete information and registration\, please click on the link below. \nCharleston District LSM Spring 2023 Classes
URL:https://www.umcsc.org/event/lsm-school-charleston-district-21/2023-05-18/
LOCATION:Zoom\, SC\, United States
CATEGORIES:Lay Servant Ministries
ORGANIZER;CN="Constance Wilborn":MAILTO:layservantscharlestondistrict@gmail.com
END:VEVENT
BEGIN:VEVENT
DTSTART;TZID=America/New_York:20230516T183000
DTEND;TZID=America/New_York:20230516T210000
DTSTAMP:20260420T104118
CREATED:20230321T161149Z
LAST-MODIFIED:20230321T161149Z
UID:10003176-1684261800-1684270800@www.umcsc.org
SUMMARY:LSM School (Charleston District)
DESCRIPTION:Charleston District Lay Servant Ministries School \nMay 9\, 11\, 16\, and 18\, 2023  6:30 pm – 9:00 pm  Zoom \nFor complete information and registration\, please click on the link below. \nCharleston District LSM Spring 2023 Classes
URL:https://www.umcsc.org/event/lsm-school-charleston-district-21/2023-05-16/
LOCATION:Zoom\, SC\, United States
CATEGORIES:Lay Servant Ministries
ORGANIZER;CN="Constance Wilborn":MAILTO:layservantscharlestondistrict@gmail.com
END:VEVENT
BEGIN:VEVENT
DTSTART;TZID=America/New_York:20230511T183000
DTEND;TZID=America/New_York:20230511T210000
DTSTAMP:20260420T104118
CREATED:20230321T161149Z
LAST-MODIFIED:20230321T161149Z
UID:10003175-1683829800-1683838800@www.umcsc.org
SUMMARY:LSM School (Charleston District)
DESCRIPTION:Charleston District Lay Servant Ministries School \nMay 9\, 11\, 16\, and 18\, 2023  6:30 pm – 9:00 pm  Zoom \nFor complete information and registration\, please click on the link below. \nCharleston District LSM Spring 2023 Classes
URL:https://www.umcsc.org/event/lsm-school-charleston-district-21/2023-05-11/
LOCATION:Zoom\, SC\, United States
CATEGORIES:Lay Servant Ministries
ORGANIZER;CN="Constance Wilborn":MAILTO:layservantscharlestondistrict@gmail.com
END:VEVENT
BEGIN:VEVENT
DTSTART;TZID=America/New_York:20230509T183000
DTEND;TZID=America/New_York:20230509T210000
DTSTAMP:20260420T104118
CREATED:20230321T161149Z
LAST-MODIFIED:20230321T161149Z
UID:10003174-1683657000-1683666000@www.umcsc.org
SUMMARY:LSM School (Charleston District)
DESCRIPTION:Charleston District Lay Servant Ministries School \nMay 9\, 11\, 16\, and 18\, 2023  6:30 pm – 9:00 pm  Zoom \nFor complete information and registration\, please click on the link below. \nCharleston District LSM Spring 2023 Classes
URL:https://www.umcsc.org/event/lsm-school-charleston-district-21/2023-05-09/
LOCATION:Zoom\, SC\, United States
CATEGORIES:Lay Servant Ministries
ORGANIZER;CN="Constance Wilborn":MAILTO:layservantscharlestondistrict@gmail.com
END:VEVENT
BEGIN:VEVENT
DTSTART;TZID=America/New_York:20221103T183000
DTEND;TZID=America/New_York:20221103T210000
DTSTAMP:20260420T104118
CREATED:20220831T120823Z
LAST-MODIFIED:20220831T120823Z
UID:10003224-1667500200-1667509200@www.umcsc.org
SUMMARY:LSM School (Charleston District)
DESCRIPTION:October 25\, 27\, November 1\, November 3\, 2022 by Zoom \nClick on the link below for complete information and registration.  Deadline for registration is September 27\, 2022. \nCharleston District Fall 2022 Zoom
URL:https://www.umcsc.org/event/lsm-school-charleston-district-20/
LOCATION:Zoom\, SC\, United States
CATEGORIES:Lay Servant Ministries
ORGANIZER;CN="Constance Wilborn":MAILTO:layservantscharlestondistrict@gmail.com
END:VEVENT
BEGIN:VEVENT
DTSTART;TZID=America/New_York:20221101T183000
DTEND;TZID=America/New_York:20221101T210000
DTSTAMP:20260420T104118
CREATED:20220831T120640Z
LAST-MODIFIED:20220831T120640Z
UID:10003223-1667327400-1667336400@www.umcsc.org
SUMMARY:LSM School (Charleston District)
DESCRIPTION:October 25\, 27\, November 1\, November 3\, 2022 by Zoom \nClick on the link below for complete information and registration.  Deadline for registration is September 27\, 2022. \nCharleston District Fall 2022 Zoom
URL:https://www.umcsc.org/event/lsm-school-charleston-district-19/
LOCATION:Zoom\, SC\, United States
CATEGORIES:Lay Servant Ministries
ORGANIZER;CN="Constance Wilborn":MAILTO:layservantscharlestondistrict@gmail.com
END:VEVENT
BEGIN:VEVENT
DTSTART;TZID=America/New_York:20221027T183000
DTEND;TZID=America/New_York:20221027T210000
DTSTAMP:20260420T104118
CREATED:20220831T120458Z
LAST-MODIFIED:20220831T120458Z
UID:10003222-1666895400-1666904400@www.umcsc.org
SUMMARY:LSM School (Charleston District)
DESCRIPTION:October 25\, 27\, November 1\, November 3\, 2022 by Zoom \nClick on the link below for complete information and registration.  Deadline for registration is September 27\, 2022. \nCharleston District Fall 2022 Zoom
URL:https://www.umcsc.org/event/lsm-school-charleston-district-18/
LOCATION:Zoom\, SC\, United States
CATEGORIES:Lay Servant Ministries
ORGANIZER;CN="Constance Wilborn":MAILTO:layservantscharlestondistrict@gmail.com
END:VEVENT
BEGIN:VEVENT
DTSTART;TZID=America/New_York:20221025T183000
DTEND;TZID=America/New_York:20221025T210000
DTSTAMP:20260420T104118
CREATED:20220831T120306Z
LAST-MODIFIED:20220831T120306Z
UID:10003225-1666722600-1666731600@www.umcsc.org
SUMMARY:LSM School (Charleston District)
DESCRIPTION:October 25\, 27\, November 1\, November 3\, 2022 by Zoom \nClick on the link below for complete information and registration.  Deadline for registration is September 27\, 2022. \nCharleston District Fall 2022 Zoom
URL:https://www.umcsc.org/event/lsm-school-charleston-district-17/
LOCATION:Zoom\, SC\, United States
CATEGORIES:Lay Servant Ministries
ORGANIZER;CN="Constance Wilborn":MAILTO:layservantscharlestondistrict@gmail.com
END:VEVENT
BEGIN:VEVENT
DTSTART;TZID=America/New_York:20220519T183000
DTEND;TZID=America/New_York:20220519T210000
DTSTAMP:20260420T104118
CREATED:20220407T222929Z
LAST-MODIFIED:20220407T222929Z
UID:10001416-1652985000-1652994000@www.umcsc.org
SUMMARY:LSM School (Charleston District)
DESCRIPTION:The school will be May 10\, 12\, 17\, & 19 (6:30 pm- 9:00 pm) \nDeadline for Registration is Thursday\, April 28\, 2022. \nClick on the link for information and registration. \nCharleston District LSM May School
URL:https://www.umcsc.org/event/lsm-school-charleston-district-16/
LOCATION:Zoom Meeting
CATEGORIES:Lay Servant Ministries
ORGANIZER;CN="Constance Wilborn":MAILTO:layservantscharlestondistrict@gmail.com
END:VEVENT
BEGIN:VEVENT
DTSTART;TZID=America/New_York:20220517T183000
DTEND;TZID=America/New_York:20220517T210000
DTSTAMP:20260420T104118
CREATED:20220407T222753Z
LAST-MODIFIED:20220407T222753Z
UID:10001415-1652812200-1652821200@www.umcsc.org
SUMMARY:LSM School (Charleston District)
DESCRIPTION:The school will be May 10\, 12\, 17\, & 19 (6:30 pm- 9:00 pm) \nDeadline for Registration is Thursday\, April 28\, 2022. \nClick on the link for information and registration. \nCharleston District LSM May School
URL:https://www.umcsc.org/event/lsm-school-charleston-district-15/
LOCATION:Zoom Meeting
CATEGORIES:Lay Servant Ministries
ORGANIZER;CN="Constance Wilborn":MAILTO:layservantscharlestondistrict@gmail.com
END:VEVENT
BEGIN:VEVENT
DTSTART;TZID=America/New_York:20220512T183000
DTEND;TZID=America/New_York:20220512T210000
DTSTAMP:20260420T104118
CREATED:20220407T222623Z
LAST-MODIFIED:20220407T222623Z
UID:10001413-1652380200-1652389200@www.umcsc.org
SUMMARY:LSM School (Charleston District)
DESCRIPTION:The school will be May 10\, 12\, 17\, & 19 (6:30 pm- 9:00 pm) \nDeadline for Registration is Thursday\, April 28\, 2022. \nClick on the link for information and registration. \nCharleston District LSM May School
URL:https://www.umcsc.org/event/lsm-school-charleston-district-14/
LOCATION:Zoom Meeting
CATEGORIES:Lay Servant Ministries
ORGANIZER;CN="Constance Wilborn":MAILTO:layservantscharlestondistrict@gmail.com
END:VEVENT
BEGIN:VEVENT
DTSTART;TZID=America/New_York:20211118T183000
DTEND;TZID=America/New_York:20211118T210000
DTSTAMP:20260420T104118
CREATED:20211012T034312Z
LAST-MODIFIED:20211012T034312Z
UID:10001208-1637260200-1637269200@www.umcsc.org
SUMMARY:LSM School (Charleston District)
DESCRIPTION:Charleston District Registration Form for November Fall LSM Classes \nFor information and to register\, click on the link and follow directions for registration and to purchase books.
URL:https://www.umcsc.org/event/lsm-school-charleston-district-12/
LOCATION:Zoom Meeting
CATEGORIES:Lay Servant Ministries
ORGANIZER;CN="Constance Wilborn":MAILTO:layservantscharlestondistrict@gmail.com
END:VEVENT
END:VCALENDAR