BEGIN:VCALENDAR
VERSION:2.0
PRODID:-//South Carolina UMC - ECPv6.15.20//NONSGML v1.0//EN
CALSCALE:GREGORIAN
METHOD:PUBLISH
X-WR-CALNAME:South Carolina UMC
X-ORIGINAL-URL:https://www.umcsc.org
X-WR-CALDESC:Events for South Carolina UMC
REFRESH-INTERVAL;VALUE=DURATION:PT1H
X-Robots-Tag:noindex
X-PUBLISHED-TTL:PT1H
BEGIN:VTIMEZONE
TZID:America/New_York
BEGIN:DAYLIGHT
TZOFFSETFROM:-0500
TZOFFSETTO:-0400
TZNAME:EDT
DTSTART:20180311T070000
END:DAYLIGHT
BEGIN:STANDARD
TZOFFSETFROM:-0400
TZOFFSETTO:-0500
TZNAME:EST
DTSTART:20181104T060000
END:STANDARD
BEGIN:DAYLIGHT
TZOFFSETFROM:-0500
TZOFFSETTO:-0400
TZNAME:EDT
DTSTART:20190310T070000
END:DAYLIGHT
BEGIN:STANDARD
TZOFFSETFROM:-0400
TZOFFSETTO:-0500
TZNAME:EST
DTSTART:20191103T060000
END:STANDARD
BEGIN:DAYLIGHT
TZOFFSETFROM:-0500
TZOFFSETTO:-0400
TZNAME:EDT
DTSTART:20200308T070000
END:DAYLIGHT
BEGIN:STANDARD
TZOFFSETFROM:-0400
TZOFFSETTO:-0500
TZNAME:EST
DTSTART:20201101T060000
END:STANDARD
BEGIN:DAYLIGHT
TZOFFSETFROM:-0500
TZOFFSETTO:-0400
TZNAME:EDT
DTSTART:20210314T070000
END:DAYLIGHT
BEGIN:STANDARD
TZOFFSETFROM:-0400
TZOFFSETTO:-0500
TZNAME:EST
DTSTART:20211107T060000
END:STANDARD
END:VTIMEZONE
BEGIN:VEVENT
DTSTART;TZID=America/New_York:20201015T100000
DTEND;TZID=America/New_York:20201015T140000
DTSTAMP:20260425T074206
CREATED:20200902T150341Z
LAST-MODIFIED:20200902T150341Z
UID:10001021-1602756000-1602770400@www.umcsc.org
SUMMARY:Advocacy Group for Church in Society
DESCRIPTION:
URL:https://www.umcsc.org/event/advocacy-group-for-church-in-society/
LOCATION:Online/Virtual
CATEGORIES:Conference
END:VEVENT
BEGIN:VEVENT
DTSTART;TZID=America/New_York:20201001T080000
DTEND;TZID=America/New_York:20201003T170000
DTSTAMP:20260425T074206
CREATED:20191015T125708Z
LAST-MODIFIED:20191015T125708Z
UID:10000705-1601539200-1601744400@www.umcsc.org
SUMMARY:Summit on the Black Church
DESCRIPTION:
URL:https://www.umcsc.org/event/summit-on-the-black-church-3/
LOCATION:Crowne Plaza Charleston Airport Convention Center\, 4831 Tanger Outlet Blvd\, North Charleston\, SC\, 29418\, United States
CATEGORIES:Conference
GEO:32.8749615;-80.0155025
X-APPLE-STRUCTURED-LOCATION;VALUE=URI;X-ADDRESS=Crowne Plaza Charleston Airport Convention Center 4831 Tanger Outlet Blvd North Charleston SC 29418 United States;X-APPLE-RADIUS=500;X-TITLE=4831 Tanger Outlet Blvd:geo:-80.0155025,32.8749615
END:VEVENT
BEGIN:VEVENT
DTSTART;TZID=America/New_York:20200912T100000
DTEND;TZID=America/New_York:20200912T100000
DTSTAMP:20260425T074206
CREATED:20191105T211405Z
LAST-MODIFIED:20200730T190752Z
UID:10001054-1599904800-1599904800@www.umcsc.org
SUMMARY:Connectional Ministries Meeting -  POSTPONED
DESCRIPTION:
URL:https://www.umcsc.org/event/connectional-ministries-meeting-4/
LOCATION:Trenholm Road United Methodist Church\, 3401 Trenholm Rd\, Columbia\, SC\, 29204\, United States
CATEGORIES:Conference
GEO:34.0092157;-80.9912235
X-APPLE-STRUCTURED-LOCATION;VALUE=URI;X-ADDRESS=Trenholm Road United Methodist Church 3401 Trenholm Rd Columbia SC 29204 United States;X-APPLE-RADIUS=500;X-TITLE=3401 Trenholm Rd:geo:-80.9912235,34.0092157
END:VEVENT
BEGIN:VEVENT
DTSTART;TZID=America/New_York:20200516T100000
DTEND;TZID=America/New_York:20200516T150000
DTSTAMP:20260425T074206
CREATED:20191104T160616Z
LAST-MODIFIED:20191104T160616Z
UID:10002730-1589623200-1589641200@www.umcsc.org
SUMMARY:SC ELCC Meeting
DESCRIPTION:
URL:https://www.umcsc.org/event/sc-elcc-meeting-6/
LOCATION:SC United Methodist Conference Center\, Room 105\, 4908 Colonial Drive\, Columbia\, SC\, 29203\, United States
CATEGORIES:Conference
GEO:34.045681;-81.0275544
X-APPLE-STRUCTURED-LOCATION;VALUE=URI;X-ADDRESS=SC United Methodist Conference Center Room 105 4908 Colonial Drive Columbia SC 29203 United States;X-APPLE-RADIUS=500;X-TITLE=4908 Colonial Drive:geo:-81.0275544,34.045681
END:VEVENT
BEGIN:VEVENT
DTSTART;TZID=America/New_York:20200418T100000
DTEND;TZID=America/New_York:20200418T150000
DTSTAMP:20260425T074206
CREATED:20191104T160451Z
LAST-MODIFIED:20191104T160451Z
UID:10002729-1587204000-1587222000@www.umcsc.org
SUMMARY:SC ELCC Meeting
DESCRIPTION:
URL:https://www.umcsc.org/event/sc-elcc-meeting-5/
LOCATION:SC United Methodist Conference Center\, Room 105\, 4908 Colonial Drive\, Columbia\, SC\, 29203\, United States
CATEGORIES:Conference
GEO:34.045681;-81.0275544
X-APPLE-STRUCTURED-LOCATION;VALUE=URI;X-ADDRESS=SC United Methodist Conference Center Room 105 4908 Colonial Drive Columbia SC 29203 United States;X-APPLE-RADIUS=500;X-TITLE=4908 Colonial Drive:geo:-81.0275544,34.045681
END:VEVENT
BEGIN:VEVENT
DTSTART;TZID=America/New_York:20200314T100000
DTEND;TZID=America/New_York:20200314T150000
DTSTAMP:20260425T074206
CREATED:20191104T160328Z
LAST-MODIFIED:20191104T160328Z
UID:10002717-1584180000-1584198000@www.umcsc.org
SUMMARY:SC ELCC Meeting
DESCRIPTION:
URL:https://www.umcsc.org/event/sc-elcc-meeting-4/
LOCATION:SC United Methodist Conference Center\, Room 105\, 4908 Colonial Drive\, Columbia\, SC\, 29203\, United States
CATEGORIES:Conference
GEO:34.045681;-81.0275544
X-APPLE-STRUCTURED-LOCATION;VALUE=URI;X-ADDRESS=SC United Methodist Conference Center Room 105 4908 Colonial Drive Columbia SC 29203 United States;X-APPLE-RADIUS=500;X-TITLE=4908 Colonial Drive:geo:-81.0275544,34.045681
END:VEVENT
BEGIN:VEVENT
DTSTART;TZID=America/New_York:20200222T100000
DTEND;TZID=America/New_York:20200222T100000
DTSTAMP:20260425T074206
CREATED:20191105T211010Z
LAST-MODIFIED:20191105T211010Z
UID:10000696-1582365600-1582365600@www.umcsc.org
SUMMARY:Connectional Ministries Meeting
DESCRIPTION:
URL:https://www.umcsc.org/event/connectional-ministries-meeting-3/
LOCATION:Trenholm Road United Methodist Church\, 3401 Trenholm Rd\, Columbia\, SC\, 29204\, United States
CATEGORIES:Conference
GEO:34.0092157;-80.9912235
X-APPLE-STRUCTURED-LOCATION;VALUE=URI;X-ADDRESS=Trenholm Road United Methodist Church 3401 Trenholm Rd Columbia SC 29204 United States;X-APPLE-RADIUS=500;X-TITLE=3401 Trenholm Rd:geo:-80.9912235,34.0092157
END:VEVENT
BEGIN:VEVENT
DTSTART;TZID=America/New_York:20200208T100000
DTEND;TZID=America/New_York:20200208T150000
DTSTAMP:20260425T074206
CREATED:20191104T160150Z
LAST-MODIFIED:20191104T160150Z
UID:10002716-1581156000-1581174000@www.umcsc.org
SUMMARY:SC ELCC Meeting
DESCRIPTION:
URL:https://www.umcsc.org/event/sc-elcc-meeting-3/
LOCATION:SC United Methodist Conference Center\, Room 105\, 4908 Colonial Drive\, Columbia\, SC\, 29203\, United States
CATEGORIES:Conference
GEO:34.045681;-81.0275544
X-APPLE-STRUCTURED-LOCATION;VALUE=URI;X-ADDRESS=SC United Methodist Conference Center Room 105 4908 Colonial Drive Columbia SC 29203 United States;X-APPLE-RADIUS=500;X-TITLE=4908 Colonial Drive:geo:-81.0275544,34.045681
END:VEVENT
BEGIN:VEVENT
DTSTART;TZID=America/New_York:20200111T100000
DTEND;TZID=America/New_York:20200111T150000
DTSTAMP:20260425T074206
CREATED:20191104T160014Z
LAST-MODIFIED:20191104T160014Z
UID:10002713-1578736800-1578754800@www.umcsc.org
SUMMARY:SC ELCC Meeting
DESCRIPTION:
URL:https://www.umcsc.org/event/sc-elcc-meeting-2/
LOCATION:SC United Methodist Conference Center\, Room 105\, 4908 Colonial Drive\, Columbia\, SC\, 29203\, United States
CATEGORIES:Conference
GEO:34.045681;-81.0275544
X-APPLE-STRUCTURED-LOCATION;VALUE=URI;X-ADDRESS=SC United Methodist Conference Center Room 105 4908 Colonial Drive Columbia SC 29203 United States;X-APPLE-RADIUS=500;X-TITLE=4908 Colonial Drive:geo:-81.0275544,34.045681
END:VEVENT
BEGIN:VEVENT
DTSTART;TZID=America/New_York:20191214T100000
DTEND;TZID=America/New_York:20191214T150000
DTSTAMP:20260425T074206
CREATED:20191104T155840Z
LAST-MODIFIED:20191104T155840Z
UID:10002712-1576317600-1576335600@www.umcsc.org
SUMMARY:SC ELCC Meeting
DESCRIPTION:
URL:https://www.umcsc.org/event/sc-elcc-meeting/
LOCATION:SC United Methodist Conference Center\, Room 105\, 4908 Colonial Drive\, Columbia\, SC\, 29203\, United States
CATEGORIES:Conference
GEO:34.045681;-81.0275544
X-APPLE-STRUCTURED-LOCATION;VALUE=URI;X-ADDRESS=SC United Methodist Conference Center Room 105 4908 Colonial Drive Columbia SC 29203 United States;X-APPLE-RADIUS=500;X-TITLE=4908 Colonial Drive:geo:-81.0275544,34.045681
END:VEVENT
BEGIN:VEVENT
DTSTART;TZID=America/New_York:20191105T100000
DTEND;TZID=America/New_York:20191105T130000
DTSTAMP:20260425T074206
CREATED:20191001T201747Z
LAST-MODIFIED:20191031T201102Z
UID:10000684-1572948000-1572958800@www.umcsc.org
SUMMARY:Summit on the Black Church Planning Meeting
DESCRIPTION:
URL:https://www.umcsc.org/event/summit-on-the-black-church-2/
LOCATION:SC United Methodist Conference Center\, Room 105\, 4908 Colonial Drive\, Columbia\, SC\, 29203\, United States
CATEGORIES:Conference
GEO:34.045681;-81.0275544
X-APPLE-STRUCTURED-LOCATION;VALUE=URI;X-ADDRESS=SC United Methodist Conference Center Room 105 4908 Colonial Drive Columbia SC 29203 United States;X-APPLE-RADIUS=500;X-TITLE=4908 Colonial Drive:geo:-81.0275544,34.045681
END:VEVENT
BEGIN:VEVENT
DTSTART;TZID=America/New_York:20191017T100000
DTEND;TZID=America/New_York:20191017T133000
DTSTAMP:20260425T074206
CREATED:20190809T194700Z
LAST-MODIFIED:20190809T194700Z
UID:10001017-1571306400-1571319000@www.umcsc.org
SUMMARY:Revolution Committee Meeting
DESCRIPTION:
URL:https://www.umcsc.org/event/revolution-committee-meeting-2/
LOCATION:SC United Methodist Conference Center\, Room 105\, 4908 Colonial Drive\, Columbia\, SC\, 29203\, United States
CATEGORIES:Conference
GEO:34.045681;-81.0275544
X-APPLE-STRUCTURED-LOCATION;VALUE=URI;X-ADDRESS=SC United Methodist Conference Center Room 105 4908 Colonial Drive Columbia SC 29203 United States;X-APPLE-RADIUS=500;X-TITLE=4908 Colonial Drive:geo:-81.0275544,34.045681
END:VEVENT
BEGIN:VEVENT
DTSTART;TZID=America/New_York:20191015T100000
DTEND;TZID=America/New_York:20191015T140000
DTSTAMP:20260425T074206
CREATED:20190925T142853Z
LAST-MODIFIED:20190925T142853Z
UID:10001019-1571133600-1571148000@www.umcsc.org
SUMMARY:Immerse Design Team
DESCRIPTION:
URL:https://www.umcsc.org/event/immerse-design-team-4/
LOCATION:SC United Methodist Conference Center\, Room 105\, 4908 Colonial Drive\, Columbia\, SC\, 29203\, United States
CATEGORIES:Conference
GEO:34.045681;-81.0275544
X-APPLE-STRUCTURED-LOCATION;VALUE=URI;X-ADDRESS=SC United Methodist Conference Center Room 105 4908 Colonial Drive Columbia SC 29203 United States;X-APPLE-RADIUS=500;X-TITLE=4908 Colonial Drive:geo:-81.0275544,34.045681
END:VEVENT
BEGIN:VEVENT
DTSTART;TZID=America/New_York:20190910T103000
DTEND;TZID=America/New_York:20190910T103000
DTSTAMP:20260425T074206
CREATED:20190905T152636Z
LAST-MODIFIED:20190905T152636Z
UID:10001207-1568111400-1568111400@www.umcsc.org
SUMMARY:Adult Ministry
DESCRIPTION:
URL:https://www.umcsc.org/event/adult-ministry/
LOCATION:SC United Methodist Conference Center\, Room 105\, 4908 Colonial Drive\, Columbia\, SC\, 29203\, United States
CATEGORIES:Conference
GEO:34.045681;-81.0275544
X-APPLE-STRUCTURED-LOCATION;VALUE=URI;X-ADDRESS=SC United Methodist Conference Center Room 105 4908 Colonial Drive Columbia SC 29203 United States;X-APPLE-RADIUS=500;X-TITLE=4908 Colonial Drive:geo:-81.0275544,34.045681
END:VEVENT
BEGIN:VEVENT
DTSTART;TZID=America/New_York:20190822T100000
DTEND;TZID=America/New_York:20190822T133000
DTSTAMP:20260425T074206
CREATED:20190809T194455Z
LAST-MODIFIED:20190809T194455Z
UID:10001014-1566468000-1566480600@www.umcsc.org
SUMMARY:Revolution Committee Meeting
DESCRIPTION:
URL:https://www.umcsc.org/event/revolution-committee-meeting/
LOCATION:SC United Methodist Conference Center\, Room 105\, 4908 Colonial Drive\, Columbia\, SC\, 29203\, United States
CATEGORIES:Conference
GEO:34.045681;-81.0275544
X-APPLE-STRUCTURED-LOCATION;VALUE=URI;X-ADDRESS=SC United Methodist Conference Center Room 105 4908 Colonial Drive Columbia SC 29203 United States;X-APPLE-RADIUS=500;X-TITLE=4908 Colonial Drive:geo:-81.0275544,34.045681
END:VEVENT
BEGIN:VEVENT
DTSTART;TZID=America/New_York:20190319T100000
DTEND;TZID=America/New_York:20190319T140000
DTSTAMP:20260425T074206
CREATED:20190212T181920Z
LAST-MODIFIED:20190219T171507Z
UID:10000709-1552989600-1553004000@www.umcsc.org
SUMMARY:Adult Ministries Meeting
DESCRIPTION:
URL:https://www.umcsc.org/event/adult-ministries-meeting/
LOCATION:South Carolina United Methodist Center\, Upstairs Conference Room\, 4908 Colonial Drive\, Columbia\, SC\, United States
CATEGORIES:Conference
GEO:34.045681;-81.0275544
X-APPLE-STRUCTURED-LOCATION;VALUE=URI;X-ADDRESS=South Carolina United Methodist Center Upstairs Conference Room 4908 Colonial Drive Columbia SC United States;X-APPLE-RADIUS=500;X-TITLE=4908 Colonial Drive:geo:-81.0275544,34.045681
END:VEVENT
BEGIN:VEVENT
DTSTART;TZID=America/New_York:20190216T100000
DTEND;TZID=America/New_York:20190216T140000
DTSTAMP:20260425T074206
CREATED:20190212T144511Z
LAST-MODIFIED:20190212T144511Z
UID:10000983-1550311200-1550325600@www.umcsc.org
SUMMARY:Connectional Ministries Meeting
DESCRIPTION:
URL:https://www.umcsc.org/event/connectional-ministries-meeting/
LOCATION:Trenholm Road United Methodist Church\, 3401 Trenholm Rd\, Columbia\, SC\, 29204\, United States
CATEGORIES:Conference
GEO:34.0092157;-80.9912235
X-APPLE-STRUCTURED-LOCATION;VALUE=URI;X-ADDRESS=Trenholm Road United Methodist Church 3401 Trenholm Rd Columbia SC 29204 United States;X-APPLE-RADIUS=500;X-TITLE=3401 Trenholm Rd:geo:-80.9912235,34.0092157
END:VEVENT
END:VCALENDAR