BEGIN:VCALENDAR
VERSION:2.0
PRODID:-//South Carolina UMC - ECPv6.15.20//NONSGML v1.0//EN
CALSCALE:GREGORIAN
METHOD:PUBLISH
X-ORIGINAL-URL:https://www.umcsc.org
X-WR-CALDESC:Events for South Carolina UMC
REFRESH-INTERVAL;VALUE=DURATION:PT1H
X-Robots-Tag:noindex
X-PUBLISHED-TTL:PT1H
BEGIN:VTIMEZONE
TZID:America/New_York
BEGIN:DAYLIGHT
TZOFFSETFROM:-0500
TZOFFSETTO:-0400
TZNAME:EDT
DTSTART:20190310T070000
END:DAYLIGHT
BEGIN:STANDARD
TZOFFSETFROM:-0400
TZOFFSETTO:-0500
TZNAME:EST
DTSTART:20191103T060000
END:STANDARD
BEGIN:DAYLIGHT
TZOFFSETFROM:-0500
TZOFFSETTO:-0400
TZNAME:EDT
DTSTART:20200308T070000
END:DAYLIGHT
BEGIN:STANDARD
TZOFFSETFROM:-0400
TZOFFSETTO:-0500
TZNAME:EST
DTSTART:20201101T060000
END:STANDARD
BEGIN:DAYLIGHT
TZOFFSETFROM:-0500
TZOFFSETTO:-0400
TZNAME:EDT
DTSTART:20210314T070000
END:DAYLIGHT
BEGIN:STANDARD
TZOFFSETFROM:-0400
TZOFFSETTO:-0500
TZNAME:EST
DTSTART:20211107T060000
END:STANDARD
BEGIN:DAYLIGHT
TZOFFSETFROM:-0500
TZOFFSETTO:-0400
TZNAME:EDT
DTSTART:20220313T070000
END:DAYLIGHT
BEGIN:STANDARD
TZOFFSETFROM:-0400
TZOFFSETTO:-0500
TZNAME:EST
DTSTART:20221106T060000
END:STANDARD
END:VTIMEZONE
BEGIN:VEVENT
DTSTART;VALUE=DATE:20211120
DTEND;VALUE=DATE:20211121
DTSTAMP:20260420T075059
CREATED:20210716T144228Z
LAST-MODIFIED:20210929T215848Z
UID:10003195-1637366400-1637452799@www.umcsc.org
SUMMARY:LSM School (Marion District)
DESCRIPTION:  \nThis school is by Zoom and will be held Nov. 13\, 14\, 20\, and 21. \nClick on the link for more information and a link to register. \nMarion District Hybrid Classes
URL:https://www.umcsc.org/event/lsm-school-marion-district-8/
LOCATION:Zoom Meeting
CATEGORIES:Lay Servant Ministries
ORGANIZER;CN="Ann Sowers":MAILTO:sowersann@gmail.com
END:VEVENT
BEGIN:VEVENT
DTSTART;VALUE=DATE:20211114
DTEND;VALUE=DATE:20211115
DTSTAMP:20260420T075059
CREATED:20210929T214403Z
LAST-MODIFIED:20210929T214403Z
UID:10003090-1636848000-1636934399@www.umcsc.org
SUMMARY:LSM School (Marion District)
DESCRIPTION:The Marion District is Offering a Hybrid School with both In-Person Choices and On-Line Choices \nPlease click on the link to access the information and registration.Marion District Hybrid Classes
URL:https://www.umcsc.org/event/lsm-school-marion-district-17/2021-11-14/
LOCATION:Hybrid
CATEGORIES:Lay Servant Ministries
ORGANIZER;CN="Ann Sowers":MAILTO:sowersann@gmail.com
END:VEVENT
BEGIN:VEVENT
DTSTART;VALUE=DATE:20211114
DTEND;VALUE=DATE:20211115
DTSTAMP:20260420T075059
CREATED:20210716T144753Z
LAST-MODIFIED:20210716T144753Z
UID:10001209-1636848000-1636934399@www.umcsc.org
SUMMARY:LSM School (Marion District)
DESCRIPTION:Marion District Lay Servant Schools for 2021 \nThis is an “in person” school and will be held on November 14\, and November 21\, at Centenary UMC in Conway. \nPlease click on the link for more information and a link to register.
URL:https://www.umcsc.org/event/lsm-school-marion-district-10/2021-11-14/
LOCATION:Centenary UMC\, 1527 SC-544\, Conway\, SC\, United States
CATEGORIES:Lay Servant Ministries
ORGANIZER;CN="Ann Sowers":MAILTO:sowersann@gmail.com
END:VEVENT
BEGIN:VEVENT
DTSTART;VALUE=DATE:20211114
DTEND;VALUE=DATE:20211115
DTSTAMP:20260420T075059
CREATED:20210716T144031Z
LAST-MODIFIED:20210716T144031Z
UID:10003197-1636848000-1636934399@www.umcsc.org
SUMMARY:LSM School (Marion District)
DESCRIPTION:Marion District Lay Servant Schools for 2021 \nThis school is by Zoom and will be held Nov. 13\, 14\, 20\, and 21. \nClick on the link for more information and a link to register.
URL:https://www.umcsc.org/event/lsm-school-marion-district-7/
LOCATION:Zoom Meeting
CATEGORIES:Lay Servant Ministries
ORGANIZER;CN="Ann Sowers":MAILTO:sowersann@gmail.com
END:VEVENT
BEGIN:VEVENT
DTSTART;VALUE=DATE:20211113
DTEND;VALUE=DATE:20211114
DTSTAMP:20260420T075059
CREATED:20210929T214403Z
LAST-MODIFIED:20210929T214403Z
UID:10003089-1636761600-1636847999@www.umcsc.org
SUMMARY:LSM School (Marion District)
DESCRIPTION:The Marion District is Offering a Hybrid School with both In-Person Choices and On-Line Choices \nPlease click on the link to access the information and registration.Marion District Hybrid Classes
URL:https://www.umcsc.org/event/lsm-school-marion-district-17/2021-11-13/
LOCATION:Hybrid
CATEGORIES:Lay Servant Ministries
ORGANIZER;CN="Ann Sowers":MAILTO:sowersann@gmail.com
END:VEVENT
BEGIN:VEVENT
DTSTART;VALUE=DATE:20211113
DTEND;VALUE=DATE:20211114
DTSTAMP:20260420T075059
CREATED:20210716T143222Z
LAST-MODIFIED:20210929T215427Z
UID:10001218-1636761600-1636847999@www.umcsc.org
SUMMARY:LSM School (Marion District)
DESCRIPTION:Marion District Lay Servant Schools for 2021 \nThis school will be by Zoom and In Person and will be November 13\, 14\, 20\, and 21. \nMarion District Hybrid Classes \nClick on the link for more information and the link to register.
URL:https://www.umcsc.org/event/lsm-school-marion-district-6/
LOCATION:Zoom Meeting
CATEGORIES:Lay Servant Ministries
ORGANIZER;CN="Ann Sowers":MAILTO:sowersann@gmail.com
END:VEVENT
BEGIN:VEVENT
DTSTART;TZID=America/New_York:20210926T143000
DTEND;TZID=America/New_York:20210926T200000
DTSTAMP:20260420T075059
CREATED:20210805T181337Z
LAST-MODIFIED:20210805T181337Z
UID:10001202-1632666600-1632686400@www.umcsc.org
SUMMARY:LSM School (Marion District)
DESCRIPTION:Marion District September Lay Servant School \nClick on the above link for registration and information. \nRegistration must be received by August 28\, 2021.
URL:https://www.umcsc.org/event/lsm-school-marion-district-16/
LOCATION:First United Methodist Church\, Conway\, 1001 Fifth Ave\, Conway\, SC\, 29526\, United States
CATEGORIES:Lay Servant Ministries
ORGANIZER;CN="Ann Sowers":MAILTO:sowersann@gmail.com
GEO:33.694547;-78.882184
X-APPLE-STRUCTURED-LOCATION;VALUE=URI;X-ADDRESS=First United Methodist Church Conway 1001 Fifth Ave Conway SC 29526 United States;X-APPLE-RADIUS=500;X-TITLE=1001 Fifth Ave:geo:-78.882184,33.694547
END:VEVENT
BEGIN:VEVENT
DTSTART;TZID=America/New_York:20210925T090000
DTEND;TZID=America/New_York:20210925T143000
DTSTAMP:20260420T075059
CREATED:20210715T120446Z
LAST-MODIFIED:20210805T180802Z
UID:10003153-1632560400-1632580200@www.umcsc.org
SUMMARY:LSM School (Marion District)
DESCRIPTION:Marion District September Lay Servant School \nClick on the above link for registration and information. \nRegistration must be received by August 28\, 2021.
URL:https://www.umcsc.org/event/lsm-school-marion-district-5/
LOCATION:First UMC\, 901 N Kings Hwy\, Myrtle Beach\, SC\, 29577\, United States
CATEGORIES:Lay Servant Ministries
ORGANIZER;CN="Ann Sowers":MAILTO:sowersann@gmail.com
END:VEVENT
BEGIN:VEVENT
DTSTART;TZID=America/New_York:20210725T140000
DTEND;TZID=America/New_York:20210725T170000
DTSTAMP:20260420T075059
CREATED:20210609T113106Z
LAST-MODIFIED:20210609T114932Z
UID:10003146-1627221600-1627232400@www.umcsc.org
SUMMARY:LSM School (Marion District)
DESCRIPTION:Marion District Lay Servant School July 2021
URL:https://www.umcsc.org/event/marion-district-lsm-training-school/
LOCATION:Zoom Meeting
CATEGORIES:Lay Servant Ministries
ORGANIZER;CN="Ann Sowers":MAILTO:sowersann@gmail.com
END:VEVENT
BEGIN:VEVENT
DTSTART;TZID=America/New_York:20210724T140000
DTEND;TZID=America/New_York:20210724T170000
DTSTAMP:20260420T075059
CREATED:20210609T113920Z
LAST-MODIFIED:20210609T115522Z
UID:10003148-1627135200-1627146000@www.umcsc.org
SUMMARY:LSM School (Marion District)
DESCRIPTION:Marion District Lay Servant School July 2021
URL:https://www.umcsc.org/event/marion-district-lay-servant-training-school/
LOCATION:Zoom Meeting
CATEGORIES:Lay Servant Ministries
ORGANIZER;CN="Ann Sowers":MAILTO:sowersann@gmail.com
END:VEVENT
BEGIN:VEVENT
DTSTART;TZID=America/New_York:20210718T140000
DTEND;TZID=America/New_York:20210718T170000
DTSTAMP:20260420T075059
CREATED:20210609T113720Z
LAST-MODIFIED:20210609T114506Z
UID:10003147-1626616800-1626627600@www.umcsc.org
SUMMARY:LSM School (Marion District)
DESCRIPTION:Marion District Lay Servant School July 2021
URL:https://www.umcsc.org/event/marion-district-lay-servant-ministries-training-school/
LOCATION:Zoom Meeting
CATEGORIES:Lay Servant Ministries
ORGANIZER;CN="Ann Sowers":MAILTO:sowersann@gmail.com
END:VEVENT
BEGIN:VEVENT
DTSTART;TZID=America/New_York:20210717T140000
DTEND;TZID=America/New_York:20210717T170000
DTSTAMP:20260420T075059
CREATED:20210609T110301Z
LAST-MODIFIED:20210610T121150Z
UID:10001206-1626530400-1626541200@www.umcsc.org
SUMMARY:LSM School (Marion District)
DESCRIPTION:Click here for more information and to register for Marion District Lay Servant School July 2021
URL:https://www.umcsc.org/event/lsm-marion-district-lay-servant-ministries-training-school/
LOCATION:Zoom Meeting
CATEGORIES:Lay Servant Ministries
ORGANIZER;CN="Ann Sowers":MAILTO:sowersann@gmail.com
END:VEVENT
BEGIN:VEVENT
DTSTART;TZID=America/New_York:20210418T000000
DTEND;TZID=America/New_York:20210418T000000
DTSTAMP:20260420T075059
CREATED:20200729T160725Z
LAST-MODIFIED:20200729T160725Z
UID:10002844-1618704000-1618704000@www.umcsc.org
SUMMARY:Marion District Virtual Lay School
DESCRIPTION:
URL:https://www.umcsc.org/event/marion-district-virtual-lay-school/2021-04-18/
LOCATION:Virtual Meeting
CATEGORIES:Conference
ORGANIZER;CN="David Lovell":MAILTO:lwdlovell@gmail.com
END:VEVENT
BEGIN:VEVENT
DTSTART;TZID=America/New_York:20210411T000000
DTEND;TZID=America/New_York:20210411T000000
DTSTAMP:20260420T075059
CREATED:20200729T160725Z
LAST-MODIFIED:20200729T160725Z
UID:10002843-1618099200-1618099200@www.umcsc.org
SUMMARY:Marion District Virtual Lay School
DESCRIPTION:
URL:https://www.umcsc.org/event/marion-district-virtual-lay-school/2021-04-11/
LOCATION:Virtual Meeting
CATEGORIES:Conference
ORGANIZER;CN="David Lovell":MAILTO:lwdlovell@gmail.com
END:VEVENT
BEGIN:VEVENT
DTSTART;TZID=America/New_York:20210228T000000
DTEND;TZID=America/New_York:20210228T000000
DTSTAMP:20260420T075059
CREATED:20200729T160725Z
LAST-MODIFIED:20200729T160725Z
UID:10002842-1614470400-1614470400@www.umcsc.org
SUMMARY:Marion District Virtual Lay School
DESCRIPTION:
URL:https://www.umcsc.org/event/marion-district-virtual-lay-school/2021-02-28/
LOCATION:Virtual Meeting
CATEGORIES:Conference
ORGANIZER;CN="David Lovell":MAILTO:lwdlovell@gmail.com
END:VEVENT
BEGIN:VEVENT
DTSTART;TZID=America/New_York:20210221T000000
DTEND;TZID=America/New_York:20210221T000000
DTSTAMP:20260420T075059
CREATED:20200729T160725Z
LAST-MODIFIED:20200729T160725Z
UID:10002841-1613865600-1613865600@www.umcsc.org
SUMMARY:Marion District Virtual Lay School
DESCRIPTION:
URL:https://www.umcsc.org/event/marion-district-virtual-lay-school/2021-02-21/
LOCATION:Virtual Meeting
CATEGORIES:Conference
ORGANIZER;CN="David Lovell":MAILTO:lwdlovell@gmail.com
END:VEVENT
BEGIN:VEVENT
DTSTART;TZID=America/New_York:20201115T000000
DTEND;TZID=America/New_York:20201115T000000
DTSTAMP:20260420T075059
CREATED:20200729T160725Z
LAST-MODIFIED:20200729T160725Z
UID:10002840-1605398400-1605398400@www.umcsc.org
SUMMARY:Marion District Virtual Lay School
DESCRIPTION:
URL:https://www.umcsc.org/event/marion-district-virtual-lay-school/2020-11-15/
LOCATION:Virtual Meeting
CATEGORIES:Conference
ORGANIZER;CN="David Lovell":MAILTO:lwdlovell@gmail.com
END:VEVENT
BEGIN:VEVENT
DTSTART;TZID=America/New_York:20201108T000000
DTEND;TZID=America/New_York:20201108T000000
DTSTAMP:20260420T075059
CREATED:20200729T160725Z
LAST-MODIFIED:20200729T160725Z
UID:10002839-1604793600-1604793600@www.umcsc.org
SUMMARY:Marion District Virtual Lay School
DESCRIPTION:
URL:https://www.umcsc.org/event/marion-district-virtual-lay-school/2020-11-08/
LOCATION:Virtual Meeting
CATEGORIES:Conference
ORGANIZER;CN="David Lovell":MAILTO:lwdlovell@gmail.com
END:VEVENT
BEGIN:VEVENT
DTSTART;TZID=America/New_York:20200920T000000
DTEND;TZID=America/New_York:20200920T000000
DTSTAMP:20260420T075059
CREATED:20200729T160725Z
LAST-MODIFIED:20200729T160725Z
UID:10002838-1600560000-1600560000@www.umcsc.org
SUMMARY:Marion District Virtual Lay School
DESCRIPTION:
URL:https://www.umcsc.org/event/marion-district-virtual-lay-school/2020-09-20/
LOCATION:Virtual Meeting
CATEGORIES:Conference
ORGANIZER;CN="David Lovell":MAILTO:lwdlovell@gmail.com
END:VEVENT
BEGIN:VEVENT
DTSTART;TZID=America/New_York:20200913T000000
DTEND;TZID=America/New_York:20200913T000000
DTSTAMP:20260420T075059
CREATED:20200729T160725Z
LAST-MODIFIED:20200729T160725Z
UID:10002837-1599955200-1599955200@www.umcsc.org
SUMMARY:Marion District Virtual Lay School
DESCRIPTION:
URL:https://www.umcsc.org/event/marion-district-virtual-lay-school/2020-09-13/
LOCATION:Virtual Meeting
CATEGORIES:Conference
ORGANIZER;CN="David Lovell":MAILTO:lwdlovell@gmail.com
END:VEVENT
END:VCALENDAR