BEGIN:VCALENDAR
VERSION:2.0
PRODID:-//South Carolina UMC - ECPv6.15.20//NONSGML v1.0//EN
CALSCALE:GREGORIAN
METHOD:PUBLISH
X-ORIGINAL-URL:https://www.umcsc.org
X-WR-CALDESC:Events for South Carolina UMC
REFRESH-INTERVAL;VALUE=DURATION:PT1H
X-Robots-Tag:noindex
X-PUBLISHED-TTL:PT1H
BEGIN:VTIMEZONE
TZID:America/New_York
BEGIN:DAYLIGHT
TZOFFSETFROM:-0500
TZOFFSETTO:-0400
TZNAME:EDT
DTSTART:20220313T070000
END:DAYLIGHT
BEGIN:STANDARD
TZOFFSETFROM:-0400
TZOFFSETTO:-0500
TZNAME:EST
DTSTART:20221106T060000
END:STANDARD
BEGIN:DAYLIGHT
TZOFFSETFROM:-0500
TZOFFSETTO:-0400
TZNAME:EDT
DTSTART:20230312T070000
END:DAYLIGHT
BEGIN:STANDARD
TZOFFSETFROM:-0400
TZOFFSETTO:-0500
TZNAME:EST
DTSTART:20231105T060000
END:STANDARD
BEGIN:DAYLIGHT
TZOFFSETFROM:-0500
TZOFFSETTO:-0400
TZNAME:EDT
DTSTART:20240310T070000
END:DAYLIGHT
BEGIN:STANDARD
TZOFFSETFROM:-0400
TZOFFSETTO:-0500
TZNAME:EST
DTSTART:20241103T060000
END:STANDARD
END:VTIMEZONE
BEGIN:VEVENT
DTSTART;TZID=America/New_York:20231202T094500
DTEND;TZID=America/New_York:20231202T120000
DTSTAMP:20260422T191724
CREATED:20231114T195556Z
LAST-MODIFIED:20231114T195556Z
UID:10000884-1701510300-1701518400@www.umcsc.org
SUMMARY:Bishop Holston's Florence District Visit: "Strengthening the Soul of Our Leadership"
DESCRIPTION:
URL:https://www.umcsc.org/event/bishop-holstons-florence-district-visit-strengthening-the-soul-of-our-leadership/
LOCATION:Central UMC-Florence\, 167 North Irby Street\, Florence\, SC\, 29501\, United States
CATEGORIES:Conference,Florence District
GEO:34.198462;-79.7686389
X-APPLE-STRUCTURED-LOCATION;VALUE=URI;X-ADDRESS=Central UMC-Florence 167 North Irby Street Florence SC 29501 United States;X-APPLE-RADIUS=500;X-TITLE=167 North Irby Street:geo:-79.7686389,34.198462
END:VEVENT
BEGIN:VEVENT
DTSTART;TZID=America/New_York:20231202T100000
DTEND;TZID=America/New_York:20231202T100000
DTSTAMP:20260422T191724
CREATED:20220915T160336Z
LAST-MODIFIED:20220915T160336Z
UID:10002850-1701511200-1701511200@www.umcsc.org
SUMMARY:UWF Limitless Event
DESCRIPTION:
URL:https://www.umcsc.org/event/uwf-limitless-event-2/
LOCATION:Virtual Meeting
CATEGORIES:Conference
END:VEVENT
BEGIN:VEVENT
DTSTART;TZID=America/New_York:20231205T180000
DTEND;TZID=America/New_York:20231205T200000
DTSTAMP:20260422T191724
CREATED:20231204T160936Z
LAST-MODIFIED:20231204T160936Z
UID:10003056-1701799200-1701806400@www.umcsc.org
SUMMARY:Marion District Clergy/Spouse Christmas Gathering
DESCRIPTION:
URL:https://www.umcsc.org/event/marion-district-clergy-spouse-christmas-gathering-2/
LOCATION:Surfside UMC\, 800 13th Ave N\, Surfside Beach\, SC\, 29575\, United States
CATEGORIES:Marion District
END:VEVENT
BEGIN:VEVENT
DTSTART;TZID=America/New_York:20231205T183000
DTEND;TZID=America/New_York:20231205T203000
DTSTAMP:20260422T191724
CREATED:20230320T150225Z
LAST-MODIFIED:20230320T150225Z
UID:10000716-1701801000-1701808200@www.umcsc.org
SUMMARY:UMVIM - United Methodist Volunteers in Mission
DESCRIPTION:
URL:https://www.umcsc.org/event/umvim-united-methodist-volunteers-in-mission-4/
LOCATION:Grace UMC-Harbison\, 410 Harbison Blvd\,\, Columbia\, SC\, 29212
GEO:34.0810981;-81.1480387
X-APPLE-STRUCTURED-LOCATION;VALUE=URI;X-ADDRESS=Grace UMC-Harbison 410 Harbison Blvd Columbia SC 29212;X-APPLE-RADIUS=500;X-TITLE=410 Harbison Blvd\,:geo:-81.1480387,34.0810981
END:VEVENT
BEGIN:VEVENT
DTSTART;TZID=America/New_York:20231206T160000
DTEND;TZID=America/New_York:20231206T170000
DTSTAMP:20260422T191724
CREATED:20231204T161033Z
LAST-MODIFIED:20231204T161033Z
UID:10003055-1701878400-1701882000@www.umcsc.org
SUMMARY:Marion District Trustees
DESCRIPTION:
URL:https://www.umcsc.org/event/marion-district-trustees-3/
LOCATION:Marion District Office\, 104 N Pine St\, Marion\, SC\, 29571\, United States
CATEGORIES:Marion District
END:VEVENT
BEGIN:VEVENT
DTSTART;TZID=America/New_York:20231207T100000
DTEND;TZID=America/New_York:20231207T100000
DTSTAMP:20260422T191724
CREATED:20220525T153556Z
LAST-MODIFIED:20220525T171711Z
UID:10000879-1701943200-1701943200@www.umcsc.org
SUMMARY:Board of Pension & Health Executive Committee Meeting
DESCRIPTION:
URL:https://www.umcsc.org/event/board-of-pension-health-executive-committee-meeting/
LOCATION:Zoom Meeting
CATEGORIES:Conference
END:VEVENT
BEGIN:VEVENT
DTSTART;TZID=America/New_York:20231207T113000
DTEND;TZID=America/New_York:20231207T133000
DTSTAMP:20260422T191724
CREATED:20231204T161129Z
LAST-MODIFIED:20231204T161129Z
UID:10000991-1701948600-1701955800@www.umcsc.org
SUMMARY:Marion DS Committee
DESCRIPTION:
URL:https://www.umcsc.org/event/marion-ds-committee/
LOCATION:First United Methodist Church\, Conway\, 1001 Fifth Ave\, Conway\, SC\, 29526\, United States
CATEGORIES:Marion District
GEO:33.694547;-78.882184
X-APPLE-STRUCTURED-LOCATION;VALUE=URI;X-ADDRESS=First United Methodist Church Conway 1001 Fifth Ave Conway SC 29526 United States;X-APPLE-RADIUS=500;X-TITLE=1001 Fifth Ave:geo:-78.882184,33.694547
END:VEVENT
BEGIN:VEVENT
DTSTART;TZID=America/New_York:20231209T093000
DTEND;TZID=America/New_York:20231209T120000
DTSTAMP:20260422T191724
CREATED:20231114T200001Z
LAST-MODIFIED:20231114T200001Z
UID:10000886-1702114200-1702123200@www.umcsc.org
SUMMARY:Bishop Holston's Greenville District Visit: "Strengthening the Soul of Our Leadership"
DESCRIPTION:
URL:https://www.umcsc.org/event/bishop-holstons-greenville-district-visit-strengthening-the-soul-of-our-leadership/
LOCATION:Lee Road UMC\, 1377 E Lee Rd\, Taylors\, SC\, 29687\, United States
CATEGORIES:Conference,Greenville District
END:VEVENT
BEGIN:VEVENT
DTSTART;TZID=America/New_York:20231214T100000
DTEND;TZID=America/New_York:20231214T110000
DTSTAMP:20260422T191724
CREATED:20220921T133231Z
LAST-MODIFIED:20221117T175831Z
UID:10002815-1702548000-1702551600@www.umcsc.org
SUMMARY:UMCSC Credit Union Committee Meeting
DESCRIPTION:
URL:https://www.umcsc.org/event/umcsc-credit-union-committee-meeting/
LOCATION:South Carolina United Methodist Center\, Upstairs Conference Room\, 4908 Colonial Drive\, Columbia\, SC\, United States
CATEGORIES:Conference
GEO:34.045681;-81.0275544
X-APPLE-STRUCTURED-LOCATION;VALUE=URI;X-ADDRESS=South Carolina United Methodist Center Upstairs Conference Room 4908 Colonial Drive Columbia SC United States;X-APPLE-RADIUS=500;X-TITLE=4908 Colonial Drive:geo:-81.0275544,34.045681
END:VEVENT
BEGIN:VEVENT
DTSTART;TZID=America/New_York:20231214T110000
DTEND;TZID=America/New_York:20231214T130000
DTSTAMP:20260422T191724
CREATED:20220921T133647Z
LAST-MODIFIED:20221117T180329Z
UID:10002897-1702551600-1702558800@www.umcsc.org
SUMMARY:UMCSC Credit Union Full Board Meeting
DESCRIPTION:
URL:https://www.umcsc.org/event/umcsc-credit-union-full-board-meeting-2023-12-21/
LOCATION:South Carolina United Methodist Center\, Upstairs Conference Room\, 4908 Colonial Drive\, Columbia\, SC\, United States
CATEGORIES:Conference
GEO:34.045681;-81.0275544
X-APPLE-STRUCTURED-LOCATION;VALUE=URI;X-ADDRESS=South Carolina United Methodist Center Upstairs Conference Room 4908 Colonial Drive Columbia SC United States;X-APPLE-RADIUS=500;X-TITLE=4908 Colonial Drive:geo:-81.0275544,34.045681
END:VEVENT
END:VCALENDAR