BEGIN:VCALENDAR
VERSION:2.0
PRODID:-//South Carolina UMC - ECPv6.15.20//NONSGML v1.0//EN
CALSCALE:GREGORIAN
METHOD:PUBLISH
X-WR-CALNAME:South Carolina UMC
X-ORIGINAL-URL:https://www.umcsc.org
X-WR-CALDESC:Events for South Carolina UMC
REFRESH-INTERVAL;VALUE=DURATION:PT1H
X-Robots-Tag:noindex
X-PUBLISHED-TTL:PT1H
BEGIN:VTIMEZONE
TZID:America/New_York
BEGIN:DAYLIGHT
TZOFFSETFROM:-0500
TZOFFSETTO:-0400
TZNAME:EDT
DTSTART:20190310T070000
END:DAYLIGHT
BEGIN:STANDARD
TZOFFSETFROM:-0400
TZOFFSETTO:-0500
TZNAME:EST
DTSTART:20191103T060000
END:STANDARD
BEGIN:DAYLIGHT
TZOFFSETFROM:-0500
TZOFFSETTO:-0400
TZNAME:EDT
DTSTART:20200308T070000
END:DAYLIGHT
BEGIN:STANDARD
TZOFFSETFROM:-0400
TZOFFSETTO:-0500
TZNAME:EST
DTSTART:20201101T060000
END:STANDARD
BEGIN:DAYLIGHT
TZOFFSETFROM:-0500
TZOFFSETTO:-0400
TZNAME:EDT
DTSTART:20210314T070000
END:DAYLIGHT
BEGIN:STANDARD
TZOFFSETFROM:-0400
TZOFFSETTO:-0500
TZNAME:EST
DTSTART:20211107T060000
END:STANDARD
BEGIN:DAYLIGHT
TZOFFSETFROM:-0500
TZOFFSETTO:-0400
TZNAME:EDT
DTSTART:20220313T070000
END:DAYLIGHT
BEGIN:STANDARD
TZOFFSETFROM:-0400
TZOFFSETTO:-0500
TZNAME:EST
DTSTART:20221106T060000
END:STANDARD
BEGIN:DAYLIGHT
TZOFFSETFROM:-0500
TZOFFSETTO:-0400
TZNAME:EDT
DTSTART:20230312T070000
END:DAYLIGHT
BEGIN:STANDARD
TZOFFSETFROM:-0400
TZOFFSETTO:-0500
TZNAME:EST
DTSTART:20231105T060000
END:STANDARD
BEGIN:DAYLIGHT
TZOFFSETFROM:-0500
TZOFFSETTO:-0400
TZNAME:EDT
DTSTART:20240310T070000
END:DAYLIGHT
BEGIN:STANDARD
TZOFFSETFROM:-0400
TZOFFSETTO:-0500
TZNAME:EST
DTSTART:20241103T060000
END:STANDARD
BEGIN:DAYLIGHT
TZOFFSETFROM:-0500
TZOFFSETTO:-0400
TZNAME:EDT
DTSTART:20250309T070000
END:DAYLIGHT
BEGIN:STANDARD
TZOFFSETFROM:-0400
TZOFFSETTO:-0500
TZNAME:EST
DTSTART:20251102T060000
END:STANDARD
END:VTIMEZONE
BEGIN:VEVENT
DTSTART;TZID=America/New_York:20200913T150000
DTEND;TZID=America/New_York:20200913T163000
DTSTAMP:20260421T115612
CREATED:20200819T135358Z
LAST-MODIFIED:20200902T172915Z
UID:10003084-1600009200-1600014600@www.umcsc.org
SUMMARY:Rock Hill District Race Relations Dialogue
DESCRIPTION:
URL:https://www.umcsc.org/event/rock-hill-race-relations-dialogue/
LOCATION:Zoom Meeting
CATEGORIES:Rock Hill District
END:VEVENT
BEGIN:VEVENT
DTSTART;TZID=America/New_York:20200921T090000
DTEND;TZID=America/New_York:20200921T130000
DTSTAMP:20260421T115612
CREATED:20200819T135321Z
LAST-MODIFIED:20200819T135321Z
UID:10002967-1600678800-1600693200@www.umcsc.org
SUMMARY:Rock Hill District Committee on Ordained Ministry
DESCRIPTION:
URL:https://www.umcsc.org/event/rock-hill-district-committee-on-ordained-ministry/
LOCATION:Rock Hill District Office\, 139 Elizabeth Lane\, Rock Hill\, SC\, 29730\, United States
CATEGORIES:Rock Hill District
ORGANIZER;CN="Mallory Nickerson":MAILTO:mjforte@umcsc.org
GEO:34.9248633;-81.0230866
X-APPLE-STRUCTURED-LOCATION;VALUE=URI;X-ADDRESS=Rock Hill District Office 139 Elizabeth Lane Rock Hill SC 29730 United States;X-APPLE-RADIUS=500;X-TITLE=139 Elizabeth Lane:geo:-81.0230866,34.9248633
END:VEVENT
BEGIN:VEVENT
DTSTART;TZID=America/New_York:20200924T100000
DTEND;TZID=America/New_York:20201016T113000
DTSTAMP:20260421T115612
CREATED:20200902T172218Z
LAST-MODIFIED:20200902T172218Z
UID:10000955-1600941600-1602847800@www.umcsc.org
SUMMARY:Rock Hill District Clergy Meeting
DESCRIPTION:
URL:https://www.umcsc.org/event/rock-hill-district-clergy-meeting/
LOCATION:Zoom\, SC\, United States
CATEGORIES:Rock Hill District
ORGANIZER;CN="Rock Hill District Office":MAILTO:rhdist@umcsc.org
END:VEVENT
BEGIN:VEVENT
DTSTART;TZID=America/New_York:20201008T100000
DTEND;TZID=America/New_York:20201008T113000
DTSTAMP:20260421T115612
CREATED:20200902T172401Z
LAST-MODIFIED:20200902T172401Z
UID:10000968-1602151200-1602156600@www.umcsc.org
SUMMARY:Rock Hill District Clergy Meeting
DESCRIPTION:
URL:https://www.umcsc.org/event/rock-hill-district-clergy-meeting-2/
LOCATION:Zoom\, SC\, United States
CATEGORIES:Rock Hill District
ORGANIZER;CN="Rock Hill District Office":MAILTO:rhdist@umcsc.org
END:VEVENT
BEGIN:VEVENT
DTSTART;TZID=America/New_York:20201019T090000
DTEND;TZID=America/New_York:20201019T140000
DTSTAMP:20260421T115612
CREATED:20200824T134726Z
LAST-MODIFIED:20200824T134726Z
UID:10000957-1603098000-1603116000@www.umcsc.org
SUMMARY:Rock Hill District Committee on Ordained Ministry
DESCRIPTION:
URL:https://www.umcsc.org/event/rock-hill-district-committee-on-ordained-ministry-2/
LOCATION:Rock Hill District Office\, 139 Elizabeth Lane\, Rock Hill\, SC\, 29730\, United States
CATEGORIES:Rock Hill District
ORGANIZER;CN="Mallory Nickerson":MAILTO:mjforte@umcsc.org
GEO:34.9248633;-81.0230866
X-APPLE-STRUCTURED-LOCATION;VALUE=URI;X-ADDRESS=Rock Hill District Office 139 Elizabeth Lane Rock Hill SC 29730 United States;X-APPLE-RADIUS=500;X-TITLE=139 Elizabeth Lane:geo:-81.0230866,34.9248633
END:VEVENT
BEGIN:VEVENT
DTSTART;TZID=America/New_York:20201110T100000
DTEND;TZID=America/New_York:20201110T113000
DTSTAMP:20260421T115612
CREATED:20200902T172546Z
LAST-MODIFIED:20200902T172546Z
UID:10000956-1605002400-1605007800@www.umcsc.org
SUMMARY:Rock Hill District Clergy Meeting
DESCRIPTION:
URL:https://www.umcsc.org/event/rock-hill-district-clergy-meeting-3/
LOCATION:Zoom\, SC\, United States
CATEGORIES:Rock Hill District
ORGANIZER;CN="Rock Hill District Office":MAILTO:rhdist@umcsc.org
END:VEVENT
BEGIN:VEVENT
DTSTART;TZID=America/New_York:20201123T090000
DTEND;TZID=America/New_York:20201123T140000
DTSTAMP:20260421T115612
CREATED:20200824T135103Z
LAST-MODIFIED:20200824T135103Z
UID:10000958-1606122000-1606140000@www.umcsc.org
SUMMARY:Rock Hill District Committee on Ordained Ministry
DESCRIPTION:
URL:https://www.umcsc.org/event/rock-hill-district-committee-on-ordained-ministry-3/
LOCATION:Rock Hill District Office\, 139 Elizabeth Lane\, Rock Hill\, SC\, 29730\, United States
CATEGORIES:Rock Hill District
ORGANIZER;CN="Mallory Nickerson":MAILTO:mjforte@umcsc.org
GEO:34.9248633;-81.0230866
X-APPLE-STRUCTURED-LOCATION;VALUE=URI;X-ADDRESS=Rock Hill District Office 139 Elizabeth Lane Rock Hill SC 29730 United States;X-APPLE-RADIUS=500;X-TITLE=139 Elizabeth Lane:geo:-81.0230866,34.9248633
END:VEVENT
BEGIN:VEVENT
DTSTART;TZID=America/New_York:20201208T180000
DTEND;TZID=America/New_York:20201208T190000
DTSTAMP:20260421T115612
CREATED:20201118T144804Z
LAST-MODIFIED:20201118T144804Z
UID:10002964-1607450400-1607454000@www.umcsc.org
SUMMARY:Rock Hill District Committee on the Superintendency
DESCRIPTION:
URL:https://www.umcsc.org/event/rock-hill-district-committee-on-the-superintendency/
LOCATION:Zoom Meeting
CATEGORIES:Rock Hill District
ORGANIZER;CN="Rock Hill District Office":MAILTO:rhdist@umcsc.org
END:VEVENT
BEGIN:VEVENT
DTSTART;TZID=America/New_York:20201214T090000
DTEND;TZID=America/New_York:20201214T140000
DTSTAMP:20260421T115612
CREATED:20200824T135225Z
LAST-MODIFIED:20200824T135225Z
UID:10000959-1607936400-1607954400@www.umcsc.org
SUMMARY:Rock Hill District Committee on Ordained Ministry
DESCRIPTION:
URL:https://www.umcsc.org/event/rock-hill-district-committee-on-ordained-ministry-4/
LOCATION:Rock Hill District Office\, 139 Elizabeth Lane\, Rock Hill\, SC\, 29730\, United States
CATEGORIES:Rock Hill District
ORGANIZER;CN="Mallory Nickerson":MAILTO:mjforte@umcsc.org
GEO:34.9248633;-81.0230866
X-APPLE-STRUCTURED-LOCATION;VALUE=URI;X-ADDRESS=Rock Hill District Office 139 Elizabeth Lane Rock Hill SC 29730 United States;X-APPLE-RADIUS=500;X-TITLE=139 Elizabeth Lane:geo:-81.0230866,34.9248633
END:VEVENT
BEGIN:VEVENT
DTSTART;TZID=America/New_York:20201217T180000
DTEND;TZID=America/New_York:20201217T190000
DTSTAMP:20260421T115612
CREATED:20201208T155221Z
LAST-MODIFIED:20201208T155221Z
UID:10002968-1608228000-1608231600@www.umcsc.org
SUMMARY:Rock Hill District Clergy Christmas Gathering
DESCRIPTION:
URL:https://www.umcsc.org/event/rock-hill-district-clergy-christmas-gathering/
LOCATION:Zoom\, SC\, United States
CATEGORIES:Rock Hill District
ORGANIZER;CN="Rock Hill District Office":MAILTO:rhdist@umcsc.org
END:VEVENT
BEGIN:VEVENT
DTSTART;TZID=America/New_York:20210111T090000
DTEND;TZID=America/New_York:20210111T140000
DTSTAMP:20260421T115612
CREATED:20200824T135414Z
LAST-MODIFIED:20200824T135414Z
UID:10000960-1610355600-1610373600@www.umcsc.org
SUMMARY:Rock Hill District Committee on Ordained Ministry
DESCRIPTION:
URL:https://www.umcsc.org/event/rock-hill-district-committee-on-ordained-ministry-5/
LOCATION:Rock Hill District Office\, 139 Elizabeth Lane\, Rock Hill\, SC\, 29730\, United States
CATEGORIES:Rock Hill District
ORGANIZER;CN="Mallory Nickerson":MAILTO:mjforte@umcsc.org
GEO:34.9248633;-81.0230866
X-APPLE-STRUCTURED-LOCATION;VALUE=URI;X-ADDRESS=Rock Hill District Office 139 Elizabeth Lane Rock Hill SC 29730 United States;X-APPLE-RADIUS=500;X-TITLE=139 Elizabeth Lane:geo:-81.0230866,34.9248633
END:VEVENT
BEGIN:VEVENT
DTSTART;TZID=America/New_York:20210123T090000
DTEND;TZID=America/New_York:20210123T160000
DTSTAMP:20260421T115612
CREATED:20201208T155832Z
LAST-MODIFIED:20201208T155832Z
UID:10002965-1611392400-1611417600@www.umcsc.org
SUMMARY:Rock Hill District Lay Servant Training
DESCRIPTION:
URL:https://www.umcsc.org/event/rock-hill-district-lay-servant-training/2021-01-23/
LOCATION:Woodland United Methodist Church\, 801 Cherry Road\, Rock Hill\, SC\, 29732\, United States
CATEGORIES:Rock Hill District
ORGANIZER;CN="Lynne Tyner":MAILTO:kassgrandma16@gmail.com
GEO:34.9462054;-81.025992
X-APPLE-STRUCTURED-LOCATION;VALUE=URI;X-ADDRESS=Woodland United Methodist Church 801 Cherry Road Rock Hill SC 29732 United States;X-APPLE-RADIUS=500;X-TITLE=801 Cherry Road:geo:-81.025992,34.9462054
END:VEVENT
BEGIN:VEVENT
DTSTART;TZID=America/New_York:20210124T140000
DTEND;TZID=America/New_York:20210124T170000
DTSTAMP:20260421T115612
CREATED:20201208T155832Z
LAST-MODIFIED:20201208T155832Z
UID:10002966-1611496800-1611507600@www.umcsc.org
SUMMARY:Rock Hill District Lay Servant Training
DESCRIPTION:
URL:https://www.umcsc.org/event/rock-hill-district-lay-servant-training/2021-01-24/
LOCATION:Woodland United Methodist Church\, 801 Cherry Road\, Rock Hill\, SC\, 29732\, United States
CATEGORIES:Rock Hill District
ORGANIZER;CN="Lynne Tyner":MAILTO:kassgrandma16@gmail.com
GEO:34.9462054;-81.025992
X-APPLE-STRUCTURED-LOCATION;VALUE=URI;X-ADDRESS=Woodland United Methodist Church 801 Cherry Road Rock Hill SC 29732 United States;X-APPLE-RADIUS=500;X-TITLE=801 Cherry Road:geo:-81.025992,34.9462054
END:VEVENT
BEGIN:VEVENT
DTSTART;TZID=America/New_York:20210318T100000
DTEND;TZID=America/New_York:20210318T110000
DTSTAMP:20260421T115612
CREATED:20210203T180002Z
LAST-MODIFIED:20210203T180002Z
UID:10000962-1616061600-1616065200@www.umcsc.org
SUMMARY:Rock Hill District Clergy Meeting
DESCRIPTION:
URL:https://www.umcsc.org/event/rock-hill-district-clergy-meeting-4/2021-03-18/
LOCATION:Zoom Meeting
CATEGORIES:Rock Hill District
ORGANIZER;CN="Rock Hill District Office":MAILTO:rhdist@umcsc.org
END:VEVENT
BEGIN:VEVENT
DTSTART;TZID=America/New_York:20210329T090000
DTEND;TZID=America/New_York:20210329T140000
DTSTAMP:20260421T115612
CREATED:20210203T175718Z
LAST-MODIFIED:20210203T175718Z
UID:10000966-1617008400-1617026400@www.umcsc.org
SUMMARY:Rock Hill District Committee on Ordained Ministry
DESCRIPTION:
URL:https://www.umcsc.org/event/rock-hill-district-committee-on-ordained-ministry-6/2021-03-29/
LOCATION:Zoom Meeting
CATEGORIES:Rock Hill District
ORGANIZER;CN="Mallory Nickerson":MAILTO:mjforte@umcsc.org
END:VEVENT
BEGIN:VEVENT
DTSTART;TZID=America/New_York:20210413T100000
DTEND;TZID=America/New_York:20210413T110000
DTSTAMP:20260421T115612
CREATED:20210203T180002Z
LAST-MODIFIED:20210203T180002Z
UID:10000963-1618308000-1618311600@www.umcsc.org
SUMMARY:Rock Hill District Clergy Meeting
DESCRIPTION:
URL:https://www.umcsc.org/event/rock-hill-district-clergy-meeting-4/2021-04-13/
LOCATION:Zoom Meeting
CATEGORIES:Rock Hill District
ORGANIZER;CN="Rock Hill District Office":MAILTO:rhdist@umcsc.org
END:VEVENT
BEGIN:VEVENT
DTSTART;TZID=America/New_York:20210419T090000
DTEND;TZID=America/New_York:20210419T140000
DTSTAMP:20260421T115612
CREATED:20210203T175718Z
LAST-MODIFIED:20210203T175718Z
UID:10000967-1618822800-1618840800@www.umcsc.org
SUMMARY:Rock Hill District Committee on Ordained Ministry
DESCRIPTION:
URL:https://www.umcsc.org/event/rock-hill-district-committee-on-ordained-ministry-6/2021-04-19/
LOCATION:Zoom Meeting
CATEGORIES:Rock Hill District
ORGANIZER;CN="Mallory Nickerson":MAILTO:mjforte@umcsc.org
END:VEVENT
BEGIN:VEVENT
DTSTART;TZID=America/New_York:20210506T100000
DTEND;TZID=America/New_York:20210506T110000
DTSTAMP:20260421T115612
CREATED:20210203T180002Z
LAST-MODIFIED:20210203T180002Z
UID:10000964-1620295200-1620298800@www.umcsc.org
SUMMARY:Rock Hill District Clergy Meeting
DESCRIPTION:
URL:https://www.umcsc.org/event/rock-hill-district-clergy-meeting-4/2021-05-06/
LOCATION:Zoom Meeting
CATEGORIES:Rock Hill District
ORGANIZER;CN="Rock Hill District Office":MAILTO:rhdist@umcsc.org
END:VEVENT
BEGIN:VEVENT
DTSTART;TZID=America/New_York:20210603T100000
DTEND;TZID=America/New_York:20210603T110000
DTSTAMP:20260421T115612
CREATED:20210203T180002Z
LAST-MODIFIED:20210203T180002Z
UID:10000965-1622714400-1622718000@www.umcsc.org
SUMMARY:Rock Hill District Clergy Meeting
DESCRIPTION:
URL:https://www.umcsc.org/event/rock-hill-district-clergy-meeting-4/2021-06-03/
LOCATION:Zoom Meeting
CATEGORIES:Rock Hill District
ORGANIZER;CN="Rock Hill District Office":MAILTO:rhdist@umcsc.org
END:VEVENT
BEGIN:VEVENT
DTSTART;TZID=America/New_York:20220407T093000
DTEND;TZID=America/New_York:20220407T120000
DTSTAMP:20260421T115612
CREATED:20220315T163834Z
LAST-MODIFIED:20220315T163834Z
UID:10002969-1649323800-1649332800@www.umcsc.org
SUMMARY:Rock Hill District Clergy Gathering
DESCRIPTION:
URL:https://www.umcsc.org/event/rock-hill-district-clergy-gathering/
LOCATION:SC
CATEGORIES:Rock Hill District
ORGANIZER;CN="Rock Hill District Office":MAILTO:rhdist@umcsc.org
END:VEVENT
BEGIN:VEVENT
DTSTART;TZID=America/New_York:20220430T093000
DTEND;TZID=America/New_York:20220430T163000
DTSTAMP:20260421T115612
CREATED:20220315T163112Z
LAST-MODIFIED:20220315T163112Z
UID:10002970-1651311000-1651336200@www.umcsc.org
SUMMARY:LSM School (Rock Hill)
DESCRIPTION:
URL:https://www.umcsc.org/event/lsm-school-rock-hill/2022-04-30/
LOCATION:St. John’s UMC\, 321 S. Oakland Avenue\, Rock Hill\, SC\, 29732\, United States
CATEGORIES:Lay Servant Ministries,Rock Hill District
ORGANIZER;CN="Lynne Tyner":MAILTO:kassgrandma16@gmail.com
GEO:34.9257609;-81.0239641
X-APPLE-STRUCTURED-LOCATION;VALUE=URI;X-ADDRESS=St. John’s UMC 321 S. Oakland Avenue Rock Hill SC 29732 United States;X-APPLE-RADIUS=500;X-TITLE=321 S. Oakland Avenue:geo:-81.0239641,34.9257609
END:VEVENT
BEGIN:VEVENT
DTSTART;TZID=America/New_York:20220501T140000
DTEND;TZID=America/New_York:20220501T170000
DTSTAMP:20260421T115612
CREATED:20220315T163112Z
LAST-MODIFIED:20220315T163112Z
UID:10002971-1651413600-1651424400@www.umcsc.org
SUMMARY:LSM School (Rock Hill)
DESCRIPTION:
URL:https://www.umcsc.org/event/lsm-school-rock-hill/2022-05-01/
LOCATION:St. John’s UMC\, 321 S. Oakland Avenue\, Rock Hill\, SC\, 29732\, United States
CATEGORIES:Lay Servant Ministries,Rock Hill District
ORGANIZER;CN="Lynne Tyner":MAILTO:kassgrandma16@gmail.com
GEO:34.9257609;-81.0239641
X-APPLE-STRUCTURED-LOCATION;VALUE=URI;X-ADDRESS=St. John’s UMC 321 S. Oakland Avenue Rock Hill SC 29732 United States;X-APPLE-RADIUS=500;X-TITLE=321 S. Oakland Avenue:geo:-81.0239641,34.9257609
END:VEVENT
BEGIN:VEVENT
DTSTART;TZID=America/New_York:20230318T090000
DTEND;TZID=America/New_York:20230318T120000
DTSTAMP:20260421T115612
CREATED:20230309T151636Z
LAST-MODIFIED:20230309T151636Z
UID:10002975-1679130000-1679140800@www.umcsc.org
SUMMARY:Forward Focus Leader Training
DESCRIPTION:Opportunity to Serve: \nThe District Connectional Ministries is seeking leaders who are interested in learning how to lead the Forward Focus Process for local churches.  This is a great way to help churches learn about and understand their present reality. The Forward Focus process helps churches understand  better how to serve the community each lives in.  Our goal:  “To make disciples of Jesus Christ for the transformation of the world”.  This is a valuable skill set to grow in as our church continue to discern and seek to be obedient in the cause of Christ. \nWill you lead? \nForward Focus Leader Training:  March 18\, 9:00am-12:00pm at Bethel UMC\, 101 York St.  Chester\, SC \nRegister Here:  https://forms.gle/jAuSWjthV2KGnoNY9 \n 
URL:https://www.umcsc.org/event/forward-focus-leader-training/
LOCATION:Bethel United Methodist Church\, 101 York St.\, Chester\, SC\, 29706\, United States
CATEGORIES:Rock Hill District
ORGANIZER;CN="Chris Lynch":MAILTO:clynch@umcsc.org
END:VEVENT
BEGIN:VEVENT
DTSTART;TZID=America/New_York:20230415T090000
DTEND;TZID=America/New_York:20230415T120000
DTSTAMP:20260421T115612
CREATED:20230307T142644Z
LAST-MODIFIED:20230307T143240Z
UID:10000961-1681549200-1681560000@www.umcsc.org
SUMMARY:Think Outside the Box- C3 Workshop
DESCRIPTION:Through a day of Thinking Outside the Box – C3 Workshops (Converse\, Connect\, Collaborate)\, the Rock Hill Committee of Connectional Ministries hopes to allow churches to share their favorite ministry taking place at their church and have a chance to connect and have conversations with churches of all sizes about what is working and helping to make disciples of Jesus Christ for the transformation of the world!   This workshop will take place at Mt. Holly UMC – 1996 Mt. Holly Road\, Rock Hill\, SC 29730 from 9am – 12pm on Saturday\, April 15\, 2023. \nParticipants must register individually here. \nWe will meet together in the sanctuary at 9am for a short opening worship & send out message.  From 9:45am – 10:45am\, we will have breakout sessions to hear information from Connectional ministries on areas that our Town Hall meetings highlighted\, and from 11:00 – 12pm\, we will have a ministry fair where we can see all that is going on at other churches around our district.
URL:https://www.umcsc.org/event/think-outside-the-box-c3-workshop/
LOCATION:Mt. Holly United Methodist Church\, 1966 Mt. Holly Road\, Rock Hill\, SC\, 29730\, United States
CATEGORIES:Rock Hill District
ATTACH;FMTTYPE=image/jpeg:https://www.umcsc.org/wp-content/uploads/C3-Workshops-logo.jpg
ORGANIZER;CN="Chris Lynch":MAILTO:clynch@umcsc.org
END:VEVENT
BEGIN:VEVENT
DTSTART;TZID=America/New_York:20230422T100000
DTEND;TZID=America/New_York:20230422T140000
DTSTAMP:20260421T115612
CREATED:20230313T144241Z
LAST-MODIFIED:20230313T144322Z
UID:10002974-1682157600-1682172000@www.umcsc.org
SUMMARY:Rock Hill District Salkehatchie Youth Rally
DESCRIPTION:This Rock Hill District Youth Event is open to everyone currently in the 7th grade up to adults. It’s not just for United Methodists either so invite your friends. This will be an “all about Salkehatchie” time with singing\, worship\, fun\, lunch and information about Salkehatchie Camps. And its FREE\, we do ask that you pre-register though so we can plan accordingly. \nTo register groups\, or individuals\, email your information including your name\, church\, number attending and a contact number to director@catawbasalkehatchie.org
URL:https://www.umcsc.org/event/rock-hill-district-salkehatchie-youth-rally/
LOCATION:Pleasant Hill United Methodist Church\, 238 Fort Mill Hwy.\, Indian Land\, SC\, 29707\, United States
CATEGORIES:Rock Hill District
END:VEVENT
BEGIN:VEVENT
DTSTART;TZID=America/New_York:20230429T083000
DTEND;TZID=America/New_York:20230429T163000
DTSTAMP:20260421T115612
CREATED:20230309T171254Z
LAST-MODIFIED:20230309T171254Z
UID:10002972-1682757000-1682785800@www.umcsc.org
SUMMARY:Rock Hill District Lay Servant Training
DESCRIPTION:PLEASE NOTE: MULTIPLE LOCATIONS \n\nCornerstone UMC- 2697 Heckle Blvd\, Rock Hill\nTrinity UMC- 22 E Liberty St\, York\nSt. John’s UMC- 130 Tom Hall St\, Fort Mill\n\n  \nAttendance of all sessions is required for course credit. \nRegistration Fee: $20 (Course Books will need to be ordered by participants. Please see details below.) \nRegistration deadline is April 15\, 2023. \n  \nREGISTRATION LINK: https://www.umcsc.org/lay-servant-training-spring-2023/ \nContact: Lynne Tyner\, Lay Servant Ministries Director\, kassgrandma16@gmail.com\, 803-517-6596 \nJerry Newlon\, Associate Director\, jnewlonjr@gmail.com\, 803-370-0965
URL:https://www.umcsc.org/event/rock-hill-district-lay-servant-training-2/2023-04-29/
LOCATION:SC
CATEGORIES:Rock Hill District
ORGANIZER;CN="Lynne Tyner":MAILTO:kassgrandma16@gmail.com
END:VEVENT
BEGIN:VEVENT
DTSTART;TZID=America/New_York:20230430T133000
DTEND;TZID=America/New_York:20230430T170000
DTSTAMP:20260421T115612
CREATED:20230309T171254Z
LAST-MODIFIED:20230309T171254Z
UID:10002973-1682861400-1682874000@www.umcsc.org
SUMMARY:Rock Hill District Lay Servant Training
DESCRIPTION:PLEASE NOTE: MULTIPLE LOCATIONS \n\nCornerstone UMC- 2697 Heckle Blvd\, Rock Hill\nTrinity UMC- 22 E Liberty St\, York\nSt. John’s UMC- 130 Tom Hall St\, Fort Mill\n\n  \nAttendance of all sessions is required for course credit. \nRegistration Fee: $20 (Course Books will need to be ordered by participants. Please see details below.) \nRegistration deadline is April 15\, 2023. \n  \nREGISTRATION LINK: https://www.umcsc.org/lay-servant-training-spring-2023/ \nContact: Lynne Tyner\, Lay Servant Ministries Director\, kassgrandma16@gmail.com\, 803-517-6596 \nJerry Newlon\, Associate Director\, jnewlonjr@gmail.com\, 803-370-0965
URL:https://www.umcsc.org/event/rock-hill-district-lay-servant-training-2/2023-04-30/
LOCATION:SC
CATEGORIES:Rock Hill District
ORGANIZER;CN="Lynne Tyner":MAILTO:kassgrandma16@gmail.com
END:VEVENT
BEGIN:VEVENT
DTSTART;TZID=America/New_York:20230506T090000
DTEND;TZID=America/New_York:20230506T120000
DTSTAMP:20260421T115612
CREATED:20230405T150614Z
LAST-MODIFIED:20230405T150614Z
UID:10002976-1683363600-1683374400@www.umcsc.org
SUMMARY:Rock Hill District Safe Sanctuary Training
DESCRIPTION:Beginning in 2007 each local church in the South Carolina Annual Conference was expected to write and maintain a Safe Sanctuary Policy and to review it annually. That policy must be on file in the district office and the church must provide training annually to all church members on the safe sanctuaries policy. This annual review of the local church’s policy is more critical following the settlement of the Boy Scouts of America lawsuit. To demonstrate good faith on the part of the United Methodist Church\, every conference must provide assistance to each local church. \nRock Hill District has scheduled a district-wide Safe Sanctuary Training Event for Saturday\, May 6\, 9:00 am – 12:00 noon at Woodland UMC (801 Cherry Rd\, Rock Hill). All Pastors\, Lay Leaders\, Chairs of Trustees\, SPRC and Church Council\, as well as staff and Children and Youth Coordinators should attend. The cost of this training is free\, however registration is required. Each individual person must register here so we can verify participation. \nDistrict Safe Sanctuary trainers will provide in-person follow up training to the local church to review\, update\, and train to the church’s Safe Sanctuary Policy. For questions\, more information\, or to schedule an in-person training\, please contact Juliette Phillpot\, Rock Hill District Safe Sanctuary Coordinator – jphillpotwumc@comporium.net (803) 207-0211.
URL:https://www.umcsc.org/event/rock-hill-district-safe-sanctuary-training/
LOCATION:Woodland United Methodist Church\, 801 Cherry Road\, Rock Hill\, SC\, 29732\, United States
CATEGORIES:Rock Hill District
ORGANIZER;CN="Juliette Phillpot":MAILTO:jphillpotwumc@comporium.net
GEO:34.9462054;-81.025992
X-APPLE-STRUCTURED-LOCATION;VALUE=URI;X-ADDRESS=Woodland United Methodist Church 801 Cherry Road Rock Hill SC 29732 United States;X-APPLE-RADIUS=500;X-TITLE=801 Cherry Road:geo:-81.025992,34.9462054
END:VEVENT
BEGIN:VEVENT
DTSTART;VALUE=DATE:20230813
DTEND;VALUE=DATE:20230814
DTSTAMP:20260421T115612
CREATED:20230210T205426Z
LAST-MODIFIED:20230210T205510Z
UID:10000860-1691884800-1691971199@www.umcsc.org
SUMMARY:Aldersgate Special Needs Ministry Sunday
DESCRIPTION:
URL:https://www.umcsc.org/event/aldersgate-special-needs-ministry-sunday-2/
LOCATION:SC
CATEGORIES:Conference,Florence District,Greenville District,Greenwood District,Hartsville District,Marion District,Orangeburg District,Rock Hill District,Spartanburg District,Walterboro District
END:VEVENT
BEGIN:VEVENT
DTSTART;VALUE=DATE:20240203
DTEND;VALUE=DATE:20240204
DTSTAMP:20260421T115612
CREATED:20231114T200636Z
LAST-MODIFIED:20231114T200636Z
UID:10000893-1706918400-1707004799@www.umcsc.org
SUMMARY:Bishop Holston's Rock Hill District Visit: "Strengthening the Soul of Our Leadership"
DESCRIPTION:Times and location to be determined.
URL:https://www.umcsc.org/event/bishop-holstons-rock-hill-district-visit-strengthening-the-soul-of-our-leadership/
LOCATION:SC
CATEGORIES:Conference,Rock Hill District
END:VEVENT
END:VCALENDAR