BEGIN:VCALENDAR
VERSION:2.0
PRODID:-//South Carolina UMC - ECPv6.15.20//NONSGML v1.0//EN
CALSCALE:GREGORIAN
METHOD:PUBLISH
X-WR-CALNAME:South Carolina UMC
X-ORIGINAL-URL:https://www.umcsc.org
X-WR-CALDESC:Events for South Carolina UMC
REFRESH-INTERVAL;VALUE=DURATION:PT1H
X-Robots-Tag:noindex
X-PUBLISHED-TTL:PT1H
BEGIN:VTIMEZONE
TZID:America/New_York
BEGIN:DAYLIGHT
TZOFFSETFROM:-0500
TZOFFSETTO:-0400
TZNAME:EDT
DTSTART:20220313T070000
END:DAYLIGHT
BEGIN:STANDARD
TZOFFSETFROM:-0400
TZOFFSETTO:-0500
TZNAME:EST
DTSTART:20221106T060000
END:STANDARD
BEGIN:DAYLIGHT
TZOFFSETFROM:-0500
TZOFFSETTO:-0400
TZNAME:EDT
DTSTART:20230312T070000
END:DAYLIGHT
BEGIN:STANDARD
TZOFFSETFROM:-0400
TZOFFSETTO:-0500
TZNAME:EST
DTSTART:20231105T060000
END:STANDARD
BEGIN:DAYLIGHT
TZOFFSETFROM:-0500
TZOFFSETTO:-0400
TZNAME:EDT
DTSTART:20240310T070000
END:DAYLIGHT
BEGIN:STANDARD
TZOFFSETFROM:-0400
TZOFFSETTO:-0500
TZNAME:EST
DTSTART:20241103T060000
END:STANDARD
END:VTIMEZONE
BEGIN:VEVENT
DTSTART;TZID=America/New_York:20230415T090000
DTEND;TZID=America/New_York:20230415T120000
DTSTAMP:20260421T115446
CREATED:20230307T142644Z
LAST-MODIFIED:20230307T143240Z
UID:10000961-1681549200-1681560000@www.umcsc.org
SUMMARY:Think Outside the Box- C3 Workshop
DESCRIPTION:Through a day of Thinking Outside the Box – C3 Workshops (Converse\, Connect\, Collaborate)\, the Rock Hill Committee of Connectional Ministries hopes to allow churches to share their favorite ministry taking place at their church and have a chance to connect and have conversations with churches of all sizes about what is working and helping to make disciples of Jesus Christ for the transformation of the world!   This workshop will take place at Mt. Holly UMC – 1996 Mt. Holly Road\, Rock Hill\, SC 29730 from 9am – 12pm on Saturday\, April 15\, 2023. \nParticipants must register individually here. \nWe will meet together in the sanctuary at 9am for a short opening worship & send out message.  From 9:45am – 10:45am\, we will have breakout sessions to hear information from Connectional ministries on areas that our Town Hall meetings highlighted\, and from 11:00 – 12pm\, we will have a ministry fair where we can see all that is going on at other churches around our district.
URL:https://www.umcsc.org/event/think-outside-the-box-c3-workshop/
LOCATION:Mt. Holly United Methodist Church\, 1966 Mt. Holly Road\, Rock Hill\, SC\, 29730\, United States
CATEGORIES:Rock Hill District
ATTACH;FMTTYPE=image/jpeg:https://www.umcsc.org/wp-content/uploads/C3-Workshops-logo.jpg
ORGANIZER;CN="Chris Lynch":MAILTO:clynch@umcsc.org
END:VEVENT
BEGIN:VEVENT
DTSTART;TZID=America/New_York:20230422T100000
DTEND;TZID=America/New_York:20230422T140000
DTSTAMP:20260421T115446
CREATED:20230313T144241Z
LAST-MODIFIED:20230313T144322Z
UID:10002974-1682157600-1682172000@www.umcsc.org
SUMMARY:Rock Hill District Salkehatchie Youth Rally
DESCRIPTION:This Rock Hill District Youth Event is open to everyone currently in the 7th grade up to adults. It’s not just for United Methodists either so invite your friends. This will be an “all about Salkehatchie” time with singing\, worship\, fun\, lunch and information about Salkehatchie Camps. And its FREE\, we do ask that you pre-register though so we can plan accordingly. \nTo register groups\, or individuals\, email your information including your name\, church\, number attending and a contact number to director@catawbasalkehatchie.org
URL:https://www.umcsc.org/event/rock-hill-district-salkehatchie-youth-rally/
LOCATION:Pleasant Hill United Methodist Church\, 238 Fort Mill Hwy.\, Indian Land\, SC\, 29707\, United States
CATEGORIES:Rock Hill District
END:VEVENT
BEGIN:VEVENT
DTSTART;TZID=America/New_York:20230429T083000
DTEND;TZID=America/New_York:20230429T163000
DTSTAMP:20260421T115446
CREATED:20230309T171254Z
LAST-MODIFIED:20230309T171254Z
UID:10002972-1682757000-1682785800@www.umcsc.org
SUMMARY:Rock Hill District Lay Servant Training
DESCRIPTION:PLEASE NOTE: MULTIPLE LOCATIONS \n\nCornerstone UMC- 2697 Heckle Blvd\, Rock Hill\nTrinity UMC- 22 E Liberty St\, York\nSt. John’s UMC- 130 Tom Hall St\, Fort Mill\n\n  \nAttendance of all sessions is required for course credit. \nRegistration Fee: $20 (Course Books will need to be ordered by participants. Please see details below.) \nRegistration deadline is April 15\, 2023. \n  \nREGISTRATION LINK: https://www.umcsc.org/lay-servant-training-spring-2023/ \nContact: Lynne Tyner\, Lay Servant Ministries Director\, kassgrandma16@gmail.com\, 803-517-6596 \nJerry Newlon\, Associate Director\, jnewlonjr@gmail.com\, 803-370-0965
URL:https://www.umcsc.org/event/rock-hill-district-lay-servant-training-2/2023-04-29/
LOCATION:SC
CATEGORIES:Rock Hill District
ORGANIZER;CN="Lynne Tyner":MAILTO:kassgrandma16@gmail.com
END:VEVENT
BEGIN:VEVENT
DTSTART;TZID=America/New_York:20230430T133000
DTEND;TZID=America/New_York:20230430T170000
DTSTAMP:20260421T115446
CREATED:20230309T171254Z
LAST-MODIFIED:20230309T171254Z
UID:10002973-1682861400-1682874000@www.umcsc.org
SUMMARY:Rock Hill District Lay Servant Training
DESCRIPTION:PLEASE NOTE: MULTIPLE LOCATIONS \n\nCornerstone UMC- 2697 Heckle Blvd\, Rock Hill\nTrinity UMC- 22 E Liberty St\, York\nSt. John’s UMC- 130 Tom Hall St\, Fort Mill\n\n  \nAttendance of all sessions is required for course credit. \nRegistration Fee: $20 (Course Books will need to be ordered by participants. Please see details below.) \nRegistration deadline is April 15\, 2023. \n  \nREGISTRATION LINK: https://www.umcsc.org/lay-servant-training-spring-2023/ \nContact: Lynne Tyner\, Lay Servant Ministries Director\, kassgrandma16@gmail.com\, 803-517-6596 \nJerry Newlon\, Associate Director\, jnewlonjr@gmail.com\, 803-370-0965
URL:https://www.umcsc.org/event/rock-hill-district-lay-servant-training-2/2023-04-30/
LOCATION:SC
CATEGORIES:Rock Hill District
ORGANIZER;CN="Lynne Tyner":MAILTO:kassgrandma16@gmail.com
END:VEVENT
END:VCALENDAR