BEGIN:VCALENDAR
VERSION:2.0
PRODID:-//South Carolina UMC - ECPv6.15.20//NONSGML v1.0//EN
CALSCALE:GREGORIAN
METHOD:PUBLISH
X-ORIGINAL-URL:https://www.umcsc.org
X-WR-CALDESC:Events for South Carolina UMC
REFRESH-INTERVAL;VALUE=DURATION:PT1H
X-Robots-Tag:noindex
X-PUBLISHED-TTL:PT1H
BEGIN:VTIMEZONE
TZID:America/New_York
BEGIN:DAYLIGHT
TZOFFSETFROM:-0500
TZOFFSETTO:-0400
TZNAME:EDT
DTSTART:20240310T070000
END:DAYLIGHT
BEGIN:STANDARD
TZOFFSETFROM:-0400
TZOFFSETTO:-0500
TZNAME:EST
DTSTART:20241103T060000
END:STANDARD
BEGIN:DAYLIGHT
TZOFFSETFROM:-0500
TZOFFSETTO:-0400
TZNAME:EDT
DTSTART:20250309T070000
END:DAYLIGHT
BEGIN:STANDARD
TZOFFSETFROM:-0400
TZOFFSETTO:-0500
TZNAME:EST
DTSTART:20251102T060000
END:STANDARD
BEGIN:DAYLIGHT
TZOFFSETFROM:-0500
TZOFFSETTO:-0400
TZNAME:EDT
DTSTART:20260308T070000
END:DAYLIGHT
BEGIN:STANDARD
TZOFFSETFROM:-0400
TZOFFSETTO:-0500
TZNAME:EST
DTSTART:20261101T060000
END:STANDARD
END:VTIMEZONE
BEGIN:VEVENT
DTSTART;TZID=America/New_York:20250117T083000
DTEND;TZID=America/New_York:20250117T160000
DTSTAMP:20260419T162139
CREATED:20241217T223701Z
LAST-MODIFIED:20241217T225051Z
UID:10003135-1737102600-1737129600@www.umcsc.org
SUMMARY:LSM School (Columbia District)
DESCRIPTION:Columbia District LSM Winter School \nJanuary 17th and 18th\, 2025 \nClick on the link below for full information\, registration link\, books needed\, and instructors. \nCOLUMBIA LSM SCHOOL _Winter Class_flyer_2025.01(2)
URL:https://www.umcsc.org/event/lsm-school-columbia-district-9/2025-01-17/
LOCATION:Trinity UMC Blythwood\, 90 Boney Road\, Blythwood\, SC\, 29016\, United States
CATEGORIES:Lay Servant Ministries
ORGANIZER;CN="Chuck Sovick":MAILTO:chucksovick239@gmail.com
END:VEVENT
BEGIN:VEVENT
DTSTART;TZID=America/New_York:20250118T083000
DTEND;TZID=America/New_York:20250118T160000
DTSTAMP:20260419T162139
CREATED:20241217T223701Z
LAST-MODIFIED:20241217T225051Z
UID:10003136-1737189000-1737216000@www.umcsc.org
SUMMARY:LSM School (Columbia District)
DESCRIPTION:Columbia District LSM Winter School \nJanuary 17th and 18th\, 2025 \nClick on the link below for full information\, registration link\, books needed\, and instructors. \nCOLUMBIA LSM SCHOOL _Winter Class_flyer_2025.01(2)
URL:https://www.umcsc.org/event/lsm-school-columbia-district-9/2025-01-18/
LOCATION:Trinity UMC Blythwood\, 90 Boney Road\, Blythwood\, SC\, 29016\, United States
CATEGORIES:Lay Servant Ministries
ORGANIZER;CN="Chuck Sovick":MAILTO:chucksovick239@gmail.com
END:VEVENT
BEGIN:VEVENT
DTSTART;TZID=America/New_York:20250124T190000
DTEND;TZID=America/New_York:20250124T210000
DTSTAMP:20260419T162139
CREATED:20241217T230412Z
LAST-MODIFIED:20241217T230412Z
UID:10003137-1737745200-1737752400@www.umcsc.org
SUMMARY:LSM School (Walterboro District)
DESCRIPTION:Walterboro District Hybrid Lay Servant School \nJanuary 24 – 26\, 2025 (Jan 24 Virtual\, Jan 25 and 26 in person) \nClick on the link below for full information and registration information. \nWalterboro District Lay School-January 2025-rev
URL:https://www.umcsc.org/event/lsm-school-walterboro-district-6/2025-01-24/
LOCATION:Shady Grove UMC Life Center\, 9140 Charleston Highway\, St. George\, SC\, 29477\, United States
CATEGORIES:Lay Servant Ministries
ORGANIZER;CN="Thelma Hudson":MAILTO:razthe50s@yahoo.com
END:VEVENT
BEGIN:VEVENT
DTSTART;TZID=America/New_York:20250125T133000
DTEND;TZID=America/New_York:20250125T170000
DTSTAMP:20260419T162139
CREATED:20260116T190129Z
LAST-MODIFIED:20260116T190129Z
UID:10003140-1737811800-1737824400@www.umcsc.org
SUMMARY:LSM School (Walterboro District)
DESCRIPTION:Walterboro District Hybrid Lay Servant School \nJanuary 24 – 26\, 2025 (Jan 24 Virtual\, Jan 25 and 26 in person) \nClick on the link below for full information and registration information. \nWalterboro District Lay School-January 2025-rev
URL:https://www.umcsc.org/event/lsm-school-walterboro-district-6/2025-01-25/
LOCATION:Shady Grove UMC Life Center\, 9140 Charleston Highway\, St. George\, SC\, 29477\, United States
CATEGORIES:Lay Servant Ministries
ORGANIZER;CN="Thelma Hudson":MAILTO:razthe50s@yahoo.com
END:VEVENT
BEGIN:VEVENT
DTSTART;TZID=America/New_York:20250125T190000
DTEND;TZID=America/New_York:20250125T210000
DTSTAMP:20260419T162139
CREATED:20241217T230412Z
LAST-MODIFIED:20241217T230412Z
UID:10003138-1737831600-1737838800@www.umcsc.org
SUMMARY:LSM School (Walterboro District)
DESCRIPTION:Walterboro District Hybrid Lay Servant School \nJanuary 24 – 26\, 2025 (Jan 24 Virtual\, Jan 25 and 26 in person) \nClick on the link below for full information and registration information. \nWalterboro District Lay School-January 2025-rev
URL:https://www.umcsc.org/event/lsm-school-walterboro-district-6/2025-01-25/
LOCATION:Shady Grove UMC Life Center\, 9140 Charleston Highway\, St. George\, SC\, 29477\, United States
CATEGORIES:Lay Servant Ministries
ORGANIZER;CN="Thelma Hudson":MAILTO:razthe50s@yahoo.com
END:VEVENT
BEGIN:VEVENT
DTSTART;TZID=America/New_York:20250126T133000
DTEND;TZID=America/New_York:20250126T170000
DTSTAMP:20260419T162139
CREATED:20260116T190129Z
LAST-MODIFIED:20260116T190129Z
UID:10003141-1737898200-1737910800@www.umcsc.org
SUMMARY:LSM School (Walterboro District)
DESCRIPTION:Walterboro District Hybrid Lay Servant School \nJanuary 24 – 26\, 2025 (Jan 24 Virtual\, Jan 25 and 26 in person) \nClick on the link below for full information and registration information. \nWalterboro District Lay School-January 2025-rev
URL:https://www.umcsc.org/event/lsm-school-walterboro-district-6/2025-01-26/
LOCATION:Shady Grove UMC Life Center\, 9140 Charleston Highway\, St. George\, SC\, 29477\, United States
CATEGORIES:Lay Servant Ministries
ORGANIZER;CN="Thelma Hudson":MAILTO:razthe50s@yahoo.com
END:VEVENT
BEGIN:VEVENT
DTSTART;TZID=America/New_York:20250126T190000
DTEND;TZID=America/New_York:20250126T210000
DTSTAMP:20260419T162139
CREATED:20241217T230412Z
LAST-MODIFIED:20241217T230412Z
UID:10003139-1737918000-1737925200@www.umcsc.org
SUMMARY:LSM School (Walterboro District)
DESCRIPTION:Walterboro District Hybrid Lay Servant School \nJanuary 24 – 26\, 2025 (Jan 24 Virtual\, Jan 25 and 26 in person) \nClick on the link below for full information and registration information. \nWalterboro District Lay School-January 2025-rev
URL:https://www.umcsc.org/event/lsm-school-walterboro-district-6/2025-01-26/
LOCATION:Shady Grove UMC Life Center\, 9140 Charleston Highway\, St. George\, SC\, 29477\, United States
CATEGORIES:Lay Servant Ministries
ORGANIZER;CN="Thelma Hudson":MAILTO:razthe50s@yahoo.com
END:VEVENT
END:VCALENDAR