BEGIN:VCALENDAR
VERSION:2.0
PRODID:-//South Carolina UMC - ECPv6.15.20//NONSGML v1.0//EN
CALSCALE:GREGORIAN
METHOD:PUBLISH
X-WR-CALNAME:South Carolina UMC
X-ORIGINAL-URL:https://www.umcsc.org
X-WR-CALDESC:Events for South Carolina UMC
REFRESH-INTERVAL;VALUE=DURATION:PT1H
X-Robots-Tag:noindex
X-PUBLISHED-TTL:PT1H
BEGIN:VTIMEZONE
TZID:America/New_York
BEGIN:DAYLIGHT
TZOFFSETFROM:-0500
TZOFFSETTO:-0400
TZNAME:EDT
DTSTART:20210314T070000
END:DAYLIGHT
BEGIN:STANDARD
TZOFFSETFROM:-0400
TZOFFSETTO:-0500
TZNAME:EST
DTSTART:20211107T060000
END:STANDARD
BEGIN:DAYLIGHT
TZOFFSETFROM:-0500
TZOFFSETTO:-0400
TZNAME:EDT
DTSTART:20220313T070000
END:DAYLIGHT
BEGIN:STANDARD
TZOFFSETFROM:-0400
TZOFFSETTO:-0500
TZNAME:EST
DTSTART:20221106T060000
END:STANDARD
BEGIN:DAYLIGHT
TZOFFSETFROM:-0500
TZOFFSETTO:-0400
TZNAME:EDT
DTSTART:20230312T070000
END:DAYLIGHT
BEGIN:STANDARD
TZOFFSETFROM:-0400
TZOFFSETTO:-0500
TZNAME:EST
DTSTART:20231105T060000
END:STANDARD
END:VTIMEZONE
BEGIN:VEVENT
DTSTART;TZID=America/New_York:20220212T093000
DTEND;TZID=America/New_York:20220212T093000
DTSTAMP:20260421T064801
CREATED:20211011T151108Z
LAST-MODIFIED:20211011T151108Z
UID:10002872-1644658200-1644658200@www.umcsc.org
SUMMARY:UMW Executive Committee
DESCRIPTION:
URL:https://www.umcsc.org/event/umw-executive-committee-7/
LOCATION:Virtual Meeting
CATEGORIES:Conference
END:VEVENT
BEGIN:VEVENT
DTSTART;TZID=America/New_York:20220212T100000
DTEND;TZID=America/New_York:20220212T100000
DTSTAMP:20260421T064801
CREATED:20220125T205802Z
LAST-MODIFIED:20220125T205802Z
UID:10000788-1644660000-1644660000@www.umcsc.org
SUMMARY:Congregational Development Executive Committee Meeting
DESCRIPTION:
URL:https://www.umcsc.org/event/congregational-development-executive-committee-meeting/
LOCATION:SC
CATEGORIES:Conference
ORGANIZER;CN="Laura Hill%2C Congregational Development":MAILTO:lhill@umcsc.org
END:VEVENT
BEGIN:VEVENT
DTSTART;TZID=America/New_York:20220212T133000
DTEND;TZID=America/New_York:20220212T133000
DTSTAMP:20260421T064801
CREATED:20211011T151258Z
LAST-MODIFIED:20211011T151258Z
UID:10002873-1644672600-1644672600@www.umcsc.org
SUMMARY:UMW Legacy Committee
DESCRIPTION:
URL:https://www.umcsc.org/event/umw-legacy-committee-2/
LOCATION:Virtual Meeting
CATEGORIES:Conference
END:VEVENT
END:VCALENDAR