BEGIN:VCALENDAR
VERSION:2.0
PRODID:-//South Carolina UMC - ECPv6.15.20//NONSGML v1.0//EN
CALSCALE:GREGORIAN
METHOD:PUBLISH
X-ORIGINAL-URL:https://www.umcsc.org
X-WR-CALDESC:Events for South Carolina UMC
REFRESH-INTERVAL;VALUE=DURATION:PT1H
X-Robots-Tag:noindex
X-PUBLISHED-TTL:PT1H
BEGIN:VTIMEZONE
TZID:America/New_York
BEGIN:DAYLIGHT
TZOFFSETFROM:-0500
TZOFFSETTO:-0400
TZNAME:EDT
DTSTART:20190310T070000
END:DAYLIGHT
BEGIN:STANDARD
TZOFFSETFROM:-0400
TZOFFSETTO:-0500
TZNAME:EST
DTSTART:20191103T060000
END:STANDARD
BEGIN:DAYLIGHT
TZOFFSETFROM:-0500
TZOFFSETTO:-0400
TZNAME:EDT
DTSTART:20200308T070000
END:DAYLIGHT
BEGIN:STANDARD
TZOFFSETFROM:-0400
TZOFFSETTO:-0500
TZNAME:EST
DTSTART:20201101T060000
END:STANDARD
BEGIN:DAYLIGHT
TZOFFSETFROM:-0500
TZOFFSETTO:-0400
TZNAME:EDT
DTSTART:20210314T070000
END:DAYLIGHT
BEGIN:STANDARD
TZOFFSETFROM:-0400
TZOFFSETTO:-0500
TZNAME:EST
DTSTART:20211107T060000
END:STANDARD
END:VTIMEZONE
BEGIN:VEVENT
DTSTART;TZID=America/New_York:20200303T090000
DTEND;TZID=America/New_York:20200303T090000
DTSTAMP:20260422T171323
CREATED:20191106T150220Z
LAST-MODIFIED:20191106T150220Z
UID:10002737-1583226000-1583226000@www.umcsc.org
SUMMARY:UMW Legislative Advocacy Day (bad weather makeup day if needed)
DESCRIPTION:
URL:https://www.umcsc.org/event/umw-legislative-advocacy-day-bad-weather-makeup-day-if-needed/
LOCATION:Epworth Children’s Home\, SC\, 29205\, United States
CATEGORIES:Conference
END:VEVENT
BEGIN:VEVENT
DTSTART;TZID=America/New_York:20200306T100000
DTEND;TZID=America/New_York:20200306T100000
DTSTAMP:20260422T171323
CREATED:20191118T144456Z
LAST-MODIFIED:20191118T144456Z
UID:10002758-1583488800-1583488800@www.umcsc.org
SUMMARY:Conference Committee on Nominations
DESCRIPTION:
URL:https://www.umcsc.org/event/conference-committee-on-nominations-2/
LOCATION:SC United Methodist Conference Center\, Room 105\, 4908 Colonial Drive\, Columbia\, SC\, 29203\, United States
CATEGORIES:Conference
GEO:34.045681;-81.0275544
X-APPLE-STRUCTURED-LOCATION;VALUE=URI;X-ADDRESS=SC United Methodist Conference Center Room 105 4908 Colonial Drive Columbia SC 29203 United States;X-APPLE-RADIUS=500;X-TITLE=4908 Colonial Drive:geo:-81.0275544,34.045681
END:VEVENT
BEGIN:VEVENT
DTSTART;TZID=America/New_York:20200314T093000
DTEND;TZID=America/New_York:20200314T093000
DTSTAMP:20260422T171323
CREATED:20191106T150403Z
LAST-MODIFIED:20191106T150403Z
UID:10001057-1584178200-1584178200@www.umcsc.org
SUMMARY:UMW Mission U Committee
DESCRIPTION:
URL:https://www.umcsc.org/event/umw-mission-u-committee-2/
LOCATION:South Carolina United Methodist Center\, Upstairs Conference Room\, 4908 Colonial Drive\, Columbia\, SC\, United States
CATEGORIES:Conference
GEO:34.045681;-81.0275544
X-APPLE-STRUCTURED-LOCATION;VALUE=URI;X-ADDRESS=South Carolina United Methodist Center Upstairs Conference Room 4908 Colonial Drive Columbia SC United States;X-APPLE-RADIUS=500;X-TITLE=4908 Colonial Drive:geo:-81.0275544,34.045681
END:VEVENT
BEGIN:VEVENT
DTSTART;TZID=America/New_York:20200314T100000
DTEND;TZID=America/New_York:20200314T150000
DTSTAMP:20260422T171323
CREATED:20191104T160328Z
LAST-MODIFIED:20191104T160328Z
UID:10002717-1584180000-1584198000@www.umcsc.org
SUMMARY:SC ELCC Meeting
DESCRIPTION:
URL:https://www.umcsc.org/event/sc-elcc-meeting-4/
LOCATION:SC United Methodist Conference Center\, Room 105\, 4908 Colonial Drive\, Columbia\, SC\, 29203\, United States
CATEGORIES:Conference
GEO:34.045681;-81.0275544
X-APPLE-STRUCTURED-LOCATION;VALUE=URI;X-ADDRESS=SC United Methodist Conference Center Room 105 4908 Colonial Drive Columbia SC 29203 United States;X-APPLE-RADIUS=500;X-TITLE=4908 Colonial Drive:geo:-81.0275544,34.045681
END:VEVENT
BEGIN:VEVENT
DTSTART;TZID=America/New_York:20200316T100000
DTEND;TZID=America/New_York:20200316T130000
DTSTAMP:20260422T171323
CREATED:20200117T193502Z
LAST-MODIFIED:20200117T193502Z
UID:10002741-1584352800-1584363600@www.umcsc.org
SUMMARY:Board of Pensions Meeting
DESCRIPTION:
URL:https://www.umcsc.org/event/board-of-pensions-meeting/
LOCATION:SC United Methodist Conference Center\, Rm 120\, SC\, United States
CATEGORIES:Conference
END:VEVENT
BEGIN:VEVENT
DTSTART;TZID=America/New_York:20200316T110000
DTEND;TZID=America/New_York:20200316T123000
DTSTAMP:20260422T171323
CREATED:20200117T193020Z
LAST-MODIFIED:20200117T193020Z
UID:10002739-1584356400-1584361800@www.umcsc.org
SUMMARY:SC United Methodist Conference Credit Union Board of Directors Meeting
DESCRIPTION:
URL:https://www.umcsc.org/event/sc-united-methodist-conference-credit-union-board-of-directors-meeting-3/
LOCATION:South Carolina United Methodist Center\, Upstairs Conference Room\, 4908 Colonial Drive\, Columbia\, SC\, United States
CATEGORIES:Conference
GEO:34.045681;-81.0275544
X-APPLE-STRUCTURED-LOCATION;VALUE=URI;X-ADDRESS=South Carolina United Methodist Center Upstairs Conference Room 4908 Colonial Drive Columbia SC United States;X-APPLE-RADIUS=500;X-TITLE=4908 Colonial Drive:geo:-81.0275544,34.045681
END:VEVENT
BEGIN:VEVENT
DTSTART;TZID=America/New_York:20200317T093000
DTEND;TZID=America/New_York:20200317T143000
DTSTAMP:20260422T171323
CREATED:20200124T203526Z
LAST-MODIFIED:20200124T203526Z
UID:10000740-1584437400-1584455400@www.umcsc.org
SUMMARY:Clergy Orders Gathering
DESCRIPTION:
URL:https://www.umcsc.org/event/clergy-orders-gathering-2/
LOCATION:Lexington UMC\, 309 E. Main St.\, Lexington\, 29072
CATEGORIES:Conference
GEO:33.979061;-81.2342423
X-APPLE-STRUCTURED-LOCATION;VALUE=URI;X-ADDRESS=Lexington UMC 309 E. Main St. Lexington 29072;X-APPLE-RADIUS=500;X-TITLE=309 E. Main St.:geo:-81.2342423,33.979061
END:VEVENT
BEGIN:VEVENT
DTSTART;TZID=America/New_York:20200320T100000
DTEND;TZID=America/New_York:20200320T100000
DTSTAMP:20260422T171323
CREATED:20191118T145404Z
LAST-MODIFIED:20191118T145404Z
UID:10002759-1584698400-1584698400@www.umcsc.org
SUMMARY:Conference Committee on Nominations
DESCRIPTION:
URL:https://www.umcsc.org/event/conference-committee-on-nominations-3/
LOCATION:SC United Methodist Conference Center\, Room 105\, 4908 Colonial Drive\, Columbia\, SC\, 29203\, United States
CATEGORIES:Conference
GEO:34.045681;-81.0275544
X-APPLE-STRUCTURED-LOCATION;VALUE=URI;X-ADDRESS=SC United Methodist Conference Center Room 105 4908 Colonial Drive Columbia SC 29203 United States;X-APPLE-RADIUS=500;X-TITLE=4908 Colonial Drive:geo:-81.0275544,34.045681
END:VEVENT
BEGIN:VEVENT
DTSTART;TZID=America/New_York:20200321T093000
DTEND;TZID=America/New_York:20200321T093000
DTSTAMP:20260422T171323
CREATED:20191106T151007Z
LAST-MODIFIED:20191106T151007Z
UID:10000677-1584783000-1584783000@www.umcsc.org
SUMMARY:UMW Finance Committee
DESCRIPTION:
URL:https://www.umcsc.org/event/umw-finance-committee-3/
LOCATION:South Carolina United Methodist Center\, Upstairs Conference Room\, 4908 Colonial Drive\, Columbia\, SC\, United States
CATEGORIES:Conference
GEO:34.045681;-81.0275544
X-APPLE-STRUCTURED-LOCATION;VALUE=URI;X-ADDRESS=South Carolina United Methodist Center Upstairs Conference Room 4908 Colonial Drive Columbia SC United States;X-APPLE-RADIUS=500;X-TITLE=4908 Colonial Drive:geo:-81.0275544,34.045681
END:VEVENT
BEGIN:VEVENT
DTSTART;TZID=America/New_York:20200321T093000
DTEND;TZID=America/New_York:20200321T093000
DTSTAMP:20260422T171323
CREATED:20191106T151809Z
LAST-MODIFIED:20191106T151809Z
UID:10000714-1584783000-1584783000@www.umcsc.org
SUMMARY:UMW Committee on Nominations
DESCRIPTION:
URL:https://www.umcsc.org/event/umw-committee-on-nominations-3/
LOCATION:SC United Methodist Conference Center\, Room 105\, 4908 Colonial Drive\, Columbia\, SC\, 29203\, United States
CATEGORIES:Conference
GEO:34.045681;-81.0275544
X-APPLE-STRUCTURED-LOCATION;VALUE=URI;X-ADDRESS=SC United Methodist Conference Center Room 105 4908 Colonial Drive Columbia SC 29203 United States;X-APPLE-RADIUS=500;X-TITLE=4908 Colonial Drive:geo:-81.0275544,34.045681
END:VEVENT
BEGIN:VEVENT
DTSTART;TZID=America/New_York:20200321T123000
DTEND;TZID=America/New_York:20200321T123000
DTSTAMP:20260422T171323
CREATED:20191106T151953Z
LAST-MODIFIED:20191106T151953Z
UID:10001133-1584793800-1584793800@www.umcsc.org
SUMMARY:UMW Legacy Fund Committee
DESCRIPTION:
URL:https://www.umcsc.org/event/umw-legacy-fund-committee-2/
LOCATION:South Carolina United Methodist Center\, Upstairs Conference Room\, 4908 Colonial Drive\, Columbia\, SC\, United States
CATEGORIES:Conference
GEO:34.045681;-81.0275544
X-APPLE-STRUCTURED-LOCATION;VALUE=URI;X-ADDRESS=South Carolina United Methodist Center Upstairs Conference Room 4908 Colonial Drive Columbia SC United States;X-APPLE-RADIUS=500;X-TITLE=4908 Colonial Drive:geo:-81.0275544,34.045681
END:VEVENT
BEGIN:VEVENT
DTSTART;TZID=America/New_York:20200323T173000
DTEND;TZID=America/New_York:20200323T173000
DTSTAMP:20260422T171323
CREATED:20190826T151433Z
LAST-MODIFIED:20190826T151433Z
UID:10000735-1584984600-1584984600@www.umcsc.org
SUMMARY:Columbia District Congregational Development
DESCRIPTION:
URL:https://www.umcsc.org/event/columbia-district-congregational-development-3/2020-03-23/
LOCATION:SC United Methodist Conference Center\, Room 105\, 4908 Colonial Drive\, Columbia\, SC\, 29203\, United States
CATEGORIES:Conference
GEO:34.045681;-81.0275544
X-APPLE-STRUCTURED-LOCATION;VALUE=URI;X-ADDRESS=SC United Methodist Conference Center Room 105 4908 Colonial Drive Columbia SC 29203 United States;X-APPLE-RADIUS=500;X-TITLE=4908 Colonial Drive:geo:-81.0275544,34.045681
END:VEVENT
BEGIN:VEVENT
DTSTART;TZID=America/New_York:20200328T100000
DTEND;TZID=America/New_York:20200328T140000
DTSTAMP:20260422T171323
CREATED:20191008T191227Z
LAST-MODIFIED:20191008T191227Z
UID:10001201-1585389600-1585404000@www.umcsc.org
SUMMARY:Standing Rules Committee
DESCRIPTION:
URL:https://www.umcsc.org/event/standing-rules-committee-3/
LOCATION:SC United Methodist Conference Center\, Room 105\, 4908 Colonial Drive\, Columbia\, SC\, 29203\, United States
CATEGORIES:Conference
GEO:34.045681;-81.0275544
X-APPLE-STRUCTURED-LOCATION;VALUE=URI;X-ADDRESS=SC United Methodist Conference Center Room 105 4908 Colonial Drive Columbia SC 29203 United States;X-APPLE-RADIUS=500;X-TITLE=4908 Colonial Drive:geo:-81.0275544,34.045681
END:VEVENT
END:VCALENDAR