BEGIN:VCALENDAR
VERSION:2.0
PRODID:-//South Carolina UMC - ECPv6.15.20//NONSGML v1.0//EN
CALSCALE:GREGORIAN
METHOD:PUBLISH
X-ORIGINAL-URL:https://www.umcsc.org
X-WR-CALDESC:Events for South Carolina UMC
REFRESH-INTERVAL;VALUE=DURATION:PT1H
X-Robots-Tag:noindex
X-PUBLISHED-TTL:PT1H
BEGIN:VTIMEZONE
TZID:America/New_York
BEGIN:DAYLIGHT
TZOFFSETFROM:-0500
TZOFFSETTO:-0400
TZNAME:EDT
DTSTART:20200308T070000
END:DAYLIGHT
BEGIN:STANDARD
TZOFFSETFROM:-0400
TZOFFSETTO:-0500
TZNAME:EST
DTSTART:20201101T060000
END:STANDARD
BEGIN:DAYLIGHT
TZOFFSETFROM:-0500
TZOFFSETTO:-0400
TZNAME:EDT
DTSTART:20210314T070000
END:DAYLIGHT
BEGIN:STANDARD
TZOFFSETFROM:-0400
TZOFFSETTO:-0500
TZNAME:EST
DTSTART:20211107T060000
END:STANDARD
BEGIN:DAYLIGHT
TZOFFSETFROM:-0500
TZOFFSETTO:-0400
TZNAME:EDT
DTSTART:20220313T070000
END:DAYLIGHT
BEGIN:STANDARD
TZOFFSETFROM:-0400
TZOFFSETTO:-0500
TZNAME:EST
DTSTART:20221106T060000
END:STANDARD
END:VTIMEZONE
BEGIN:VEVENT
DTSTART;TZID=America/New_York:20211112T160000
DTEND;TZID=America/New_York:20211114T133000
DTSTAMP:20260419T193513
CREATED:20210809T203807Z
LAST-MODIFIED:20210809T203807Z
UID:10000721-1636732800-1636896600@www.umcsc.org
SUMMARY:Mountain Immerse - November 12-14\, 2021
DESCRIPTION:
URL:https://www.umcsc.org/event/mountain-immerse-november-12-14-2021/
LOCATION:Asbury Hills Camp and Retreat Center\, 150 Asbury Drive\, Cleveland\, SC\, 29635\, United States
GEO:35.07504;-82.6324385
X-APPLE-STRUCTURED-LOCATION;VALUE=URI;X-ADDRESS=Asbury Hills Camp and Retreat Center 150 Asbury Drive Cleveland SC 29635 United States;X-APPLE-RADIUS=500;X-TITLE=150 Asbury Drive:geo:-82.6324385,35.07504
END:VEVENT
END:VCALENDAR